BEGIN:VCALENDAR
VERSION:2.0
PRODID:-//Comic Quest - ECPv6.15.20//NONSGML v1.0//EN
CALSCALE:GREGORIAN
METHOD:PUBLISH
X-ORIGINAL-URL:https://comicquest.org
X-WR-CALDESC:Events for Comic Quest
REFRESH-INTERVAL;VALUE=DURATION:PT1H
X-Robots-Tag:noindex
X-PUBLISHED-TTL:PT1H
BEGIN:VTIMEZONE
TZID:UTC
BEGIN:STANDARD
TZOFFSETFROM:+0000
TZOFFSETTO:+0000
TZNAME:UTC
DTSTART:20250101T000000
END:STANDARD
END:VTIMEZONE
BEGIN:VEVENT
DTSTART;TZID=UTC:20260207T110000
DTEND;TZID=UTC:20260207T190000
DTSTAMP:20260423T141917
CREATED:20260106T225018Z
LAST-MODIFIED:20260207T001759Z
UID:10004206-1770462000-1770490800@comicquest.org
SUMMARY:D&D Learn to Play (and Other RPGS)
DESCRIPTION:SATURDAY February 7th\nD&D and other RPG’s = LEARN TO PLAY day.\n\nSignups have begun!\n\n\n\n\n*Limited space available. Sign-ups recommended. Sign up via the Comic Quest D&D Discord. Use the link below. Once in\, scroll down to the “Learn to Play Feb 7 overview” category. (Or “Start Here”). Each game has a time slot. Sign up in the specific channel for the game(s) and session(s) time you want. \nhttps://discord.gg/gp6ynfnHkC \nTHREE SESSION TIMES available (each game may have more than 1 session): \n\n11am to 1pm\n2pm to 4pm\n5pm to 7pm\n\nREAD about each game system and \nSIGNUP FOR GAMES in the specific signup channel for each game and time session you want. \n\n\nLIST of RPG GAMES: \nD&D 5e – https://www.dndbeyond.com/how-to-play-dnd\nIn D&D\, each player creates a character to represent them in the game. Everything is your decision\, from what you look like\, to what you say\, to how you act. Together\, we create an exciting story. \nPathfinder 2e is a fantasy tabletop roleplaying game where you tell heroic tales in a world of quests\, magic\, monsters\, and treasures. \nLancer is a mud-and-lasers sci-fi RPG focused on customizable\, modular mechs and the elite pilots who crew them. \nMonster of the Week Most people don’t believe monsters are real\, but you know better. Hunt monsters and save people in the modern day in this narrative game inspired by shows such as Supernatural and Buffy the Vampire Slayer \nBlades in the Dark is a tabletop role-playing game where players take on the roles of scoundrels building a criminal enterprise in a haunted industrial-fantasy city. The game focuses on heists\, chases\, and other nefarious ventures\, while also dealing with the consequences of their actions and the ever-present threat of rival gangs and the law. Content warning: While not evil\, the party will not be “the good guys” fighting monsters. If you are a parent bringing a child\, take this into consideration. \nKids on Brooms is a rules-light\, narrative-driven RPG where players act as witches and wizards attending a magical school. This system focuses on collaborative world-building\, allowing players to create their own unique magical settings\, wands\, and familiars while solving mysteries and facing fantastical creatures. \nNEW!! Alien Alien RPG is a fast paced horror -Sci-fi setting that puts a heavy emphasis on stress\, combat\, stealth and the lingering suspicion you can’t trust anyone
URL:https://comicquest.org/event/dd-learn-to-play-and-other-rpgs-5/
LOCATION:Comic Quest\, 23811 Bridger #111 CA 92630\, Lake Forest\, CA\, 92630\, United States
CATEGORIES:D&D,Event
ATTACH;FMTTYPE=image/jpeg:https://comicquest.org/wp-content/uploads/2023/03/DND_LEARN_TO_PLAY.jpg
END:VEVENT
END:VCALENDAR