BEGIN:VCALENDAR
VERSION:2.0
PRODID:-//Comic Quest - ECPv6.15.20//NONSGML v1.0//EN
CALSCALE:GREGORIAN
METHOD:PUBLISH
X-ORIGINAL-URL:https://comicquest.org
X-WR-CALDESC:Events for Comic Quest
REFRESH-INTERVAL;VALUE=DURATION:PT1H
X-Robots-Tag:noindex
X-PUBLISHED-TTL:PT1H
BEGIN:VTIMEZONE
TZID:Asia/Shanghai
BEGIN:STANDARD
TZOFFSETFROM:+0800
TZOFFSETTO:+0800
TZNAME:CST
DTSTART:20230101T000000
END:STANDARD
END:VTIMEZONE
BEGIN:VEVENT
DTSTART;TZID=Asia/Shanghai:20240803T110000
DTEND;TZID=Asia/Shanghai:20240803T140000
DTSTAMP:20260424T165018
CREATED:20240729T224906Z
LAST-MODIFIED:20240729T224906Z
UID:10000973-1722682800-1722693600@comicquest.org
SUMMARY:Board Game Demo - Forest Shuffle
DESCRIPTION:FREE Board Game Demo: Forest Shuffle \nSaturday Aug 3. 11am – 2pm \nComic Quest is providing FREE demos of a fun board game. Learn in a couple of minutes\, it might be your next favorite game. \nAlso\, a discount on the game! \nIn Forest Shuffle\, players compete to gather the most valuable trees\, then attract species to these trees\, thus creating an ecologically balanced habitat for flora and fauna. \nTo start\, each player has six cards in hand\, with cards depicting either a particular type of tree or two forest dwellers (animal\, plant\, mushroom\, etc.)\, with these latter cards being divided in half\, whether vertically or horizontally\, with one dweller in each card half.
URL:https://comicquest.org/event/board-game-demo-forest-shuffle/
LOCATION:Comic Quest\, 23811 Bridger #111 CA 92630\, Lake Forest\, CA\, 92630\, United States
CATEGORIES:Demo,Event
ATTACH;FMTTYPE=image/png:https://comicquest.org/wp-content/uploads/2024/07/forest-shuffle.png
END:VEVENT
BEGIN:VEVENT
DTSTART;TZID=Asia/Shanghai:20240810T110000
DTEND;TZID=Asia/Shanghai:20240810T140000
DTSTAMP:20260424T165018
CREATED:20240805T024244Z
LAST-MODIFIED:20240805T024244Z
UID:10000984-1723287600-1723298400@comicquest.org
SUMMARY:Board Game Demo - Spots
DESCRIPTION:FREE Board Game Demo: Spots \nSaturday Aug 10. 11am – 2pm \nComic Quest is providing FREE demos of a fun board game. Learn in a couple of minutes\, it might be your next favorite game. \nAlso\, a discount on the game! \nSpots is a casual push your luck game. On your turn\, you’ll be rolling and placing dice onto dog cards. Dice you can’t place get buried in your yard. Bury too many dice and you bust. Complete 6 dogs and you win!
URL:https://comicquest.org/event/board-game-demo-spots/
LOCATION:Comic Quest\, 23811 Bridger #111 CA 92630\, Lake Forest\, CA\, 92630\, United States
CATEGORIES:Demo,Event
ATTACH;FMTTYPE=image/png:https://comicquest.org/wp-content/uploads/2024/08/spots-banner.png
END:VEVENT
BEGIN:VEVENT
DTSTART;TZID=Asia/Shanghai:20240817T110000
DTEND;TZID=Asia/Shanghai:20240817T140000
DTSTAMP:20260424T165018
CREATED:20240812T211409Z
LAST-MODIFIED:20240812T211409Z
UID:10000987-1723892400-1723903200@comicquest.org
SUMMARY:Board Game Demo - Knarr
DESCRIPTION:FREE Board Game Demo: Knarr \nSaturday Aug 17. 11am – 2pm \nComic Quest is providing FREE demos of a fun board game. Learn in a couple of minutes\, it might be your next favorite game. \nAlso\, a discount on the game! \n  \nIn Knarr\, you are the leader of a band of Vikings. Manage the recruitment of your crew and choose the best territories to explore. Depending on the destinations reached (for trading or influence)\, and the Vikings who accompany you\, you can increase your reputation to gain even more wealth. \nEach turn\, you:\n– Place a new member in your Viking crew\, or explore new destinations\, with the opportunity to trade with those places and get more gains or reputation.
URL:https://comicquest.org/event/board-game-demo-knarr/
LOCATION:Comic Quest\, 23811 Bridger #111 CA 92630\, Lake Forest\, CA\, 92630\, United States
CATEGORIES:Demo,Event
ATTACH;FMTTYPE=image/png:https://comicquest.org/wp-content/uploads/2024/08/knarr-banner.png
END:VEVENT
BEGIN:VEVENT
DTSTART;TZID=Asia/Shanghai:20240824T110000
DTEND;TZID=Asia/Shanghai:20240824T140000
DTSTAMP:20260424T165018
CREATED:20240819T210827Z
LAST-MODIFIED:20240819T210827Z
UID:10000993-1724497200-1724508000@comicquest.org
SUMMARY:Board Game Demo - Point City
DESCRIPTION:FREE Board Game Demo: Point City \nSaturday Aug 24. 11am – 2pm \nComic Quest is providing FREE demos of a fun board game. Learn in a couple of minutes\, it might be your next favorite game. \nAlso\, a discount on the game! \n  \nPoint City is a card-drafting\, engine-building game with more than 150 unique building cards\, giving you the opportunity to create a completely different city each time you play! \nThe rules are simple: Take two adjacent cards from the dynamic city grid and add them to your expanding city. Use your resource cards and bonuses to construct building cards that require specific combinations. Build special civic structures to multiply your city’s points and be the top urban planner! \nPoint City takes the same simple concept of drafting cards and building the best combinations\, then adds new layers of resource management and engine building to the mix — making the game easy to learn\, but challenging for everyone!
URL:https://comicquest.org/event/board-game-demo-point-city/
LOCATION:Comic Quest\, 23811 Bridger #111 CA 92630\, Lake Forest\, CA\, 92630\, United States
CATEGORIES:Demo,Event
ATTACH;FMTTYPE=image/png:https://comicquest.org/wp-content/uploads/2024/08/POINT-CITY-BANNER.png
END:VEVENT
BEGIN:VEVENT
DTSTART;TZID=Asia/Shanghai:20240831T110000
DTEND;TZID=Asia/Shanghai:20240831T140000
DTSTAMP:20260424T165018
CREATED:20240825T171041Z
LAST-MODIFIED:20240825T171041Z
UID:10001059-1725102000-1725112800@comicquest.org
SUMMARY:Board Game Demo - Ramen Fury
DESCRIPTION:FREE Board Game Demo: Ramen Fury \n  \nSaturday Aug 31. 11am – 2pm \nComic Quest is providing FREE demos of a fun board game. Learn in a couple of minutes\, it might be your next favorite game. \nAlso\, a discount on the game! \n  \nRush to prepare and slurp up delicious bowls of ramen filled with tasty ingredients in the use-your-noodle card game Ramen Fury. Collect combos of cards to score for different recipes while adding garnishes to boost your points. At the same time\, watch out as other players throw spicy chili peppers your way or swipe foods right from your bowls! It’s “take that” fun that will have you calling for takeout!
URL:https://comicquest.org/event/board-game-demo-ramen-fury/
LOCATION:Comic Quest\, 23811 Bridger #111 CA 92630\, Lake Forest\, CA\, 92630\, United States
CATEGORIES:Demo,Event
ATTACH;FMTTYPE=image/png:https://comicquest.org/wp-content/uploads/2024/08/ramen-fury-banner.png
END:VEVENT
END:VCALENDAR