BEGIN:VCALENDAR
VERSION:2.0
PRODID:-//Comic Quest - ECPv6.15.20//NONSGML v1.0//EN
CALSCALE:GREGORIAN
METHOD:PUBLISH
X-ORIGINAL-URL:https://comicquest.org
X-WR-CALDESC:Events for Comic Quest
REFRESH-INTERVAL;VALUE=DURATION:PT1H
X-Robots-Tag:noindex
X-PUBLISHED-TTL:PT1H
BEGIN:VTIMEZONE
TZID:Asia/Shanghai
BEGIN:STANDARD
TZOFFSETFROM:+0800
TZOFFSETTO:+0800
TZNAME:CST
DTSTART:20230101T000000
END:STANDARD
END:VTIMEZONE
BEGIN:VEVENT
DTSTART;TZID=Asia/Shanghai:20241102T110000
DTEND;TZID=Asia/Shanghai:20241102T140000
DTSTAMP:20260424T101212
CREATED:20241029T214707Z
LAST-MODIFIED:20241029T214707Z
UID:10001225-1730545200-1730556000@comicquest.org
SUMMARY:Board Game Demo - Cabanga!
DESCRIPTION:FREE Board Game Demo: Cababga! \n  \nSaturday Nov 2. 11am – 2pm \nComic Quest is providing FREE demos of a fun board game. Learn in a couple of minutes\, it might be your next favorite game. \nAlso\, a discount on the game! \n  \nWhere is your mind? \nIn Cabanga!\, players try to get rid of their hand of cards as quickly as possible — but ideally without picking up penalties along the way. \nAfter the row cards and starting cards in all four colors have been placed in the middle of the table and players each have a hand of eight cards\, the round begins. Players then take turns placing one card next to the matching row card in the middle\, ideally with as small a difference as possible because the larger the number gap\, the greater the chance that the other players will call out “Cabanga!” and throw cards with the values between the two number cards to the active player. These thrown-in cards are placed on the discard pile\, then the active player must draw the same number of cards from the penalty pile. \nWhen a player has no more cards in hand\, the round ends and all players count the points on their cards. As soon as a player has collected 18 points\, the game ends and the player with the fewest points wins!
URL:https://comicquest.org/event/board-game-demo-cabanga/
LOCATION:Comic Quest\, 23811 Bridger #111 CA 92630\, Lake Forest\, CA\, 92630\, United States
CATEGORIES:Demo,Event
ATTACH;FMTTYPE=image/png:https://comicquest.org/wp-content/uploads/2024/10/cabanga_banner.png
END:VEVENT
BEGIN:VEVENT
DTSTART;TZID=Asia/Shanghai:20241109T110000
DTEND;TZID=Asia/Shanghai:20241109T140000
DTSTAMP:20260424T101212
CREATED:20241103T210416Z
LAST-MODIFIED:20241103T210416Z
UID:10001241-1731150000-1731160800@comicquest.org
SUMMARY:Board Game Demo - Parachute Panda
DESCRIPTION:FREE Board Game Demo: Parachute Panda \n  \nSaturday Nov 9. 11am – 2pm \nComic Quest is providing FREE demos of a fun board game. Learn in a couple of minutes\, it might be your next favorite game. \nAlso\, a discount on the game! \n  \nParachute Panda is a fun and fast tactical game of out-maneuvering your fellow Pandas in a race to not get to the bottom first! Use balloons\, leaf blowers\, falling pianos and more to keep your fluffy Panda aloft while sending you opponents crashing to their doom! \nWhere is your mind? \nIn Cabanga!\, players try to get rid of their hand of cards as quickly as possible — but ideally without picking up penalties along the way. \nAfter the row cards and starting cards in all four colors have been placed in the middle of the table and players each have a hand of eight cards\, the round begins. Players then take turns placing one card next to the matching row card in the middle\, ideally with as small a difference as possible because the larger the number gap\, the greater the chance that the other players will call out “Cabanga!” and throw cards with the values between the two number cards to the active player. These thrown-in cards are placed on the discard pile\, then the active player must draw the same number of cards from the penalty pile. \nWhen a player has no more cards in hand\, the round ends and all players count the points on their cards. As soon as a player has collected 18 points\, the game ends and the player with the fewest points wins!
URL:https://comicquest.org/event/board-game-demo-parachute-panda/
LOCATION:Comic Quest\, 23811 Bridger #111 CA 92630\, Lake Forest\, CA\, 92630\, United States
CATEGORIES:Demo,Event
ATTACH;FMTTYPE=image/png:https://comicquest.org/wp-content/uploads/2024/11/par-panda-banner.png
END:VEVENT
BEGIN:VEVENT
DTSTART;TZID=Asia/Shanghai:20241116T110000
DTEND;TZID=Asia/Shanghai:20241116T140000
DTSTAMP:20260424T101212
CREATED:20241110T213112Z
LAST-MODIFIED:20241110T213112Z
UID:10001245-1731754800-1731765600@comicquest.org
SUMMARY:Board Game Demo - Flip 7
DESCRIPTION:FREE Board Game Demo: Flip 7 \n  \nSaturday Nov 16. 11am – 2pm \nComic Quest is providing FREE demos of a fun board game. Learn in a couple of minutes\, it might be your next favorite game. \nAlso\, a discount on the game! \nFlip over cards one by one without flipping the same number twice. \nSound easy? Think again! This isn’t just any deck of cards… In Flip 7 there’s only one 1 card\, two 2’s\, three 3’s\, etc plus a bunch of special cards that can score you extra points\, give you a second chance\, or freeze you or your opponents in your tracks. \nAre you the type of player to play it safe and bank points before you bust\, or are you going to risk it all and go for the bonus points by flipping over seven in a row? Press your luck meets strategy in this addictive card game that’s sure to be the greatest card game you’ve ever played!
URL:https://comicquest.org/event/board-game-demo-flip-7/
LOCATION:Comic Quest\, 23811 Bridger #111 CA 92630\, Lake Forest\, CA\, 92630\, United States
CATEGORIES:Demo,Event
ATTACH;FMTTYPE=image/png:https://comicquest.org/wp-content/uploads/2024/11/Flip-7-banner.png
END:VEVENT
BEGIN:VEVENT
DTSTART;TZID=Asia/Shanghai:20241123T110000
DTEND;TZID=Asia/Shanghai:20241123T140000
DTSTAMP:20260424T101212
CREATED:20241117T214457Z
LAST-MODIFIED:20241117T214541Z
UID:10001349-1732359600-1732370400@comicquest.org
SUMMARY:Board Game Demo - Star Trek Star Realms
DESCRIPTION:FREE Board Game Demo: Star Trek Star Realms \nSaturday Nov 23. 11am – 2pm \nComic Quest is providing FREE demos of a fun board game. Learn in a couple of minutes\, it might be your next favorite game. \nAlso\, a discount on the game! \n  \nSTAR TREK: Star Realms is a complete star ship combat deck-building game for 2-4 players. Build your fleet! Romulan\, Klingon\, Dominion\, and Federation ships are yours to command. Play head-to-head or up to four players in multiplayer modes that offer versus and cooperative experiences. STAR TREK: Star Realms is fully compatible with other Star Realms® products. \nIn STAR TREK: Star Realms\, you start with a Personal Deck of cards representing your armada. On your turn you will play cards from your hand to gain Trade\, Combat\, Authority\, and other effects. \nTrade is used to buy ship and Location cards. \nCombat is used to attack your opponent and their Locations. \nAuthority is your score. \nThe first player to reduce their opponent’s Authority to zero wins the game!
URL:https://comicquest.org/event/board-game-demo-flip-7-edit-date-before-publish/
LOCATION:Comic Quest\, 23811 Bridger #111 CA 92630\, Lake Forest\, CA\, 92630\, United States
CATEGORIES:Demo,Event
ATTACH;FMTTYPE=image/png:https://comicquest.org/wp-content/uploads/2024/11/star-trek-banner.png
END:VEVENT
END:VCALENDAR