BEGIN:VCALENDAR
VERSION:2.0
PRODID:-//Comic Quest - ECPv6.15.20//NONSGML v1.0//EN
CALSCALE:GREGORIAN
METHOD:PUBLISH
X-ORIGINAL-URL:https://comicquest.org
X-WR-CALDESC:Events for Comic Quest
REFRESH-INTERVAL;VALUE=DURATION:PT1H
X-Robots-Tag:noindex
X-PUBLISHED-TTL:PT1H
BEGIN:VTIMEZONE
TZID:Asia/Shanghai
BEGIN:STANDARD
TZOFFSETFROM:+0800
TZOFFSETTO:+0800
TZNAME:CST
DTSTART:20240101T000000
END:STANDARD
END:VTIMEZONE
BEGIN:VEVENT
DTSTART;TZID=Asia/Shanghai:20250201T110000
DTEND;TZID=Asia/Shanghai:20250201T140000
DTSTAMP:20260424T055622
CREATED:20250126T234310Z
LAST-MODIFIED:20250126T234310Z
UID:10001463-1738407600-1738418400@comicquest.org
SUMMARY:Board Game Demo - Taco Cat Goat Cheese Pizza Valentines Day
DESCRIPTION:FREE Board Game Demo: Taco Cat Goat Cheese Pizza Valentines Edition \nSaturday Feb 1 11am – 2pm \nComic Quest is providing FREE demos of a fun board game. Learn in a couple of minutes\, it might be your next favorite game. \nAlso\, a discount on the game! \n  \nTaco Cat Goat Cheese Pizza is filled to the brim with hand-slapping mayhem! As in Snap and Dobble\, each player places a card from their hand face up into a community pile while saying taco/cat/goat/cheese/pizza in player sequence. When the card matches the mantra — boom! — everyone slaps their hand on the deck\, with the last one to slap picking up the cards. Whoever rids themselves of cards first wins!
URL:https://comicquest.org/event/board-game-demo-taco-cat-goat-cheese-pizza-valentines-day/
LOCATION:Comic Quest\, 23811 Bridger #111 CA 92630\, Lake Forest\, CA\, 92630\, United States
CATEGORIES:Demo,Event
ATTACH;FMTTYPE=image/png:https://comicquest.org/wp-content/uploads/2025/01/taco-cat-long-1.png
END:VEVENT
BEGIN:VEVENT
DTSTART;TZID=Asia/Shanghai:20250208T110000
DTEND;TZID=Asia/Shanghai:20250208T140000
DTSTAMP:20260424T055622
CREATED:20250202T001423Z
LAST-MODIFIED:20250202T001438Z
UID:10001468-1739012400-1739023200@comicquest.org
SUMMARY:Board Game Demo - Lacuna
DESCRIPTION:FREE Board Game Demo: Lacuna \n  \nSaturday Feb 8 11am – 2pm \nComic Quest is providing FREE demos of a fun board game. Learn in a couple of minutes\, it might be your next favorite game. \nAlso\, a discount on the game! \n  \nLacuna is a game for 2 players about collecting flowers on a pond at night. It takes seconds to set up and plays entirely on a cloth mat. \nThe rules are simple: draw an imaginary line between 2 flowers\, place a pawn\, and collect both flowers.
URL:https://comicquest.org/event/board-game-demo-taco-cat-goat-cheese-pizza-valentines-day-edit-date-before-publish/
LOCATION:Comic Quest\, 23811 Bridger #111 CA 92630\, Lake Forest\, CA\, 92630\, United States
CATEGORIES:Demo,Event
ATTACH;FMTTYPE=image/png:https://comicquest.org/wp-content/uploads/2025/02/lacuna-banner.png
END:VEVENT
BEGIN:VEVENT
DTSTART;TZID=Asia/Shanghai:20250215T110000
DTEND;TZID=Asia/Shanghai:20250215T140000
DTSTAMP:20260424T055622
CREATED:20250209T213814Z
LAST-MODIFIED:20250209T213814Z
UID:10001474-1739617200-1739628000@comicquest.org
SUMMARY:Board Game Demo - Monikers
DESCRIPTION:FREE Board Game Demo: Monikers \nSaturday Feb 15 11am – 2pm \nComic Quest is providing FREE demos of a fun board game. Learn in a couple of minutes\, it might be your next favorite game. \nAlso\, a discount on the game! \n  \nA party game in 3 phases. At the start of the game\, you will receive a set of cards featuring names of famous and historical people. Your goal is to get your team to guess as many names as possible in the allotted time. Round 1\, say anything about the person\, just don’t say their name. Round 2\,
URL:https://comicquest.org/event/board-game-demo-monikers/
LOCATION:Comic Quest\, 23811 Bridger #111 CA 92630\, Lake Forest\, CA\, 92630\, United States
CATEGORIES:Demo,Event
ATTACH;FMTTYPE=image/png:https://comicquest.org/wp-content/uploads/2025/02/monikers-banner.png
END:VEVENT
BEGIN:VEVENT
DTSTART;TZID=Asia/Shanghai:20250222T110000
DTEND;TZID=Asia/Shanghai:20250222T140000
DTSTAMP:20260424T055622
CREATED:20250218T005102Z
LAST-MODIFIED:20250218T005102Z
UID:10001481-1740222000-1740232800@comicquest.org
SUMMARY:Board Game Demo - We Love Cats
DESCRIPTION:FREE Board Game Demo: We Love Cats \nSaturday Feb 22 11am – 2pm \nComic Quest is providing FREE demos of a fun board game. Learn in a couple of minutes\, it might be your next favorite game. \nAlso\, a discount on the game! \n  \n\nA quick and silly game to play between other games\, or while waiting for . . . whatever you’re waiting for!\nAdopt as many cats as you can in minutes with 30 cat tokens and special dice in this delightful game.\nQuick\, fun\, and replayable – adopt more cats with 2-5 players for purr-fect enjoyment!
URL:https://comicquest.org/event/board-game-demo-we-love-cats/
LOCATION:Comic Quest\, 23811 Bridger #111 CA 92630\, Lake Forest\, CA\, 92630\, United States
CATEGORIES:Demo,Event
ATTACH;FMTTYPE=image/png:https://comicquest.org/wp-content/uploads/2025/02/banner-we-love-cats.png
END:VEVENT
END:VCALENDAR