BEGIN:VCALENDAR
VERSION:2.0
PRODID:-//Comic Quest - ECPv6.15.20//NONSGML v1.0//EN
CALSCALE:GREGORIAN
METHOD:PUBLISH
X-WR-CALNAME:Comic Quest
X-ORIGINAL-URL:https://comicquest.org
X-WR-CALDESC:Events for Comic Quest
REFRESH-INTERVAL;VALUE=DURATION:PT1H
X-Robots-Tag:noindex
X-PUBLISHED-TTL:PT1H
BEGIN:VTIMEZONE
TZID:Asia/Shanghai
BEGIN:STANDARD
TZOFFSETFROM:+0800
TZOFFSETTO:+0800
TZNAME:CST
DTSTART:20240101T000000
END:STANDARD
END:VTIMEZONE
BEGIN:VEVENT
DTSTART;TZID=Asia/Shanghai:20250301T110000
DTEND;TZID=Asia/Shanghai:20250301T140000
DTSTAMP:20260424T021212
CREATED:20250225T015541Z
LAST-MODIFIED:20250302T203410Z
UID:10001485-1740826800-1740837600@comicquest.org
SUMMARY:Board Game Demo - Tea Dragon Society
DESCRIPTION:FREE Board Game Demo: Tea Dragon Society \n  \nSaturday Mar 1 11am – 2pm \nComic Quest is providing FREE demos of a fun board game. Learn in a couple of minutes\, it might be your next favorite game. \nAlso\, a discount on the game! \n  \nDiscover the ancient art form of Tea Dragon care-taking within The Tea Dragon Society Card Game\, based on the graphic novel The Tea Dragon Society. Create a bond between yourself and your Tea Dragon that grows as you progress through the seasons\, creating memories to share forever. \nEach player’s deck represents their own Tea Dragon. From turn to turn\, players choose to draw a card — triggering effects and strengthening their position — or buy a card\, improving their deck or scoring points. The game takes place over four seasons\, starting in spring and ending in winter. At the end of winter\, the player who has the most points wins.
URL:https://comicquest.org/event/board-game-demo-tea-dragon-society/
LOCATION:Comic Quest\, 23811 Bridger #111 CA 92630\, Lake Forest\, CA\, 92630\, United States
CATEGORIES:Demo,Event
ATTACH;FMTTYPE=image/png:https://comicquest.org/wp-content/uploads/2025/02/demo-tea-dragon-socieity-banner.png
END:VEVENT
BEGIN:VEVENT
DTSTART;TZID=Asia/Shanghai:20250308T110000
DTEND;TZID=Asia/Shanghai:20250308T140000
DTSTAMP:20260424T021212
CREATED:20250302T203345Z
LAST-MODIFIED:20250303T230147Z
UID:10001491-1741431600-1741442400@comicquest.org
SUMMARY:Board Game Demo - Rainbow
DESCRIPTION:FREE Board Game Demo: Rainbows \nSaturday Mar 8 11am – 2pm \nComic Quest is providing FREE demos of a fun board game. Learn in a couple of minutes\, it might be your next favorite game. \nAlso\, a discount on the game! \nRainbow is a quick-playing hand management game where players play solo cards\, sets\, or runs to win points on cards in the center of the table. \nThe cards that were played in the previous round are the NEW points available to win in the next round. Most points at the end of the game wins! \n\nA clever balance between bidding and diminished hand strength to win future bids.\nStunning card art that creates a 1-6 rainbow panorama.\nPlay length and footprint of a microgame filler but depth and strategy of an in depth strategy card game.\nEasy to learn yet difficult to master makes this a puzzle that will keep you coming back play after play.
URL:https://comicquest.org/event/board-game-demo-rainbow/
LOCATION:Comic Quest\, 23811 Bridger #111 CA 92630\, Lake Forest\, CA\, 92630\, United States
CATEGORIES:Demo,Event
ATTACH;FMTTYPE=image/png:https://comicquest.org/wp-content/uploads/2025/03/demo-rainbow-banner.png
END:VEVENT
BEGIN:VEVENT
DTSTART;TZID=Asia/Shanghai:20250322T110000
DTEND;TZID=Asia/Shanghai:20250322T140000
DTSTAMP:20260424T021212
CREATED:20250320T034019Z
LAST-MODIFIED:20250320T034019Z
UID:10001500-1742641200-1742652000@comicquest.org
SUMMARY:Board Game Demo - Tiny Laser Heist
DESCRIPTION:FREE Board Game Demo: Tiny Laser Heist \n  \nSaturday Mar 22 Noon  – 3pm \nComic Quest is providing FREE demos of a fun board game. Learn in a couple of minutes\, it might be your next favorite game. \nPlus\, a discount on the game all day! \n  \nA high stakes\, 3D heist game! \nEveryone at the table is a career criminal eyeing retirement. Whether you’re the mastermind or hired hand\, you want to get involved in as many jobs as possible and make as much money as you can. Walk away from a series of jewel heists as the winner with the most money by cooperating with other burglars to break into a vault. Work together to physically move “padlocks” using tiny hands and steal the jewels they’re protecting. The harder the heist\, the bigger the payout – whoever ends up with the most money wins. \nDuring each turn of Tiny Laser Heist\, a player becomes the Mastermind and selects his team. Players not selected now play against the team to stop the heist. Both teams play action cards to determine the teams abilities and obstacles the team must face during the heist. The team then has 90 seconds to steal the jewels. If the you do\, the Mastermind picks up and distributes money cards to his team members. Play continues until all the money is gone.
URL:https://comicquest.org/event/board-game-demo-tiny-laser-heist/
LOCATION:Comic Quest\, 23811 Bridger #111 CA 92630\, Lake Forest\, CA\, 92630\, United States
CATEGORIES:Demo,Event
ATTACH;FMTTYPE=image/png:https://comicquest.org/wp-content/uploads/2025/03/tiny-laser-heist-banner.png
END:VEVENT
END:VCALENDAR