BEGIN:VCALENDAR
VERSION:2.0
PRODID:-//Comic Quest - ECPv6.15.20//NONSGML v1.0//EN
CALSCALE:GREGORIAN
METHOD:PUBLISH
X-WR-CALNAME:Comic Quest
X-ORIGINAL-URL:https://comicquest.org
X-WR-CALDESC:Events for Comic Quest
REFRESH-INTERVAL;VALUE=DURATION:PT1H
X-Robots-Tag:noindex
X-PUBLISHED-TTL:PT1H
BEGIN:VTIMEZONE
TZID:Asia/Shanghai
BEGIN:STANDARD
TZOFFSETFROM:+0800
TZOFFSETTO:+0800
TZNAME:CST
DTSTART:20240101T000000
END:STANDARD
END:VTIMEZONE
BEGIN:VEVENT
DTSTART;TZID=Asia/Shanghai:20250607T120000
DTEND;TZID=Asia/Shanghai:20250607T150000
DTSTAMP:20260423T232438
CREATED:20250602T170947Z
LAST-MODIFIED:20250602T171120Z
UID:10001537-1749297600-1749308400@comicquest.org
SUMMARY:Board Game Demo - Skull
DESCRIPTION:FREE Board Game Demo: Skull \nSaturday Jun 7 Noon  – 3pm \nComic Quest is providing FREE demos of a fun board game. Learn in a couple of minutes\, it might be your next favorite game. \nPlus\, a discount on the game all day! \nAn ancient game of ornate skulls and dangerous roses\, Skull is simple to learn but dangerously difficult to win. You must bluff\, lie and pierce through the deceptions to expose the roses. Be wary\, though – if you happen across a skull\, the consequences are dire! Players will hold three rose cards and one skull. Add a card to the pile in front of you and when you feel lucky\, announce your challenge and declare how many cards you will flip. Cards that show a rose are safe\, but if you expose your opponent’s hidden skull\, you lose one of your own cards. Keep your cards to the bitter end to win this clever game of deception and perception!
URL:https://comicquest.org/event/board-game-demo-skull-2/
LOCATION:Comic Quest\, 23811 Bridger #111 CA 92630\, Lake Forest\, CA\, 92630\, United States
CATEGORIES:Demo,Event
ATTACH;FMTTYPE=image/png:https://comicquest.org/wp-content/uploads/2025/06/demo-skull-banner.png
END:VEVENT
BEGIN:VEVENT
DTSTART;TZID=Asia/Shanghai:20250614T120000
DTEND;TZID=Asia/Shanghai:20250614T150000
DTSTAMP:20260423T232438
CREATED:20250608T012453Z
LAST-MODIFIED:20250608T012453Z
UID:10001540-1749902400-1749913200@comicquest.org
SUMMARY:Board Game Demo - Magic The Gathering
DESCRIPTION:FREE Board Game Demo: Magic The Gathering \n  \nSaturday Jun 14 Noon  – 3pm \nComic Quest is providing FREE demos of a fun board game. Learn in a couple of minutes\, it might be your next favorite game. \nFREE Welcome Deck (while supplies last) \n  \nLearn-to-Play Magic. Or get a refresher. Brush up on the best practices of deck building. Free Welcome Decks to take home! \nMagic: The Gathering is a trading card game where players battle each other using decks of cards\, summoning creatures and casting spells to eliminate their opponent’s life points. The game involves drawing cards\, playing lands to generate mana\, and using mana to cast spells and attack the opponent.
URL:https://comicquest.org/event/board-game-demo-magic-the-gathering/
LOCATION:Comic Quest\, 23811 Bridger #111 CA 92630\, Lake Forest\, CA\, 92630\, United States
CATEGORIES:Demo,Event
ATTACH;FMTTYPE=image/png:https://comicquest.org/wp-content/uploads/2025/06/magic-banner.png
END:VEVENT
BEGIN:VEVENT
DTSTART;TZID=Asia/Shanghai:20250621T120000
DTEND;TZID=Asia/Shanghai:20250621T150000
DTSTAMP:20260423T232438
CREATED:20250615T010032Z
LAST-MODIFIED:20250621T015310Z
UID:10001549-1750507200-1750518000@comicquest.org
SUMMARY:Board Game Demo - Star Wars Unlimited
DESCRIPTION:FREE Board Game Demo: Star Wars Unlimited \nSaturday Jun 21 Noon – 3pm \nComic Quest is providing a FREE demos of Star Wars Unlimited Card Game. Learn in a couple of minutes\, it might be your next favorite game. \n\nPlus\, a discount on the starter decks all day!\nPlus\, 4 Free Booster Packs! (2 Jump to Lightspeed & 2 Twilight of the Republic).\n\nStar Wars: Unlimited is a trading card game set in the Star Wars universe\, designed for two-player competitive play. Players build decks using cards featuring characters\, ships\, and events from across the Star Wars galaxy. The game emphasizes strategic deck building and tactical decision-making\, with a focus on player interaction and engaging gameplay. \n\n 
URL:https://comicquest.org/event/board-game-demo-star-wars-unlimited/
LOCATION:Comic Quest\, 23811 Bridger #111 CA 92630\, Lake Forest\, CA\, 92630\, United States
CATEGORIES:Demo,Event
ATTACH;FMTTYPE=image/png:https://comicquest.org/wp-content/uploads/2025/06/star-wars-unl-banner.png
END:VEVENT
BEGIN:VEVENT
DTSTART;TZID=Asia/Shanghai:20250628T120000
DTEND;TZID=Asia/Shanghai:20250628T150000
DTSTAMP:20260423T232438
CREATED:20250623T013601Z
LAST-MODIFIED:20250623T013601Z
UID:10001556-1751112000-1751122800@comicquest.org
SUMMARY:Board Game Demo - Star Wars Unlimited
DESCRIPTION:FREE Board Game Demo: Star Wars Unlimited \nSaturday Jun 28 Noon – 3pm \nComic Quest is providing a FREE demos of Star Wars Unlimited Card Game. Learn in a couple of minutes\, it might be your next favorite game. \n\nPlus\, a discount on the starter decks all day!\nPlus\, 4 Free Booster Packs! (2 Jump to Lightspeed & 2 Twilight of the Republic).\n\nStar Wars: Unlimited is a trading card game set in the Star Wars universe\, designed for two-player competitive play. Players build decks using cards featuring characters\, ships\, and events from across the Star Wars galaxy. The game emphasizes strategic deck building and tactical decision-making\, with a focus on player interaction and engaging gameplay. \n\n 
URL:https://comicquest.org/event/board-game-demo-star-wars-unlimited-2/
LOCATION:Comic Quest\, 23811 Bridger #111 CA 92630\, Lake Forest\, CA\, 92630\, United States
CATEGORIES:Demo,Event
ATTACH;FMTTYPE=image/png:https://comicquest.org/wp-content/uploads/2025/06/star-wars-unl-banner.png
END:VEVENT
END:VCALENDAR