BEGIN:VCALENDAR
VERSION:2.0
PRODID:-//Comic Quest - ECPv6.15.20//NONSGML v1.0//EN
CALSCALE:GREGORIAN
METHOD:PUBLISH
X-ORIGINAL-URL:https://comicquest.org
X-WR-CALDESC:Events for Comic Quest
REFRESH-INTERVAL;VALUE=DURATION:PT1H
X-Robots-Tag:noindex
X-PUBLISHED-TTL:PT1H
BEGIN:VTIMEZONE
TZID:Asia/Shanghai
BEGIN:STANDARD
TZOFFSETFROM:+0800
TZOFFSETTO:+0800
TZNAME:CST
DTSTART:20240101T000000
END:STANDARD
END:VTIMEZONE
BEGIN:VEVENT
DTSTART;TZID=Asia/Shanghai:20251206T120000
DTEND;TZID=Asia/Shanghai:20251206T150000
DTSTAMP:20260423T141432
CREATED:20251201T050928Z
LAST-MODIFIED:20251201T050928Z
UID:10003783-1765022400-1765033200@comicquest.org
SUMMARY:Board Game Demo - Boop The Halls!
DESCRIPTION:FREE Board Game Demo: Boop The Halls \nSaturday Dec 6 Noon  – 3pm \nComic Quest is providing FREE demos of a fun board game. Learn in a couple of minutes\, it might be your next favorite game. \nPlus\, a discount on the game all day! \nA deceptively cute\, deceivingly challenging abstract strategy game for two players. \nThe Mensa award winning\, Game of the Year\, boop\, is back with a new Holiday edition and has really leveled up game play (literally!!). \nThe hoomans are hanging ornaments on the highest boughs of the tree\, but those clever cats are leaping up and boopin’ them right off. You can win “Naughty” by knocking off 3 of your opponent’s ornaments or “Nice” by lining up three cats in a row! \nThe 4-tiered game board ‘tree’ presents a surprisingly mind-bending 3D challenge for players. And the alternate win condition of knocking off 3 of your opponent’s ornaments creates new strategic problems to solve\, elevating the play experience to a new high!
URL:https://comicquest.org/event/board-game-demo-boop-the-halls-2/
LOCATION:Comic Quest\, 23811 Bridger #111 CA 92630\, Lake Forest\, CA\, 92630\, United States
CATEGORIES:Demo,Event
ATTACH;FMTTYPE=image/png:https://comicquest.org/wp-content/uploads/2025/11/Boop-the-halls-banner-dec-2025.png
END:VEVENT
BEGIN:VEVENT
DTSTART;TZID=Asia/Shanghai:20251213T120000
DTEND;TZID=Asia/Shanghai:20251213T150000
DTSTAMP:20260423T141432
CREATED:20251207T003102Z
LAST-MODIFIED:20251207T003102Z
UID:10003791-1765627200-1765638000@comicquest.org
SUMMARY:Board Game Demo - Magic The Gathering
DESCRIPTION:FREE Card Game Demo: Magic The Gathering \n  \nSaturday Dec 13 Noon  – 3pm \nComic Quest is providing FREE demos of a fun board game. Learn in a couple of minutes\, it might be your next favorite game. \nPlus\, FREE Welcome Deck\, and FREE Promotional card with any Magic purchase. \n  \nMagic: The Gathering is a collectible card game where players act as powerful wizards\, or “Planeswalkers\,” dueling by summoning creatures\, casting spells\, and using artifacts to reduce their opponent’s life total from 20 to zero. Players build a unique deck of at least 60 cards\, drawing on five colors of magic to create a winning strategy. The game involves a variety of card types\, including lands for mana\, creatures to attack and defend\, and spells with immediate or ongoing effects. \nOne of the most popular games for the last 30+ years.
URL:https://comicquest.org/event/board-game-demo-magic-the-gathering-2/
LOCATION:Comic Quest\, 23811 Bridger #111 CA 92630\, Lake Forest\, CA\, 92630\, United States
CATEGORIES:Demo,Event
ATTACH;FMTTYPE=image/png:https://comicquest.org/wp-content/uploads/2025/12/Magic-dec-2025-banner.png
END:VEVENT
END:VCALENDAR