BEGIN:VCALENDAR
VERSION:2.0
PRODID:-//Comic Quest - ECPv6.15.20//NONSGML v1.0//EN
CALSCALE:GREGORIAN
METHOD:PUBLISH
X-ORIGINAL-URL:https://comicquest.org
X-WR-CALDESC:Events for Comic Quest
REFRESH-INTERVAL;VALUE=DURATION:PT1H
X-Robots-Tag:noindex
X-PUBLISHED-TTL:PT1H
BEGIN:VTIMEZONE
TZID:Asia/Shanghai
BEGIN:STANDARD
TZOFFSETFROM:+0800
TZOFFSETTO:+0800
TZNAME:CST
DTSTART:20250101T000000
END:STANDARD
END:VTIMEZONE
BEGIN:VEVENT
DTSTART;TZID=Asia/Shanghai:20260110T120000
DTEND;TZID=Asia/Shanghai:20260110T150000
DTSTAMP:20260423T124844
CREATED:20260104T010506Z
LAST-MODIFIED:20260104T010506Z
UID:10004202-1768046400-1768057200@comicquest.org
SUMMARY:Board Game Demo - Tea Dragon Society
DESCRIPTION:FREE Board Game Demo: Tea Dragon Society \nSaturday Jan 10 Noon  – 3pm \nComic Quest is providing FREE demos of a fun board game. Learn in a couple of minutes\, it might be your next favorite game. \nPlus\, a discount on the game all day! \nEach player’s deck represents their own Tea Dragon. From turn to turn\, players choose to draw a card — triggering effects and strengthening their position — or buy a card\, improving their deck or scoring points. The game takes place over four seasons\, starting in spring and ending in winter. At the end of winter\, the player who has the most points wins. \nDiscover the ancient art form of Tea Dragon care-taking within The Tea Dragon Society Card Game\, based on the graphic novel The Tea Dragon Society. Create a bond between yourself and your Tea Dragon that grows as you progress through the seasons\, creating memories to share forever.
URL:https://comicquest.org/event/board-game-demo-tea-dragon-society-2/
LOCATION:Comic Quest\, 23811 Bridger #111 CA 92630\, Lake Forest\, CA\, 92630\, United States
CATEGORIES:Demo,Event
ATTACH;FMTTYPE=image/png:https://comicquest.org/wp-content/uploads/2026/01/tea-dragon-society-banner.png
END:VEVENT
BEGIN:VEVENT
DTSTART;TZID=Asia/Shanghai:20260124T120000
DTEND;TZID=Asia/Shanghai:20260124T150000
DTSTAMP:20260423T124844
CREATED:20260118T011932Z
LAST-MODIFIED:20260118T012452Z
UID:10004218-1769256000-1769266800@comicquest.org
SUMMARY:Board Game Demo - Ultimate Breakfast Scramble
DESCRIPTION:FREE Board Game Demo: Ultimate Breakfast Scramble \n  \nSaturday Jan 24 Noon  – 3pm \nComic Quest is providing FREE demos of a fun board game. Learn in a couple of minutes\, it might be your next favorite game. \nPlus\, a discount on the game all day! \n  \nAn egg-citing card game where a balanced breakfast always wins. \nPlayers pick a menu card\, and try to be the first to collect all items listed. Scramble Cards are in the mix to shake things up\, so strategy is key in this punny and yummy game all about making… the Ultimate Breakfast!\n! \n\nBUILD THE PERFECT BREAKFAST: Race to collect breakfast cards and match your menu card to win in this lighthearted\, food-themed strategy game.\nSCRAMBLE ACTION CARDS: Shake up the game with fun and unexpected Scramble Cards\, adding salty or sweet twists to keep everyone on their toes.\nQUICK & EASY TO LEARN: Includes 80 cards (52 à la carte breakfast cards\, 4 Scramble Cards\, and 20 Menu Cards) and an instruction sheet for fast\, fun play.\nFAMILY-FRIENDLY FUN: Designed for 2-6 players\, ages 5 and up\, making it perfect for family game nights\, parties\, and holidays.
URL:https://comicquest.org/event/board-game-demo-ultimate-breakfast-scramble/
LOCATION:Comic Quest\, 23811 Bridger #111 CA 92630\, Lake Forest\, CA\, 92630\, United States
CATEGORIES:Demo,Event
ATTACH;FMTTYPE=image/png:https://comicquest.org/wp-content/uploads/2026/01/breakfast-scramble-banner.png
END:VEVENT
BEGIN:VEVENT
DTSTART;TZID=Asia/Shanghai:20260131T120000
DTEND;TZID=Asia/Shanghai:20260131T150000
DTSTAMP:20260423T124844
CREATED:20260125T200752Z
LAST-MODIFIED:20260125T200752Z
UID:10004227-1769860800-1769871600@comicquest.org
SUMMARY:Board Game Demo - Flip 7
DESCRIPTION:FREE Board Game Demo: Flip 7 \n  \nSaturday Jan 31 Noon  – 3pm \nComic Quest is providing FREE demos of a fun board game. Learn in a couple of minutes\, it might be your next favorite game. \nPlus\, a discount on the game all day! \n  \nFlip over cards one by one without flipping the same number twice. \nSound easy? Think again! This isn’t just any deck of cards… In Flip 7 there’s only one 1 card\, two 2’s\, three 3’s\, etc plus a bunch of special cards that can score you extra points\, give you a second chance\, or freeze you or your opponents in your tracks. \nAre you the type of player to play it safe and bank points before you bust\, or are you going to risk it all and go for the bonus points by flipping over seven in a row? Press your luck meets strategy in this addictive card game that’s sure to be the greatest card game you’ve ever played!
URL:https://comicquest.org/event/board-game-demo-flip-7-2/
LOCATION:Comic Quest\, 23811 Bridger #111 CA 92630\, Lake Forest\, CA\, 92630\, United States
CATEGORIES:Demo,Event
ATTACH;FMTTYPE=image/png:https://comicquest.org/wp-content/uploads/2026/01/flip-7-jan-2026-banner.png
END:VEVENT
END:VCALENDAR