BEGIN:VCALENDAR
VERSION:2.0
PRODID:-//Comic Quest - ECPv6.15.20//NONSGML v1.0//EN
CALSCALE:GREGORIAN
METHOD:PUBLISH
X-ORIGINAL-URL:https://comicquest.org
X-WR-CALDESC:Events for Comic Quest
REFRESH-INTERVAL;VALUE=DURATION:PT1H
X-Robots-Tag:noindex
X-PUBLISHED-TTL:PT1H
BEGIN:VTIMEZONE
TZID:Asia/Shanghai
BEGIN:STANDARD
TZOFFSETFROM:+0800
TZOFFSETTO:+0800
TZNAME:CST
DTSTART:20250101T000000
END:STANDARD
END:VTIMEZONE
BEGIN:VEVENT
DTSTART;TZID=Asia/Shanghai:20260207T120000
DTEND;TZID=Asia/Shanghai:20260207T150000
DTSTAMP:20260423T113140
CREATED:20260201T040837Z
LAST-MODIFIED:20260201T040837Z
UID:10004229-1770465600-1770476400@comicquest.org
SUMMARY:Board Game Demo - Wilmot's Warehouse
DESCRIPTION:FREE Board Game Demo: Wilmot’s Warehouse \n  \nSaturday Feb 7 Noon  – 3pm \nComic Quest is providing FREE demos of a fun board game. Learn in a couple of minutes\, it might be your next favorite game. \nPlus\, a discount on the game all day! \n  \nIn Wilmotʼs Warehouse\, your team will work cooperatively to organize the warehouse\, using memory\, imagination\, and silly stories you make up. \nDRAW Product tiles off the stack\,\nDISCUSS what they look like\, then\nPLACE them somewhere youʼll remember. \nAfter you place each tile\, you flip it over and canʼt look at it again until the end of the game. So your team has to remember where you placed previous tiles as you decide where to place new ones. At the end of the game\, in a 5-minute rush\, your team will have to match all 35 face down tiles with customer cards. Consult your performance review to see how you did!
URL:https://comicquest.org/event/board-game-demo-wilmots-warehouse-2/
LOCATION:Comic Quest\, 23811 Bridger #111 CA 92630\, Lake Forest\, CA\, 92630\, United States
CATEGORIES:Demo,Event
ATTACH;FMTTYPE=image/png:https://comicquest.org/wp-content/uploads/2026/01/wilmont-banner.png
END:VEVENT
BEGIN:VEVENT
DTSTART;TZID=Asia/Shanghai:20260214T120000
DTEND;TZID=Asia/Shanghai:20260214T150000
DTSTAMP:20260423T113140
CREATED:20260209T234543Z
LAST-MODIFIED:20260209T234543Z
UID:10004238-1771070400-1771081200@comicquest.org
SUMMARY:Board Game Demo - Azul
DESCRIPTION:FREE Board Game Demo: Azul \nSaturday Feb 14 Noon  – 3pm \nComic Quest is providing FREE demos of a fun board game. Learn in a couple of minutes\, it might be your next favorite game. \nPlus\, a discount on the game all day! \n  \nIn the game Azul\, players take turns drafting colored tiles from suppliers to their player board. Later in the round\, players score points based on how they’ve placed their tiles to decorate the palace. Extra points are scored for specific patterns and completing sets; wasted supplies harm the player’s score. The player with the most points at the end of the game wins. \n\nAWARD-WINNING STRATEGY GAME: Azul is an award-winning board game that challenges players to create stunning tile mosaics while making strategic decisions and competing for high scores.\nBEAUTIFUL TILE ARTWORK: Featuring beautifully crafted\, colorful tiles\, Azul immerses players in the art of mosaic design\, inspired by the traditional Portuguese azulejos.\nEASY TO LEARN\, CHALLENGING TO MASTER: With simple rules and deep strategic choices\, Azul is accessible to new players yet offers satisfying complexity for experienced gamers.\nPERFECT FOR FAMILY GAME NIGHT: Designed for 2-4 players\, Azul is a fun\, engaging game for family and friends\, bringing together kids\, teens\, and adults for memorable game nights.\nREPLAYABLE & ENGAGING: Each game of Azul provides a unique experience with endless possibilities\, making it highly replayable and perfect for repeated enjoyment.
URL:https://comicquest.org/event/board-game-demo-azul/
LOCATION:Comic Quest\, 23811 Bridger #111 CA 92630\, Lake Forest\, CA\, 92630\, United States
CATEGORIES:Demo,Event
ATTACH;FMTTYPE=image/png:https://comicquest.org/wp-content/uploads/2026/02/azul-banner.png
END:VEVENT
END:VCALENDAR