BEGIN:VCALENDAR
VERSION:2.0
PRODID:-//Comic Quest - ECPv6.15.20//NONSGML v1.0//EN
CALSCALE:GREGORIAN
METHOD:PUBLISH
X-ORIGINAL-URL:https://comicquest.org
X-WR-CALDESC:Events for Comic Quest
REFRESH-INTERVAL;VALUE=DURATION:PT1H
X-Robots-Tag:noindex
X-PUBLISHED-TTL:PT1H
BEGIN:VTIMEZONE
TZID:Asia/Shanghai
BEGIN:STANDARD
TZOFFSETFROM:+0800
TZOFFSETTO:+0800
TZNAME:CST
DTSTART:20230101T000000
END:STANDARD
END:VTIMEZONE
BEGIN:VEVENT
DTSTART;TZID=Asia/Shanghai:20240914T110000
DTEND;TZID=Asia/Shanghai:20240914T140000
DTSTAMP:20260425T032121
CREATED:20240909T235921Z
LAST-MODIFIED:20240909T235921Z
UID:10001201-1726311600-1726322400@comicquest.org
SUMMARY:Board Game Demo - Splendor Duel
DESCRIPTION:FREE Board Game Demo: Splendor Duel \nSaturday Sept 14. 11am – 2pm \nComic Quest is providing FREE demos of a fun board game. Learn in a couple of minutes\, it might be your next favorite game. \nAlso\, a discount on the game! \n  \nConfront your rival guild in a race for victory. Take Gem and Pearl tokens from the common board\, then purchase cards\, gather bonuses\, royal favors\, and prestige. \nDiscover new twists and strategic opportunities derived from Splendor\, the original best-selling game. Acquire cards with impressive powers\, take advantage of special Privileges\, and fight over scarce access to Pearls. \nSplendor Duel is a two-player only standalone game based on Splendor that retains some of the main gameplay mechanisms of that design\, while being a bit more complex\, dynamic\, interactive\, rich\, tense\, and mean.
URL:https://comicquest.org/event/board-game-demo-splendor-duel/
LOCATION:Comic Quest\, 23811 Bridger #111 CA 92630\, Lake Forest\, CA\, 92630\, United States
CATEGORIES:Demo,Event
ATTACH;FMTTYPE=image/png:https://comicquest.org/wp-content/uploads/2024/09/splendor-duel-banner.png
END:VEVENT
END:VCALENDAR