BEGIN:VCALENDAR
VERSION:2.0
PRODID:-//Comic Quest - ECPv6.15.20//NONSGML v1.0//EN
CALSCALE:GREGORIAN
METHOD:PUBLISH
X-ORIGINAL-URL:https://comicquest.org
X-WR-CALDESC:Events for Comic Quest
REFRESH-INTERVAL;VALUE=DURATION:PT1H
X-Robots-Tag:noindex
X-PUBLISHED-TTL:PT1H
BEGIN:VTIMEZONE
TZID:Asia/Shanghai
BEGIN:STANDARD
TZOFFSETFROM:+0800
TZOFFSETTO:+0800
TZNAME:CST
DTSTART:20230101T000000
END:STANDARD
END:VTIMEZONE
BEGIN:VEVENT
DTSTART;TZID=Asia/Shanghai:20240921T110000
DTEND;TZID=Asia/Shanghai:20240921T140000
DTSTAMP:20260424T193404
CREATED:20240915T164301Z
LAST-MODIFIED:20240915T164301Z
UID:10001205-1726916400-1726927200@comicquest.org
SUMMARY:Board Game Demo - Jewels for the Emperor Penguin
DESCRIPTION:FREE Board Game Demo: Jewels for the Emperor Penguin \nSaturday Sept 21. 11am – 2pm \nComic Quest is providing FREE demos of a fun board game. Learn in a couple of minutes\, it might be your next favorite game. \nAlso\, a discount on the game! \nThe Emperor Penguin looooves jewelry! In Jewels for the Emperor Penguin\, each player takes charge of a five-member penguin guild that must scale the icy walls of the Valley of the Emperor Penguin\, gathering gems — emeralds\, rubies\, sapphires\, and diamonds — and making advantageous exchanges to acquire the specific gem-recipes needed to claim objective cards that represent the fantastic jewelry the Emperor Penguin covets.
URL:https://comicquest.org/event/board-game-demo-jewels-for-the-emperor-penguin/
LOCATION:Comic Quest\, 23811 Bridger #111 CA 92630\, Lake Forest\, CA\, 92630\, United States
CATEGORIES:Demo,Event
ATTACH;FMTTYPE=image/png:https://comicquest.org/wp-content/uploads/2024/09/jeweles-of-penguin-banner.png
END:VEVENT
END:VCALENDAR