BEGIN:VCALENDAR
VERSION:2.0
PRODID:-//Comic Quest - ECPv6.15.20//NONSGML v1.0//EN
CALSCALE:GREGORIAN
METHOD:PUBLISH
X-WR-CALNAME:Comic Quest
X-ORIGINAL-URL:https://comicquest.org
X-WR-CALDESC:Events for Comic Quest
REFRESH-INTERVAL;VALUE=DURATION:PT1H
X-Robots-Tag:noindex
X-PUBLISHED-TTL:PT1H
BEGIN:VTIMEZONE
TZID:Asia/Shanghai
BEGIN:STANDARD
TZOFFSETFROM:+0800
TZOFFSETTO:+0800
TZNAME:CST
DTSTART:20230101T000000
END:STANDARD
END:VTIMEZONE
BEGIN:VEVENT
DTSTART;TZID=Asia/Shanghai:20241207T110000
DTEND;TZID=Asia/Shanghai:20241207T140000
DTSTAMP:20260424T101219
CREATED:20241203T221341Z
LAST-MODIFIED:20241203T223749Z
UID:10001383-1733569200-1733580000@comicquest.org
SUMMARY:Board Game Demo - Hamster Roll
DESCRIPTION:FREE Board Game Demo: Hamster Roll \nSaturday Dec 7 11am – 2pm \nComic Quest is providing FREE demos of a fun board game. Learn in a couple of minutes\, it might be your next favorite game. \nAlso\, a discount on the game! \n  \nImagine a hamster’s exercise wheel made out of wood that’s divided into numerous segments\, with these segments being separated by low fences. That’s the playing surface for Hamster Roll\, a dexterity game in which players compete to play all of their pieces first. \nEveryone starts with seven wooden pieces. On a turn\, place one of your pieces somewhere within the wheel\, which might move and rotate as a result! If any pieces fall out of the wheel\, you must add them to your supply\, so try to keep the rolling of that hamster wheel to a minimum…
URL:https://comicquest.org/event/board-game-demo-hamster-roll/
LOCATION:Comic Quest\, 23811 Bridger #111 CA 92630\, Lake Forest\, CA\, 92630\, United States
CATEGORIES:Demo,Event
ATTACH;FMTTYPE=image/png:https://comicquest.org/wp-content/uploads/2024/12/hamster-roll-banner.png
END:VEVENT
END:VCALENDAR