BEGIN:VCALENDAR
VERSION:2.0
PRODID:-//Comic Quest - ECPv6.15.20//NONSGML v1.0//EN
CALSCALE:GREGORIAN
METHOD:PUBLISH
X-WR-CALNAME:Comic Quest
X-ORIGINAL-URL:https://comicquest.org
X-WR-CALDESC:Events for Comic Quest
REFRESH-INTERVAL;VALUE=DURATION:PT1H
X-Robots-Tag:noindex
X-PUBLISHED-TTL:PT1H
BEGIN:VTIMEZONE
TZID:Asia/Shanghai
BEGIN:STANDARD
TZOFFSETFROM:+0800
TZOFFSETTO:+0800
TZNAME:CST
DTSTART:20240101T000000
END:STANDARD
END:VTIMEZONE
BEGIN:VEVENT
DTSTART;TZID=Asia/Shanghai:20250111T110000
DTEND;TZID=Asia/Shanghai:20250111T140000
DTSTAMP:20260424T055642
CREATED:20250105T004649Z
LAST-MODIFIED:20250115T030912Z
UID:10001444-1736593200-1736604000@comicquest.org
SUMMARY:Board Game Demo - Wilmot's Warehouse
DESCRIPTION:FREE Board Game Demo: Wilmot’s Warehouse \n  \nSaturday Jan 8 11am – 2pm \nComic Quest is providing FREE demos of a fun board game. Learn in a couple of minutes\, it might be your next favorite game. \nAlso\, a discount on the game! \n  \nIn Wilmot’s Warehouse\, your team will work co-operatively to organize the warehouse\, using memory\, imagination\, and silly stories you make up. \nDraw product tiles from the stack\, discuss what they look like\, and place them somewhere you’ll remember. After you place each tile\, you flip it over and can’t look at it again until the end of the game\, so your team has to remember where you’ve placed previous tiles as you decide where to place new ones. \nAt the end of the game\, in a five-minute rush\, your team has to match all 35 face-down tiles with customer cards. Consult your performance review to see how well you did!
URL:https://comicquest.org/event/board-game-demo-wilmots-warehouse/
LOCATION:Comic Quest\, 23811 Bridger #111 CA 92630\, Lake Forest\, CA\, 92630\, United States
CATEGORIES:Demo,Event
ATTACH;FMTTYPE=image/png:https://comicquest.org/wp-content/uploads/2025/01/wilmonts-warehouse-banner.png
END:VEVENT
END:VCALENDAR