BEGIN:VCALENDAR
VERSION:2.0
PRODID:-//Comic Quest - ECPv6.15.20//NONSGML v1.0//EN
CALSCALE:GREGORIAN
METHOD:PUBLISH
X-ORIGINAL-URL:https://comicquest.org
X-WR-CALDESC:Events for Comic Quest
REFRESH-INTERVAL;VALUE=DURATION:PT1H
X-Robots-Tag:noindex
X-PUBLISHED-TTL:PT1H
BEGIN:VTIMEZONE
TZID:Asia/Shanghai
BEGIN:STANDARD
TZOFFSETFROM:+0800
TZOFFSETTO:+0800
TZNAME:CST
DTSTART:20240101T000000
END:STANDARD
END:VTIMEZONE
BEGIN:VEVENT
DTSTART;TZID=Asia/Shanghai:20250531T120000
DTEND;TZID=Asia/Shanghai:20250531T150000
DTSTAMP:20260424T004118
CREATED:20250524T231002Z
LAST-MODIFIED:20250524T231114Z
UID:10001528-1748692800-1748703600@comicquest.org
SUMMARY:Board Game Demo - Unlock!
DESCRIPTION:FREE Board Game Demo: Unlock! (Ghost Stone) \nSaturday May 31 Noon  – 3pm \nComic Quest is providing FREE demos of a fun board game. Learn in a couple of minutes\, it might be your next favorite game. \nPlus\, a discount on the game all day! \n  \nFREE Samples while supplies last. \nAll thieves dream of getting their hands on the Trivoc\, a most precious stone. Lord Victor Beckett\, it’s former owner\, used to keep it in the safe of his Devon’s country house\, which he has haunted since his demise. Therefore\, no one but you\, the most daring team of thieves in the country\, would dare to enter. Slip into the mansion and steal the gem. \nThis 25-card exclusive demo adventure will allow you to learn Unlock! \nUnlock! is a cooperative card game inspired by escape rooms that uses a simple system which allows you to search scenes\, combine objects\, and solve riddles. Play Unlock! to embark on great adventures\, while seated at a table using only cards and a companion app that can provide clues\, check codes\, monitor time remaining\, etc
URL:https://comicquest.org/event/board-game-demo-unlock/
LOCATION:Comic Quest\, 23811 Bridger #111 CA 92630\, Lake Forest\, CA\, 92630\, United States
CATEGORIES:Demo,Event
ATTACH;FMTTYPE=image/png:https://comicquest.org/wp-content/uploads/2025/05/unlock-banner.png
END:VEVENT
END:VCALENDAR