BEGIN:VCALENDAR
VERSION:2.0
PRODID:-//Comic Quest - ECPv6.15.20//NONSGML v1.0//EN
CALSCALE:GREGORIAN
METHOD:PUBLISH
X-ORIGINAL-URL:https://comicquest.org
X-WR-CALDESC:Events for Comic Quest
REFRESH-INTERVAL;VALUE=DURATION:PT1H
X-Robots-Tag:noindex
X-PUBLISHED-TTL:PT1H
BEGIN:VTIMEZONE
TZID:Asia/Shanghai
BEGIN:STANDARD
TZOFFSETFROM:+0800
TZOFFSETTO:+0800
TZNAME:CST
DTSTART:20240101T000000
END:STANDARD
END:VTIMEZONE
BEGIN:VEVENT
DTSTART;TZID=Asia/Shanghai:20250719T120000
DTEND;TZID=Asia/Shanghai:20250719T150000
DTSTAMP:20260423T220553
CREATED:20250713T001717Z
LAST-MODIFIED:20250713T001717Z
UID:10001569-1752926400-1752937200@comicquest.org
SUMMARY:Board Game Demo - Forest Shuffle
DESCRIPTION:FREE Board Game Demo: Forst Shuffle \n  \nSaturday Jul 19 Noon  – 3pm \nComic Quest is providing FREE demos of a fun board game. Learn in a couple of minutes\, it might be your next favorite game. \nPlus\, a discount on the game all day! \n  \nExperience the miracles of the forest in this clever card game. In Forest Shuffle\, 2-4 players compete in gathering the most valuable trees and attracting species\, thus creating an ecological balanced habitat for flora and fauna. \nIt all starts with a single tree… And it’s as simple as that: Each turn you draw cards from the stack or center\, place trees in your forest to attract wildlife\, try to combine plants and animals for extra points or bonus actions. Consider the different preferences of these creatures: Some animals feel only comfortable in the presence of their fellow species\, others prefer certain tree types to live in. \nAre you able to establish an ideal balance and create the most beautiful forest?
URL:https://comicquest.org/event/board-game-demo-forest-shuffle-2/
LOCATION:Comic Quest\, 23811 Bridger #111 CA 92630\, Lake Forest\, CA\, 92630\, United States
CATEGORIES:Demo,Event
ATTACH;FMTTYPE=image/png:https://comicquest.org/wp-content/uploads/2025/07/forest-shuffle-banner.png
END:VEVENT
END:VCALENDAR