BEGIN:VCALENDAR
VERSION:2.0
PRODID:-//Comic Quest - ECPv6.15.20//NONSGML v1.0//EN
CALSCALE:GREGORIAN
METHOD:PUBLISH
X-WR-CALNAME:Comic Quest
X-ORIGINAL-URL:https://comicquest.org
X-WR-CALDESC:Events for Comic Quest
REFRESH-INTERVAL;VALUE=DURATION:PT1H
X-Robots-Tag:noindex
X-PUBLISHED-TTL:PT1H
BEGIN:VTIMEZONE
TZID:Asia/Shanghai
BEGIN:STANDARD
TZOFFSETFROM:+0800
TZOFFSETTO:+0800
TZNAME:CST
DTSTART:20240101T000000
END:STANDARD
END:VTIMEZONE
BEGIN:VEVENT
DTSTART;TZID=Asia/Shanghai:20250809T120000
DTEND;TZID=Asia/Shanghai:20250809T150000
DTSTAMP:20260423T205427
CREATED:20250805T001042Z
LAST-MODIFIED:20250805T001042Z
UID:10002112-1754740800-1754751600@comicquest.org
SUMMARY:Board Game Demo - Codenames
DESCRIPTION:FREE Board Game Demo: Codenames \n  \nSaturday Aug 9 Noon  – 3pm \nComic Quest is providing FREE demos of a fun board game. Learn in a couple of minutes\, it might be your next favorite game. \nPlus\, a discount on the game all day! \n  \nIn Codenames\, two teams compete to see who can make contact with all of their agents first. Lay out 25 cards\, each bearing a single word. The spymasters look at a card showing the identity of each card\, then take turns clueing their teammates. A clue consists of a single word and a number\, with the number suggesting how many cards in play have some association to the given clue word. The teammates then identify one agent they think is on their team; if they’re correct\, they can keep guessing up to one more than the stated number of times; if the agent belongs to the opposing team or is an innocent bystander\, the team’s turn ends; and if they fingered the assassin\, they lose the game.
URL:https://comicquest.org/event/board-game-demo-codenames/
LOCATION:Comic Quest\, 23811 Bridger #111 CA 92630\, Lake Forest\, CA\, 92630\, United States
CATEGORIES:Demo,Event
ATTACH;FMTTYPE=image/png:https://comicquest.org/wp-content/uploads/2025/08/codenames-hortiz.png
END:VEVENT
END:VCALENDAR