BEGIN:VCALENDAR
VERSION:2.0
PRODID:-//Comic Quest - ECPv6.15.20//NONSGML v1.0//EN
CALSCALE:GREGORIAN
METHOD:PUBLISH
X-ORIGINAL-URL:https://comicquest.org
X-WR-CALDESC:Events for Comic Quest
REFRESH-INTERVAL;VALUE=DURATION:PT1H
X-Robots-Tag:noindex
X-PUBLISHED-TTL:PT1H
BEGIN:VTIMEZONE
TZID:Asia/Shanghai
BEGIN:STANDARD
TZOFFSETFROM:+0800
TZOFFSETTO:+0800
TZNAME:CST
DTSTART:20240101T000000
END:STANDARD
END:VTIMEZONE
BEGIN:VEVENT
DTSTART;TZID=Asia/Shanghai:20250816T120000
DTEND;TZID=Asia/Shanghai:20250816T150000
DTSTAMP:20260423T205039
CREATED:20250811T025853Z
LAST-MODIFIED:20250811T025853Z
UID:10003314-1755345600-1755356400@comicquest.org
SUMMARY:Board Game Demo - Rainbow
DESCRIPTION:FREE Board Game Demo: Rainbow \n  \nSaturday Aug 16 Noon  – 3pm \nComic Quest is providing FREE demos of a fun board game. Learn in a couple of minutes\, it might be your next favorite game. \nPlus\, a discount on the game all day! \n  \nRainbow is a quick-playing hand management game where players play solo cards\, sets\, or runs to win points on cards in the center of the table. \nThe cards that were played in the previous round are the NEW points available to win in the next round. Most points at the end of the game wins!
URL:https://comicquest.org/event/board-game-demo-rainbow-2/
LOCATION:Comic Quest\, 23811 Bridger #111 CA 92630\, Lake Forest\, CA\, 92630\, United States
CATEGORIES:Demo,Event
ATTACH;FMTTYPE=image/png:https://comicquest.org/wp-content/uploads/2025/08/rainbow-banner.png
END:VEVENT
END:VCALENDAR