BEGIN:VCALENDAR
VERSION:2.0
PRODID:-//Comic Quest - ECPv6.15.20//NONSGML v1.0//EN
CALSCALE:GREGORIAN
METHOD:PUBLISH
X-ORIGINAL-URL:https://comicquest.org
X-WR-CALDESC:Events for Comic Quest
REFRESH-INTERVAL;VALUE=DURATION:PT1H
X-Robots-Tag:noindex
X-PUBLISHED-TTL:PT1H
BEGIN:VTIMEZONE
TZID:Asia/Shanghai
BEGIN:STANDARD
TZOFFSETFROM:+0800
TZOFFSETTO:+0800
TZNAME:CST
DTSTART:20240101T000000
END:STANDARD
END:VTIMEZONE
BEGIN:VEVENT
DTSTART;TZID=Asia/Shanghai:20251018T120000
DTEND;TZID=Asia/Shanghai:20251018T150000
DTSTAMP:20260423T194227
CREATED:20251014T034635Z
LAST-MODIFIED:20251014T034745Z
UID:10003661-1760788800-1760799600@comicquest.org
SUMMARY:Board Game Demo - Immortal
DESCRIPTION:FREE Board Game Demo: Immortal \nSaturday Oct 18 Noon  – 3pm \nComic Quest is providing FREE demos of a fun board game. Learn in a couple of minutes\, it might be your next favorite game. \nPlus\, a discount on the game all day! \n  \nPlayers arrange flowers in a graveyard by placing tiles according to the rules\, adding new flowers only to a single row or column at a time. The first player to place all their flowers is the winner!
URL:https://comicquest.org/event/board-game-demo-antiques-ghost-show-2/
LOCATION:Comic Quest\, 23811 Bridger #111 CA 92630\, Lake Forest\, CA\, 92630\, United States
CATEGORIES:Demo,Event
ATTACH;FMTTYPE=image/png:https://comicquest.org/wp-content/uploads/2025/10/immortal-banner.png
END:VEVENT
END:VCALENDAR