BEGIN:VCALENDAR
VERSION:2.0
PRODID:-//Comic Quest - ECPv6.15.20//NONSGML v1.0//EN
CALSCALE:GREGORIAN
METHOD:PUBLISH
X-WR-CALNAME:Comic Quest
X-ORIGINAL-URL:https://comicquest.org
X-WR-CALDESC:Events for Comic Quest
REFRESH-INTERVAL;VALUE=DURATION:PT1H
X-Robots-Tag:noindex
X-PUBLISHED-TTL:PT1H
BEGIN:VTIMEZONE
TZID:Asia/Shanghai
BEGIN:STANDARD
TZOFFSETFROM:+0800
TZOFFSETTO:+0800
TZNAME:CST
DTSTART:20240101T000000
END:STANDARD
END:VTIMEZONE
BEGIN:VEVENT
DTSTART;TZID=Asia/Shanghai:20251025T120000
DTEND;TZID=Asia/Shanghai:20251025T150000
DTSTAMP:20260423T205429
CREATED:20251019T190805Z
LAST-MODIFIED:20251019T212026Z
UID:10003670-1761393600-1761404400@comicquest.org
SUMMARY:Board Game Demo - Riftbound
DESCRIPTION:FREE Board Game Demo: Riftbound League of Legends \n  \nSaturday Oct 25 Noon  – 3pm \nComic Quest is providing FREE demos of a fun board game. Learn in a couple of minutes\, it might be your next favorite game. \n  \nRiftbound is a collectable trading card game featuring a vast array of characters and locales from League of Legends\, \nPlayers score points by conquering and controlling battlefields to be the first to reach eight points. To play\, players build decks around a chosen champion legend\, which determines the “domain” or color identity of their deck. A player’s deck consists of a 40-card main deck (units\, spells\, and gear) and a 12-card rune deck to pay for cards.
URL:https://comicquest.org/event/board-game-demo-riftbound/
LOCATION:Comic Quest\, 23811 Bridger #111 CA 92630\, Lake Forest\, CA\, 92630\, United States
CATEGORIES:Demo,Event
ATTACH;FMTTYPE=image/png:https://comicquest.org/wp-content/uploads/2025/10/rifboound-demo-banner.png
END:VEVENT
END:VCALENDAR