BEGIN:VCALENDAR
VERSION:2.0
PRODID:-//Comic Quest - ECPv6.15.20//NONSGML v1.0//EN
CALSCALE:GREGORIAN
METHOD:PUBLISH
X-ORIGINAL-URL:https://comicquest.org
X-WR-CALDESC:Events for Comic Quest
REFRESH-INTERVAL;VALUE=DURATION:PT1H
X-Robots-Tag:noindex
X-PUBLISHED-TTL:PT1H
BEGIN:VTIMEZONE
TZID:Asia/Shanghai
BEGIN:STANDARD
TZOFFSETFROM:+0800
TZOFFSETTO:+0800
TZNAME:CST
DTSTART:20240101T000000
END:STANDARD
END:VTIMEZONE
BEGIN:VEVENT
DTSTART;TZID=Asia/Shanghai:20251108T120000
DTEND;TZID=Asia/Shanghai:20251108T150000
DTSTAMP:20260423T194229
CREATED:20251103T200132Z
LAST-MODIFIED:20251103T200132Z
UID:10003735-1762603200-1762614000@comicquest.org
SUMMARY:Board Game Demo - Twinkle Twinkle
DESCRIPTION:FREE Board Game Demo: Twinkle Twinkle \nSaturday Nov 8 Noon  – 3pm \nComic Quest is providing FREE demos of a fun board game. Learn in a couple of minutes\, it might be your next favorite game. \nPlus\, a discount on the game all day! \nIn the tile-laying game Twinkle Twinkle\, you’ll fill your star chart with clear plastic tiles\, trying to connect constellations\, build belts of asteroids\, collect comets\, pick up planets\, and study them with satellites. Take care with those pesky black holes – unless you have a perfect spot for them\, of course. \nConstellations\, asteroids\, comets\, planets\, and black holes all score differently! With 10 modular scoring conditions in the box\, you can mix and match for 32 different setups. Whoever finds their highest score in the stars wins. \nThe game features an optional scoring app that allows you to point your phone at the board and watch it magically tally up your points!
URL:https://comicquest.org/event/board-game-demo-twinkle-twinkle/
LOCATION:Comic Quest\, 23811 Bridger #111 CA 92630\, Lake Forest\, CA\, 92630\, United States
CATEGORIES:Demo,Event
ATTACH;FMTTYPE=image/png:https://comicquest.org/wp-content/uploads/2025/11/twinkle-twinkle-banner.png
END:VEVENT
END:VCALENDAR