BEGIN:VCALENDAR
VERSION:2.0
PRODID:-//Comic Quest - ECPv6.15.20//NONSGML v1.0//EN
CALSCALE:GREGORIAN
METHOD:PUBLISH
X-ORIGINAL-URL:https://comicquest.org
X-WR-CALDESC:Events for Comic Quest
REFRESH-INTERVAL;VALUE=DURATION:PT1H
X-Robots-Tag:noindex
X-PUBLISHED-TTL:PT1H
BEGIN:VTIMEZONE
TZID:Asia/Shanghai
BEGIN:STANDARD
TZOFFSETFROM:+0800
TZOFFSETTO:+0800
TZNAME:CST
DTSTART:20240101T000000
END:STANDARD
END:VTIMEZONE
BEGIN:VEVENT
DTSTART;TZID=Asia/Shanghai:20251115T120000
DTEND;TZID=Asia/Shanghai:20251115T150000
DTSTAMP:20260423T170251
CREATED:20251109T003956Z
LAST-MODIFIED:20251109T003956Z
UID:10003738-1763208000-1763218800@comicquest.org
SUMMARY:Board Game Demo - Compile
DESCRIPTION:FREE Board Game Demo: Compile \nSaturday Nov 15 Noon  – 3pm \nComic Quest is providing FREE demos of a fun board game. Learn in a couple of minutes\, it might be your next favorite game. \nPlus\, a discount on the game all day! \nIn the card game Compile\, you are competing Artificial Intelligences trying to understand the world around you. Two players select three Protocols each to test. Concepts ranging from Darkness to Water are pitted against each other to reach ultimate understanding. Play cards into your Protocols’ command lines to breach the threshold and defeat your opponent to Compile. First to Compile all three Protocols grasps those concepts to win the game. \nControl your opponent’s Protocols with card actions\, Compile your own as fast as possible\, and Compile your reality.
URL:https://comicquest.org/event/board-game-demo-compile/
LOCATION:Comic Quest\, 23811 Bridger #111 CA 92630\, Lake Forest\, CA\, 92630\, United States
CATEGORIES:Demo,Event
ATTACH;FMTTYPE=image/png:https://comicquest.org/wp-content/uploads/2025/11/compile-banner.png
END:VEVENT
END:VCALENDAR