BEGIN:VCALENDAR
VERSION:2.0
PRODID:-//Comic Quest - ECPv6.15.20//NONSGML v1.0//EN
CALSCALE:GREGORIAN
METHOD:PUBLISH
X-ORIGINAL-URL:https://comicquest.org
X-WR-CALDESC:Events for Comic Quest
REFRESH-INTERVAL;VALUE=DURATION:PT1H
X-Robots-Tag:noindex
X-PUBLISHED-TTL:PT1H
BEGIN:VTIMEZONE
TZID:Asia/Shanghai
BEGIN:STANDARD
TZOFFSETFROM:+0800
TZOFFSETTO:+0800
TZNAME:CST
DTSTART:20250101T000000
END:STANDARD
END:VTIMEZONE
BEGIN:VEVENT
DTSTART;TZID=Asia/Shanghai:20260411T120000
DTEND;TZID=Asia/Shanghai:20260411T150000
DTSTAMP:20260423T085149
CREATED:20260407T161629Z
LAST-MODIFIED:20260407T161629Z
UID:10004306-1775908800-1775919600@comicquest.org
SUMMARY:Board Game Demo - Catan
DESCRIPTION:FREE Board Game Demo: Catan \n  \nSaturday April 11 Noon  – 3pm \nComic Quest is providing FREE demos of a fun board game. Learn in a couple of minutes\, it might be your next favorite game. \nFREE Limited Edition mini-expansion for Catan while supplies last to those who demo the game. \nPlus\, a discount on the game all day! \n  \n\nEXPLORE THE ISLAND OF CATAN: Settle the uninhabited island of Catan by gathering resources\, building infrastructure\, and nurturing trade relationships.\nSTRATEGY AND COMPETITION: Compete with 2-3 opponents to expand your settlements and cities while managing resources and avoiding the robber.\nTRADE\, BUILD\, AND SETTLE: Use brick\, wood\, wheat\, ore\, and sheep to construct roads\, settlements\, and cities in your race to 10 victory points.\nREPLAYABLE AND ENGAGING: With a modular hexagonal board\, no two games are the same\, offering endless strategic opportunities and replayability.
URL:https://comicquest.org/event/board-game-demo-catan/
LOCATION:Comic Quest\, 23811 Bridger #111 CA 92630\, Lake Forest\, CA\, 92630\, United States
CATEGORIES:Demo,Event
ATTACH;FMTTYPE=image/png:https://comicquest.org/wp-content/uploads/2026/04/catan-banner.png
END:VEVENT
END:VCALENDAR