BEGIN:VCALENDAR
VERSION:2.0
PRODID:-//Comic Quest - ECPv6.15.20//NONSGML v1.0//EN
CALSCALE:GREGORIAN
METHOD:PUBLISH
X-WR-CALNAME:Comic Quest
X-ORIGINAL-URL:https://comicquest.org
X-WR-CALDESC:Events for Comic Quest
REFRESH-INTERVAL;VALUE=DURATION:PT1H
X-Robots-Tag:noindex
X-PUBLISHED-TTL:PT1H
BEGIN:VTIMEZONE
TZID:Asia/Shanghai
BEGIN:STANDARD
TZOFFSETFROM:+0800
TZOFFSETTO:+0800
TZNAME:CST
DTSTART:20230101T000000
END:STANDARD
END:VTIMEZONE
BEGIN:VEVENT
DTSTART;TZID=Asia/Shanghai:20240803T110000
DTEND;TZID=Asia/Shanghai:20240803T140000
DTSTAMP:20260423T183229
CREATED:20240729T224906Z
LAST-MODIFIED:20240729T224906Z
UID:10000973-1722682800-1722693600@comicquest.org
SUMMARY:Board Game Demo - Forest Shuffle
DESCRIPTION:FREE Board Game Demo: Forest Shuffle \nSaturday Aug 3. 11am – 2pm \nComic Quest is providing FREE demos of a fun board game. Learn in a couple of minutes\, it might be your next favorite game. \nAlso\, a discount on the game! \nIn Forest Shuffle\, players compete to gather the most valuable trees\, then attract species to these trees\, thus creating an ecologically balanced habitat for flora and fauna. \nTo start\, each player has six cards in hand\, with cards depicting either a particular type of tree or two forest dwellers (animal\, plant\, mushroom\, etc.)\, with these latter cards being divided in half\, whether vertically or horizontally\, with one dweller in each card half.
URL:https://comicquest.org/event/board-game-demo-forest-shuffle/
LOCATION:Comic Quest\, 23811 Bridger #111 CA 92630\, Lake Forest\, CA\, 92630\, United States
CATEGORIES:Demo,Event
ATTACH;FMTTYPE=image/png:https://comicquest.org/wp-content/uploads/2024/07/forest-shuffle.png
END:VEVENT
BEGIN:VEVENT
DTSTART;TZID=Asia/Shanghai:20240720T110000
DTEND;TZID=Asia/Shanghai:20240720T140000
DTSTAMP:20260423T183229
CREATED:20240713T232021Z
LAST-MODIFIED:20240713T232021Z
UID:10000966-1721473200-1721484000@comicquest.org
SUMMARY:Board Game Demo - The Crew Mission Deep Sea
DESCRIPTION:FREE Board Game Demo: The Crew Mission Deep Sea \nSaturday July 20. 11am – 2pm \nComic Quest is providing FREE demos of a fun board game. Learn in a couple of minutes\, it might be your next favorite game. \nAlso\, a discount on the game! \n  \nPlayers work together to search for the lost continent of Mu. This new adventure takes your crew deep down into the abyss on a search for the fabled sunken land. How far you get depends entirely on how well you work together as a team. Card by card\, trick by trick\, your search party will discover the challenges that lie ahead and forge a path to Mu. This new version of The Crew has the same innovative cooperative trick-taking mechanic as the highly lauded original game — but with some exciting new surprises! \nWhile communication between your crew members is severely limited by your submerged state\, it is also critical to your success; finding the hidden land in the murky depths depends not only on winning tricks\, but also on carefully negotiating the order in which they are won. If things don’t go as planned\, you might just be able to salvage the operation. But it will take near flawless execution and perhaps a little luck to finally reach Mu.
URL:https://comicquest.org/event/board-game-demo-the-crew-mission-deep-sea/
LOCATION:Comic Quest\, 23811 Bridger #111 CA 92630\, Lake Forest\, CA\, 92630\, United States
CATEGORIES:Demo,Event
ATTACH;FMTTYPE=image/png:https://comicquest.org/wp-content/uploads/2024/07/crew_banner.png
END:VEVENT
BEGIN:VEVENT
DTSTART;TZID=Asia/Shanghai:20240713T110000
DTEND;TZID=Asia/Shanghai:20240713T140000
DTSTAMP:20260423T183229
CREATED:20240706T232520Z
LAST-MODIFIED:20240713T232046Z
UID:10000963-1720868400-1720879200@comicquest.org
SUMMARY:Board Game Demo - Cosmoctopus
DESCRIPTION:FREE Board Game Demo: Cosmoctopus \nSaturday July 13. 11am – 2pm \nComic Quest is providing FREE demos of a fun board game. Learn in a couple of minutes\, it might be your next favorite game. \nAlso\, a discount on the game! \nCosmoctopus is an engine-building\, tentacle-gathering board game for 1 to 4 devotees. Guide Cosmoctopus through the Inky Realm\, a flexible configuration of tiles\, to gather resources and obtain powerful cards that represent relics\, scripture\, hallucinations and constellations. Harness the power of these bizarre objects and experiences\, craft potent card combinations and be the first to gain 8 tentacles to win! \nYour turns are simple; the game’s excitement and depth lie in working out how best to use an ever-powerful hand of cards. Unlike some other engine-builders\, you’ll be straight into the fun\, upgrading your engine from turn one. With variable setup\, easy ways to alter difficulty and optional solo and co-operative modes\, Cosmoctopus offers a versatile tabletop experience\, whatever your gaming tastes.
URL:https://comicquest.org/event/board-game-demo-cosmoctopus/
LOCATION:Comic Quest\, 23811 Bridger #111 CA 92630\, Lake Forest\, CA\, 92630\, United States
CATEGORIES:Demo,Event
ATTACH;FMTTYPE=image/png:https://comicquest.org/wp-content/uploads/2024/07/cosmoc_banner.png
END:VEVENT
BEGIN:VEVENT
DTSTART;TZID=Asia/Shanghai:20240706T110000
DTEND;TZID=Asia/Shanghai:20240706T140000
DTSTAMP:20260423T183229
CREATED:20240701T212546Z
LAST-MODIFIED:20240701T212546Z
UID:10000961-1720263600-1720274400@comicquest.org
SUMMARY:Board Game Demo - Crabs in a Bucket
DESCRIPTION:  \n\n\n\n\n\n\n \nFREE Demo Crabs in a Bucket \n  \nSaturday July 6. 11am – 2pm \nComic Quest is providing FREE demos of a fun board game. Learn in a couple of minutes\, it might be your next favorite game. \nAlso\, a discount on the game! \n  \nCrabs in a Bucket is a fast-paced shedding type card game for 2-6 players that blends luck\, strategy\, and a cast of colorful crab characters. The goal of the game is to be the first player to play or discard their entire hand. \nJoker Crabs\, which are all based on real crab species\, have unique effects. All but one of them can benefit a player by\, for instance\, forcing an opponent to draw from their hand or allowing them to play unique combos. The final Joker Crab — the Lobster — is a barrier to victory as it cannot be played; should you hold the Lobster\, you must find a creative way of discarding it without playing it.
URL:https://comicquest.org/event/board-game-demo-crabs-in-a-bucket/
LOCATION:Comic Quest\, 23811 Bridger #111 CA 92630\, Lake Forest\, CA\, 92630\, United States
CATEGORIES:Demo,Event
ATTACH;FMTTYPE=image/png:https://comicquest.org/wp-content/uploads/2024/07/crabs-bucket-banner.png
END:VEVENT
BEGIN:VEVENT
DTSTART;TZID=Asia/Shanghai:20240629T110000
DTEND;TZID=Asia/Shanghai:20240629T140000
DTSTAMP:20260423T183229
CREATED:20240623T173825Z
LAST-MODIFIED:20240623T194407Z
UID:10000939-1719658800-1719669600@comicquest.org
SUMMARY:Board Game Demo - Kites
DESCRIPTION:  \n\n\n\n\n\n\n \nFREE Demo: Kites \n  \nSaturday June 29. 11am – 2pm \nComic Quest is providing FREE demos of a fun board game. Learn in a couple of minutes\, it might be your next favorite game. \nAlso\, a discount on the game! \n  \nThe sun is shining\, the wind is blowing\, and you know just what to do — gather your friends to fly some kites! \nIn Kites\, everyone works together to keep all their kites — represented by colorful sand timers — in the air. Take turns playing cards\, flipping the sand timers\, and coordinating with other players to ensure none of the timers run out. If it does\, a kite has crashed! Add complication cards for additional challenges. \nPlay all of the kite cards in the deck\, and everybody wins!
URL:https://comicquest.org/event/board-game-demo-kites/
LOCATION:Comic Quest\, 23811 Bridger #111 CA 92630\, Lake Forest\, CA\, 92630\, United States
CATEGORIES:Demo,Event
ATTACH;FMTTYPE=image/png:https://comicquest.org/wp-content/uploads/2024/06/boardgame-banner-kites.png
END:VEVENT
BEGIN:VEVENT
DTSTART;TZID=Asia/Shanghai:20240615T110000
DTEND;TZID=Asia/Shanghai:20240615T140000
DTSTAMP:20260423T183229
CREATED:20240609T163400Z
LAST-MODIFIED:20240609T163400Z
UID:10000932-1718449200-1718460000@comicquest.org
SUMMARY:Board Game Demo - Nimalia
DESCRIPTION:  \nFREE Demo: Nimalia \n  \nSaturday June 15. 11am – 2pm \nComic Quest is providing FREE demos of a fun board game. Learn in a couple of minutes\, it might be your next favorite game. \nAlso\, a discount on the game! \n  \nDesign the best Animal Sanctuary while playing 5 rounds. \nEach round\, players will draw 3 cards\, place one\, and pass the rest (simple drafting phase). Each card is composed of 4 biomes\, each containing an animal. When you place a card\, you must cover AT LEAST one biome. The whole Sanctuary must not exceed 6 x 6. \nEach game will have a different pool of scoring objectives. Each round will only count some of the objectives chosen for the game\, so you’ll have to modify your sanctuary throughout the game in order to score the most points. \nAt the end of the 5 rounds\, the player who earned the most points becomes the winner!
URL:https://comicquest.org/event/board-game-demo-nimalia/
LOCATION:Comic Quest\, 23811 Bridger #111 CA 92630\, Lake Forest\, CA\, 92630\, United States
CATEGORIES:Demo,Event
ATTACH;FMTTYPE=image/png:https://comicquest.org/wp-content/uploads/2024/06/demo-nimalia-banner.png
END:VEVENT
BEGIN:VEVENT
DTSTART;TZID=Asia/Shanghai:20240608T110000
DTEND;TZID=Asia/Shanghai:20240608T140000
DTSTAMP:20260423T183229
CREATED:20240602T180206Z
LAST-MODIFIED:20240602T180206Z
UID:10000924-1717844400-1717855200@comicquest.org
SUMMARY:Board Game Demo - Jaipur
DESCRIPTION:FREE Demo: Jaipur \n  \nSaturday June 8. 11am – 2pm \nComic Quest is providing FREE demos of a fun board game. Learn in a couple of minutes\, it might be your next favorite game. \n  \nYou are one of the two most powerful traders in the city of Jaipur\, the capital of Rajasthan\, but that’s not enough for you because only the merchant with two “seals of excellence” will have the privilege of being invited to the Maharaja’s court. You are therefore going to have to do better than your direct competitor by buying\, exchanging\, and selling at better prices\, all while keeping an eye on both your camel herds. \nJaipur is a fast-paced card game\, a blend of tactics\, risk and luck. On your turn\, you can either take or sell cards. If you take cards\, you have to choose between taking all the camels\, taking one card from the market\, or swapping 2-5 cards between the market and your cards. \nIf you sell cards\, you get to sell only one type of good\, and you receive as many chips for that good as the number of cards you sold. The chips’ values decrease as the game progresses\, so you’d better hurry! On the other hand\, you receive increasingly high rewards for selling three\, four\, or five cards of the same good at a time\, so you’d better wait! \nYou can’t sell camels\, but they’re paramount for trading and they’re also worth a little something at the end of the round\, enough sometimes to secure the win\, so you have to use them smartly.
URL:https://comicquest.org/event/board-game-demo-jaipur/
LOCATION:Comic Quest\, 23811 Bridger #111 CA 92630\, Lake Forest\, CA\, 92630\, United States
CATEGORIES:Demo,Event
ATTACH;FMTTYPE=image/png:https://comicquest.org/wp-content/uploads/2024/06/jaipur-banner.png
END:VEVENT
BEGIN:VEVENT
DTSTART;TZID=Asia/Shanghai:20240601T110000
DTEND;TZID=Asia/Shanghai:20240601T140000
DTSTAMP:20260423T183229
CREATED:20240519T185122Z
LAST-MODIFIED:20240525T234525Z
UID:10000914-1717239600-1717250400@comicquest.org
SUMMARY:Board Game Demo - Arboretum
DESCRIPTION:FREE Demo: Arboretum \n  \nSaturday June 1. 11am – 2pm \nComic Quest is providing FREE demos of a fun board game. Learn in a couple of minutes\, it might be your next favorite game. \n  \nArboretum is a strategy card game for 2-4 players\, aged 10 and up\, that combines set collection\, tile-laying and hand management while playing in about 25 minutes. Players try to have the most points at the end of the game by creating beautiful garden paths for their visitors. \nThe deck has 80 cards in ten different colors\, with each color featuring a different species of tree; each color has cards numbered 1 through 8\, and the number of colors used depends on the number of players. Players start with a hand of seven cards. On each turn\, a player draws two cards (from the deck or one or more of the discard piles)\, lays a card on the table as part of her arboretum\, then discards a card to her personal discard pile. \nWhen the deck is exhausted\, players compare the cards that remain in their hands to determine who can score each color. For each color\, the player(s) with the highest value of cards in hand of that color scores for a path of trees in her arboretum that begins and ends with that color; a path is a orthogonally adjacent chain of cards with increasing values. For each card in a path that scores\, the player earns one point; if the path consists solely of trees of the color being scored\, the player scores two points per card. If a player doesn’t have the most value for a color\, she scores zero points for a path that begins and ends with that color. Whoever has the most points wins.
URL:https://comicquest.org/event/board-game-demo-skull/
LOCATION:Comic Quest\, 23811 Bridger #111 CA 92630\, Lake Forest\, CA\, 92630\, United States
CATEGORIES:Demo,Event
ATTACH;FMTTYPE=image/png:https://comicquest.org/wp-content/uploads/2024/05/arboretum_banner.png
END:VEVENT
BEGIN:VEVENT
DTSTART;TZID=Asia/Shanghai:20240518T110000
DTEND;TZID=Asia/Shanghai:20240518T140000
DTSTAMP:20260423T183229
CREATED:20240513T213609Z
LAST-MODIFIED:20240513T213609Z
UID:10000905-1716030000-1716040800@comicquest.org
SUMMARY:Board Game Demo - Goblin Vaults
DESCRIPTION:FREE Demo: Goblin Vault \nSaturday May 18. 11am – 2pm \nComic Quest is providing FREE demos of a fun board game. Learn in a couple of minutes\, it might be your next favorite game. \n  \nIn the dark corners of Kulbak Prison\, away from the prying eyes of the construct guards\, inmates play a game of Goblin Vaults in secret… \nGoblin Vaults is a strategy card game for 1-5 players featuring bidding\, card placement\, and scoring patterns. In the game\, you wager cards to win loot from the central cell block\, then stash that loot wisely in your vault\, earning gears based on the position of cards within that vault. You can also gain gears from scoring objectives that change each game. \nWith cunning and clever scheming\, make your bid to be feared amongst your peers! You’ll need wits and luck to play your cards right as you fill your vault and influence the warden in your favor. After nine rounds\, whoever has the most gears wins!
URL:https://comicquest.org/event/board-game-demo-goblin-vaults/
LOCATION:Comic Quest\, 23811 Bridger #111 CA 92630\, Lake Forest\, CA\, 92630\, United States
CATEGORIES:Demo,Event
ATTACH;FMTTYPE=image/png:https://comicquest.org/wp-content/uploads/2024/05/goblin-valuts-demo-banner.png
END:VEVENT
BEGIN:VEVENT
DTSTART;TZID=Asia/Shanghai:20240511T110000
DTEND;TZID=Asia/Shanghai:20240511T140000
DTSTAMP:20260423T183229
CREATED:20240507T163459Z
LAST-MODIFIED:20240507T163459Z
UID:10000901-1715425200-1715436000@comicquest.org
SUMMARY:Board Game Demo - Gonuts for Donuts!
DESCRIPTION:FREE Board Game Demo\n\n\nSaturday May 11. 11am to 2pm\n\n\nGonuts for Donuts!\n\n\n \n\n\nGo Nuts for Donuts is a fast-paced card game for the whole family with just a sprinkle of strategy. Outsmart your opponents and collect donuts hot out of the oven for points. But beware\, if two players go after the same donut\, then no one gets it!\n\n\n \n\n\nIn Go Nuts for Donuts\, players lay out donuts from the deck equal to the amount of players plus one. Each player has a number card for each donut that is out. Players all pick a donut they want by placing one of their number cards face down on the table. Players simultaneously reveal their number. If two or more players have matching numbers\, that donut is discarded and no one gets it. If you’re the only player that bid for the donut\, than you take it and place it face up in front of you. Collect sets\, unique and powerful donuts\, and pairs of donuts to maximize points.
URL:https://comicquest.org/event/board-game-demo-gonuts-for-donuts/
LOCATION:Comic Quest\, 23811 Bridger #111 CA 92630\, Lake Forest\, CA\, 92630\, United States
CATEGORIES:Demo,Event
ATTACH;FMTTYPE=image/png:https://comicquest.org/wp-content/uploads/2024/05/demo-banner-gonuts.png
END:VEVENT
BEGIN:VEVENT
DTSTART;TZID=Asia/Shanghai:20240420T110000
DTEND;TZID=Asia/Shanghai:20240420T140000
DTSTAMP:20260423T183229
CREATED:20240413T231830Z
LAST-MODIFIED:20240413T232729Z
UID:10000892-1713610800-1713621600@comicquest.org
SUMMARY:Board Game Demo - Sagrada
DESCRIPTION:FREE Demo: Sagrada \nSaturday April 20th. 11am – 2pm \nComic Quest is providing FREE demos of a fun board game. Learn in a couple of minutes\, it might be your next favorite game. \nDraft dice and use the tools-of-the-trade in Sagrada to carefully construct your stained glass window masterpiece. \nIn more detail\, each player builds a stained glass window by building up a grid of dice on their player board. Each board has some restrictions on which color or shade (value) of die can be placed there. Dice of the same shade or color may never be placed next to each other. Dice are drafted in player order\, with the start player rotating each round\, snaking back around after the last player drafts two dice. Scoring is variable per game based on achieving various patterns and varieties of placement…as well as bonus points for dark shades of a particular hidden goal color.
URL:https://comicquest.org/event/board-game-demo-sagrada/
LOCATION:Comic Quest\, 23811 Bridger #111 CA 92630\, Lake Forest\, CA\, 92630\, United States
CATEGORIES:Demo,Event
ATTACH;FMTTYPE=image/png:https://comicquest.org/wp-content/uploads/2024/04/sagrada_banner.png
END:VEVENT
BEGIN:VEVENT
DTSTART;TZID=Asia/Shanghai:20240413T110000
DTEND;TZID=Asia/Shanghai:20240413T140000
DTSTAMP:20260423T183229
CREATED:20240409T033424Z
LAST-MODIFIED:20240409T033424Z
UID:10000889-1713006000-1713016800@comicquest.org
SUMMARY:Board Game Demo - Lanterns
DESCRIPTION:Board Game Demo\n\n\n \n\n\n\n\nFREE Demo: Lanterns\n\n\nSaturday April 13th. 11am – 2pm\n\n\nComic Quest is providing FREE demos of a fun board game. Learn in a couple of minutes\, it might be your next favorite game.\n\n\n \n\n\nThe harvest is in\, and the artisans are hard at work preparing for the upcoming festival. Decorate the palace lake with floating lanterns and compete to become the most honored artisan when the festival begins.
URL:https://comicquest.org/event/board-game-demo-lanterns/
LOCATION:Comic Quest\, 23811 Bridger #111 CA 92630\, Lake Forest\, CA\, 92630\, United States
CATEGORIES:Demo,Event
ATTACH;FMTTYPE=image/png:https://comicquest.org/wp-content/uploads/2024/04/Lanterns_demo_pic.png
END:VEVENT
BEGIN:VEVENT
DTSTART;TZID=Asia/Shanghai:20240406T110000
DTEND;TZID=Asia/Shanghai:20240406T140000
DTSTAMP:20260423T183229
CREATED:20240402T154815Z
LAST-MODIFIED:20240402T154815Z
UID:10000882-1712401200-1712412000@comicquest.org
SUMMARY:Board Game Demo - Cat Lady
DESCRIPTION:Board Game Demo\n\n\n \n\n\n\nFREE Demo – Cat Lady \nSaturday April 6.  11am – 2m \nPlayers are cat ladies\, part of an elite group of people including Marie Antoinette and Ernest Hemingway. During the game\, you and your fellow cat ladies will draft cards three at a time\, collecting toys\, food\, catnip\, costumes\, and of course lovable cats. But watch out! Make sure you have enough food for all of your feline friends or your hungry cats will subtract points from your score. The player with the highest total victory points wins the game!
URL:https://comicquest.org/event/board-game-demo-cat-lady/
LOCATION:Comic Quest\, 23811 Bridger #111 CA 92630\, Lake Forest\, CA\, 92630\, United States
CATEGORIES:Demo,Event
ATTACH;FMTTYPE=image/png:https://comicquest.org/wp-content/uploads/2024/04/demo-cat-lady.png
END:VEVENT
BEGIN:VEVENT
DTSTART;TZID=Asia/Shanghai:20240330T110000
DTEND;TZID=Asia/Shanghai:20240330T140000
DTSTAMP:20260423T183229
CREATED:20240328T192712Z
LAST-MODIFIED:20240328T213216Z
UID:10000865-1711796400-1711807200@comicquest.org
SUMMARY:Board Game Demo - Canopy
DESCRIPTION:Board Game Demo\n\n\n \n\n\nStarting this Saturday 3/30 we’ll be doing quick demos on a featured game. Got 5 min or less? Come on in and check out a new game. Sale on the featured game as well!\n\n\n11am to 2pm Saturdays\n\n\n20% off Featured Game. \n\n\n*3/30 game demo – Canopy. A quick strategic beautiful game for 2 to 4 players. (even a solo option). \n\n\nCanopy: 1-4 players compete to grow the most bountiful rainforest. The jungle ecosystem is full of symbiosis\, and players must grow tall trees and lush jungle plants to attract the most diverse wildlife. By carefully selecting what grows in your forest you can create the ideal balance of flora and fauna and give rise to a thriving ecosystem.
URL:https://comicquest.org/event/board-game-demo-canap/
LOCATION:Comic Quest\, 23811 Bridger #111 CA 92630\, Lake Forest\, CA\, 92630\, United States
CATEGORIES:Demo,Event
ATTACH;FMTTYPE=image/jpeg:https://comicquest.org/wp-content/uploads/2024/03/Canapy-Demo.jpg
END:VEVENT
END:VCALENDAR