BEGIN:VCALENDAR
VERSION:2.0
PRODID:-//Comic Quest - ECPv6.15.20//NONSGML v1.0//EN
CALSCALE:GREGORIAN
METHOD:PUBLISH
X-WR-CALNAME:Comic Quest
X-ORIGINAL-URL:https://comicquest.org
X-WR-CALDESC:Events for Comic Quest
REFRESH-INTERVAL;VALUE=DURATION:PT1H
X-Robots-Tag:noindex
X-PUBLISHED-TTL:PT1H
BEGIN:VTIMEZONE
TZID:Asia/Shanghai
BEGIN:STANDARD
TZOFFSETFROM:+0800
TZOFFSETTO:+0800
TZNAME:CST
DTSTART:20250101T000000
END:STANDARD
END:VTIMEZONE
BEGIN:VEVENT
DTSTART;VALUE=DATE:20260307
DTEND;VALUE=DATE:20260308
DTSTAMP:20260423T124837
CREATED:20260215T222511Z
LAST-MODIFIED:20260302T163714Z
UID:10004276-1772841600-1772927999@comicquest.org
SUMMARY:Games Workshop Preorders
DESCRIPTION:OSSIARCH BONEREAPERS: HERALDS/BONE-TITHE           $94 \nSPEARHEAD:O/BONEREAPERS:KAVALOS VANGUARD     $150 \nO/B: LIEGE-KAVALOS ON WAR CHARIOT    $77 \nOSSIARCH BONEREAPERS: MORTIS REAPERS       $60 \nOSSIARCH BONEREAPERS: MORTEK TRIAXES       $65 \nOSSIARCH BONEREAPERS: LIEGE-MORTEK            $37 \nBATTLETOME: OSSIARCH BONEREAPERS $60 \nWARSCROLL CARDS:OSSIARCH BONEREAPERS $35 \nAGE OF SIGMAR: OSSIARCH BONEREAPERS DICE              $34 \nWARHAMMER UNDERWORLDS: THANATEK’S TITHE          $48 \nWHU RIVALS DECK: NEXUS OF POWER      $28 \n \nCHAOS S/M: RED CORSAIRS REAVE-CAPTAIN        $43.50 \nAELDARI: CORSAIR VOIDREAVERS $65.00 \nCHAOS SPACE MARINES:RED CORSAIRS RAIDERS            $65.00 \nAELDARI: CORSAIR SKYREAVERS    $60.00 \nCOMBAT PATROL: NIGHT LORDS     $170.00 \nTYRANIDS: TYRANID PRIME WITH LASH WHIP        $43.50 \nCOMBAT PATROL: RED CORSAIRS  $170.00 \nCOMBAT PATROL: AELDARI CORSAIRS        $170.00 \nAELDARI: KHARSETH                $43.50 \nAELDARI: PRINCE YRIEL         $47.00 \nAELDARI: VYPER          $65.00 \nCOMBAT PATROL: KROOT     $170.00 \nT’AU EMPIRE: THE TWIN LANCE        $111.00 \nLEAGUES OF VOTANN: BEREHK STORNBRÖW       $47.00 \nCSM: RED CORSAIRS UPGRADES & TRANSFERS  $35.00 \nCHAOS SPACE MARINES: RED CORSAIRS DICE    $34.00 \nAELDARI: CORSAIRS DICE    $34.00 \nCARCHARADONS: VOID EXILE (PB)               $17.99
URL:https://comicquest.org/event/games-workshop-preorders-113/
LOCATION:Comic Quest\, 23811 Bridger #111 CA 92630\, Lake Forest\, CA\, 92630\, United States
CATEGORIES:Games Workshop Preorders
ATTACH;FMTTYPE=image/png:https://comicquest.org/wp-content/uploads/2024/01/GW_peorder_logo.png
END:VEVENT
BEGIN:VEVENT
DTSTART;VALUE=DATE:20260314
DTEND;VALUE=DATE:20260315
DTSTAMP:20260423T124838
CREATED:20260222T193605Z
LAST-MODIFIED:20260308T215541Z
UID:10004278-1773446400-1773532799@comicquest.org
SUMMARY:Games Workshop Preorders
DESCRIPTION:GRAND CATHAY:DEFENDERS O/T GREAT BASTION             $215.00 \nA/JOURNAL:BREACHING OF THE GREAT BASTION              $29.00 \nMECH: SKITARII BATTLE-PILGRYM CORPUS              $90.00 \nMECHANICUM: VULTARAX STRATOS-AUTOMATA $82.00 \nSKITARII: BATTLE-PILGRYM MARSHAL           $40.00 \nMECHANICUM: MYRMIDON DESTRUCTOR HOST $77.00 \n \nBLOOD BOWL: HIGH ELF BLOOD BOWL TEAM      $56 \nBLOOD BOWL: HIGH ELF TEAM DICE SET  $21 \nBLOOD BOWL: SPIKE! ISSUE 21       $16 \nBLOOD BOWL:HIGH ELF TEAM REFERENCE CARDS          $21 \nBLOOD BOWL: HIGH ELF PITCH       $60 \nFAITH AND FIRE: ANNIVERSARY EDITION (HB)       $35 \nGROMBRINDAL: LEGEND OF THE WHITE DWARF $30 \nTHE INFINITE AND THE DIVINE (ILLUS. HB)               $40 \nCHEM DOG (HB)         $30 \nTHE GREEN TIDE OMNIBUS (PB)      $21 \nTHE HORUS HERESY SAGA: HORUS RISING (HB) $35 \nGHAZGHKULL THRAKA:WARLORD OF WARLORDS HB     $35 \nDEATHWATCH (PB)    $18 \nGRUDGE BEARER (PB)            $18
URL:https://comicquest.org/event/games-workshop-preorders-114/
LOCATION:Comic Quest\, 23811 Bridger #111 CA 92630\, Lake Forest\, CA\, 92630\, United States
CATEGORIES:Games Workshop Preorders
ATTACH;FMTTYPE=image/png:https://comicquest.org/wp-content/uploads/2024/01/GW_peorder_logo.png
END:VEVENT
BEGIN:VEVENT
DTSTART;VALUE=DATE:20260321
DTEND;VALUE=DATE:20260322
DTSTAMP:20260423T124838
CREATED:20260302T163621Z
LAST-MODIFIED:20260315T220147Z
UID:10004279-1774051200-1774137599@comicquest.org
SUMMARY:Games Workshop Preorders
DESCRIPTION:CHAOS S/M: RED CORSAIRS REAVE-CAPTAIN        $43.50 \nAELDARI: CORSAIR VOIDREAVERS $65.00 \nCHAOS SPACE MARINES:RED CORSAIRS RAIDERS            $65.00 \nAELDARI: CORSAIR SKYREAVERS    $60.00 \nCOMBAT PATROL: NIGHT LORDS     $170.00 \nTYRANIDS: TYRANID PRIME WITH LASH WHIP        $43.50 \nCOMBAT PATROL: RED CORSAIRS  $170.00 \nCOMBAT PATROL: AELDARI CORSAIRS        $170.00 \nAELDARI: KHARSETH                $43.50 \nAELDARI: PRINCE YRIEL         $47.00 \nAELDARI: VYPER          $65.00 \nCOMBAT PATROL: KROOT     $170.00 \nT’AU EMPIRE: THE TWIN LANCE        $111.00 \nLEAGUES OF VOTANN: BEREHK STORNBRÖW       $47.00 \nCSM: RED CORSAIRS UPGRADES & TRANSFERS  $35.00 \nCHAOS SPACE MARINES: RED CORSAIRS DICE    $34.00 \nAELDARI: CORSAIRS DICE    $34.00 \nCARCHARADONS: VOID EXILE (PB)               $17.99 \n \nHORUS HERESY:LEGIO CUSTODES BATTLE GROUP           $255.00 \nHORUS HERESY: LIBER CUSTODES                $53.00 \nJOURNAL TACTICA: MAILED FIST      $29.00 \nL/A: GLAIVE SUPER-HEAVY SPEC. WPNS TANK      $210.00
URL:https://comicquest.org/event/games-workshop-preorders-115/
LOCATION:Comic Quest\, 23811 Bridger #111 CA 92630\, Lake Forest\, CA\, 92630\, United States
CATEGORIES:Games Workshop Preorders
ATTACH;FMTTYPE=image/png:https://comicquest.org/wp-content/uploads/2024/01/GW_peorder_logo.png
END:VEVENT
BEGIN:VEVENT
DTSTART;VALUE=DATE:20260328
DTEND;VALUE=DATE:20260329
DTSTAMP:20260423T124838
CREATED:20260308T215501Z
LAST-MODIFIED:20260322T224416Z
UID:10004281-1774656000-1774742399@comicquest.org
SUMMARY:Games Workshop Preorders
DESCRIPTION:BLOOD BOWL: HIGH ELF BLOOD BOWL TEAM      $56 \nBLOOD BOWL: HIGH ELF TEAM DICE SET  $21 \nBLOOD BOWL: SPIKE! ISSUE 21       $16 \nBLOOD BOWL:HIGH ELF TEAM REFERENCE CARDS          $21 \nBLOOD BOWL: HIGH ELF PITCH       $60 \nFAITH AND FIRE: ANNIVERSARY EDITION (HB)       $35 \nGROMBRINDAL: LEGEND OF THE WHITE DWARF $30 \nTHE INFINITE AND THE DIVINE (ILLUS. HB)               $40 \nCHEM DOG (HB)         $30 \nTHE GREEN TIDE OMNIBUS (PB)      $21 \nTHE HORUS HERESY SAGA: HORUS RISING (HB) $35 \nGHAZGHKULL THRAKA:WARLORD OF WARLORDS HB     $35 \nDEATHWATCH (PB)    $18 \nGRUDGE BEARER (PB)            $18 \n \nSYLVANETH: STRONGROOT GROVE               $250.00 \nSYLVANETH: GROVE GUARDIAN       $73.50 \nDAUGHTERS OF KHAINE: SCATHBORN COVEN    $250.00 \nSPEARHEAD: KHAINITE SHADOW COVEN $150.00 \nDAUGHTERS OF KHAINE: THE CRIMSON LASH      $77.00 \nDAUGHTERS OF KHAINE: BLOOD HAGS     $60.00 \nSPEARHEAD: SPITEWING FLIGHT    $150.00 \nSYLVANETH: THE TWISTED BRANCH             $77.00 \nBATTLETOME: SYLVANETH    $60.00 \nBATTLETOME: DAUGHTERS OF KHAINE       $60.00 \nWARSCROLL CARDS: SYLVANETH  $35.00 \nWARSCROLL CARDS: DAUGHTERS OF KHAINE     $35.00 \nAGE OF SIGMAR: SYLVANETH DICE                $34.00 \nAGE OF SIGMAR: DAUGHTERS OF KHAINE DICE   $34.00 \nDAUGHTERS/KHAINE: SHRINE OF DARK TRIBUTE               $69.00 \nSHADE OF KHAINE (PB)          $17.99 \nQUEEN OF THE ROSE THRONE (PB)               $17.99
URL:https://comicquest.org/event/games-workshop-preorders-116/
LOCATION:Comic Quest\, 23811 Bridger #111 CA 92630\, Lake Forest\, CA\, 92630\, United States
CATEGORIES:Games Workshop Preorders
ATTACH;FMTTYPE=image/png:https://comicquest.org/wp-content/uploads/2024/01/GW_peorder_logo.png
END:VEVENT
END:VCALENDAR