BEGIN:VCALENDAR
VERSION:2.0
PRODID:-//Comic Quest - ECPv6.15.20//NONSGML v1.0//EN
CALSCALE:GREGORIAN
METHOD:PUBLISH
X-WR-CALNAME:Comic Quest
X-ORIGINAL-URL:https://comicquest.org
X-WR-CALDESC:Events for Comic Quest
REFRESH-INTERVAL;VALUE=DURATION:PT1H
X-Robots-Tag:noindex
X-PUBLISHED-TTL:PT1H
BEGIN:VTIMEZONE
TZID:Asia/Shanghai
BEGIN:STANDARD
TZOFFSETFROM:+0800
TZOFFSETTO:+0800
TZNAME:CST
DTSTART:20250101T000000
END:STANDARD
END:VTIMEZONE
BEGIN:VEVENT
DTSTART;VALUE=DATE:20260103
DTEND;VALUE=DATE:20260104
DTSTAMP:20260425T204847
CREATED:20251229T003327Z
LAST-MODIFIED:20251229T003327Z
UID:10003797-1767398400-1767484799@comicquest.org
SUMMARY:Games Workshop Preorders
DESCRIPTION:MAGGOTKIN OF NURGLE:FESTUS THE LEECHLORD         $94.00 \nSPEARHEAD: H/HASHUT: HELFORGE HOST            $150.00 \nSPEARHEAD: MAGGOTKIN/NURGLE:BUBONIC CELL        $150.00 \nMAGGOTKIN OF NURGLE: ROTSWORDS    $65.00 \nMAGGOTKIN OF NURGLE: SLOVEN KNIGHTS          $69.00 \nMAGGOTKIN OF NURGLE: PUTRID BLIGHTKINGS $65.00 \nMAGGOTKIN OF NURGLE: PESTIGORS        $60.00 \nMAGGOTKIN OF NURGLE: THE PUSTULES $94.00 \nBATTLETOME: MAGGOTKIN OF NURGLE (ENG)      $60.00 \nWARSCROLLS: MAGGOTKIN OF NURGLE (ENG)   $35.00 \nAGE OF SIGMAR: MAGGOTKIN OF NURGLE DICE $34.00 \nGROMBRINDAL: ANCESTOR’S BURDEN (PB)           $17.99 \nGOTREK GURNISSON: VERMINSLAYER (PB)            $17.99
URL:https://comicquest.org/event/games-workshop-preorders-106/
LOCATION:Comic Quest\, 23811 Bridger #111 CA 92630\, Lake Forest\, CA\, 92630\, United States
CATEGORIES:Games Workshop Preorders
ATTACH;FMTTYPE=image/png:https://comicquest.org/wp-content/uploads/2024/01/GW_peorder_logo.png
END:VEVENT
END:VCALENDAR