BEGIN:VCALENDAR
VERSION:2.0
PRODID:-//Comic Quest - ECPv6.15.20//NONSGML v1.0//EN
CALSCALE:GREGORIAN
METHOD:PUBLISH
X-ORIGINAL-URL:https://comicquest.org
X-WR-CALDESC:Events for Comic Quest
REFRESH-INTERVAL;VALUE=DURATION:PT1H
X-Robots-Tag:noindex
X-PUBLISHED-TTL:PT1H
BEGIN:VTIMEZONE
TZID:Asia/Shanghai
BEGIN:STANDARD
TZOFFSETFROM:+0800
TZOFFSETTO:+0800
TZNAME:CST
DTSTART:20250101T000000
END:STANDARD
END:VTIMEZONE
BEGIN:VEVENT
DTSTART;VALUE=DATE:20260110
DTEND;VALUE=DATE:20260111
DTSTAMP:20260425T073850
CREATED:20251208T025217Z
LAST-MODIFIED:20260104T221616Z
UID:10003792-1768003200-1768089599@comicquest.org
SUMMARY:Games Workshop Preorders
DESCRIPTION:L/ASTARTES: SIEGE ASSAULT BATTLE GROUP         $215 \n \nCAPTAIN TITUS & THE WARDENS OF ULTRAMAR  $94.00 \nNECRONS: C’TAN SHARD OF THE NIGHTBRINGER             $130.00 \nNECRONS: NEKROSOR AMMENTAR              $65.00 \n500 WORLDS BATTALION: NECRONS           $170.00 \n500 WORLDS: TITUS (ENGLISH)        $80.00 \nNECRONS: DESTROYER CULT DICE               $34.00 \nFARSIGHT: BLADE OF TRUTH (PB)   $17.99 \nSOT: THE SHATTERED AND THE SOULLESS (PB)    $17.99 \nFULGRIM: THE PERFECT SON (PB)  $17.99 \nVAULTS OF TERRA: THE OMNIBUS (PB)        $21.00
URL:https://comicquest.org/event/games-workshop-preorders-103/
LOCATION:Comic Quest\, 23811 Bridger #111 CA 92630\, Lake Forest\, CA\, 92630\, United States
CATEGORIES:Games Workshop Preorders
ATTACH;FMTTYPE=image/png:https://comicquest.org/wp-content/uploads/2024/01/GW_peorder_logo.png
END:VEVENT
END:VCALENDAR