BEGIN:VCALENDAR
VERSION:2.0
PRODID:-//Comic Quest - ECPv6.15.20//NONSGML v1.0//EN
CALSCALE:GREGORIAN
METHOD:PUBLISH
X-WR-CALNAME:Comic Quest
X-ORIGINAL-URL:https://comicquest.org
X-WR-CALDESC:Events for Comic Quest
REFRESH-INTERVAL;VALUE=DURATION:PT1H
X-Robots-Tag:noindex
X-PUBLISHED-TTL:PT1H
BEGIN:VTIMEZONE
TZID:Asia/Shanghai
BEGIN:STANDARD
TZOFFSETFROM:+0800
TZOFFSETTO:+0800
TZNAME:CST
DTSTART:20250101T000000
END:STANDARD
END:VTIMEZONE
BEGIN:VEVENT
DTSTART;VALUE=DATE:20260207
DTEND;VALUE=DATE:20260208
DTSTAMP:20260423T154216
CREATED:20260119T015117Z
LAST-MODIFIED:20260201T222952Z
UID:10004224-1770422400-1770508799@comicquest.org
SUMMARY:Games Workshop Preorders
DESCRIPTION:KILL TEAM: SHADOWHUNT  $145 \nKILL TEAM: WOLF SCOUTS   $69 \nKILL TEAM: XV26 STEALTH BATTLESUITS     $69 \n \nBATTLETOME: LUMINETH REALMLORDS    $60.00 \nLUMINETH REALMLORDS: ILIATHAN WARHOST    $250.00 \nSPEARHEAD: HURAKAN VANGUARD             $150.00 \nLUMINETH REALM-LORDS: SIGIL CONVOCATION               $60.00 \nLUMINETH REALMLORDS: VANARI LORD REGENT               $43.50 \nWARSCROLL CARDS: LUMINETH REALMLORDS   $35.00 \nLUMINETH REALMLORDS DICE         $34.00 \nBATTLETOME: DISCIPLES OF TZEENTCH     $60.00 \nDISCIPLES/TZEENTCH: WARPFLAME CAVALCADE              $250.00 \nSPEARHEAD: TZAANGOR WARFLOCK          $150.00 \nDISCIPLES OF TZEENTCH: SEEKERS OF SILVER     $94.00 \nDISCIPLES OF TZEENTCH: ARGENT SHARDS           $65.00 \nDISCIPLES OF TZEENTCH: FATEMASTER    $40.00 \nWARSCROLL CARDS: DISCIPLES TZEENTCH           $35.00 \nDISCIPLES OF TZEENTCH DICE         $34.00 \nFIRST MARSHAL (HB)               $30.00 \nTHE WITCH HUNTER’S HANDBOOK               $40.00
URL:https://comicquest.org/event/games-workshop-preorders-109/
LOCATION:Comic Quest\, 23811 Bridger #111 CA 92630\, Lake Forest\, CA\, 92630\, United States
CATEGORIES:Games Workshop Preorders
ATTACH;FMTTYPE=image/png:https://comicquest.org/wp-content/uploads/2024/01/GW_peorder_logo.png
END:VEVENT
END:VCALENDAR