BEGIN:VCALENDAR
VERSION:2.0
PRODID:-//Comic Quest - ECPv6.15.20//NONSGML v1.0//EN
CALSCALE:GREGORIAN
METHOD:PUBLISH
X-ORIGINAL-URL:https://comicquest.org
X-WR-CALDESC:Events for Comic Quest
REFRESH-INTERVAL;VALUE=DURATION:PT1H
X-Robots-Tag:noindex
X-PUBLISHED-TTL:PT1H
BEGIN:VTIMEZONE
TZID:Asia/Shanghai
BEGIN:STANDARD
TZOFFSETFROM:+0800
TZOFFSETTO:+0800
TZNAME:CST
DTSTART:20250101T000000
END:STANDARD
END:VTIMEZONE
BEGIN:VEVENT
DTSTART;VALUE=DATE:20260321
DTEND;VALUE=DATE:20260322
DTSTAMP:20260423T141427
CREATED:20260302T163621Z
LAST-MODIFIED:20260315T220147Z
UID:10004279-1774051200-1774137599@comicquest.org
SUMMARY:Games Workshop Preorders
DESCRIPTION:CHAOS S/M: RED CORSAIRS REAVE-CAPTAIN        $43.50 \nAELDARI: CORSAIR VOIDREAVERS $65.00 \nCHAOS SPACE MARINES:RED CORSAIRS RAIDERS            $65.00 \nAELDARI: CORSAIR SKYREAVERS    $60.00 \nCOMBAT PATROL: NIGHT LORDS     $170.00 \nTYRANIDS: TYRANID PRIME WITH LASH WHIP        $43.50 \nCOMBAT PATROL: RED CORSAIRS  $170.00 \nCOMBAT PATROL: AELDARI CORSAIRS        $170.00 \nAELDARI: KHARSETH                $43.50 \nAELDARI: PRINCE YRIEL         $47.00 \nAELDARI: VYPER          $65.00 \nCOMBAT PATROL: KROOT     $170.00 \nT’AU EMPIRE: THE TWIN LANCE        $111.00 \nLEAGUES OF VOTANN: BEREHK STORNBRÖW       $47.00 \nCSM: RED CORSAIRS UPGRADES & TRANSFERS  $35.00 \nCHAOS SPACE MARINES: RED CORSAIRS DICE    $34.00 \nAELDARI: CORSAIRS DICE    $34.00 \nCARCHARADONS: VOID EXILE (PB)               $17.99 \n \nHORUS HERESY:LEGIO CUSTODES BATTLE GROUP           $255.00 \nHORUS HERESY: LIBER CUSTODES                $53.00 \nJOURNAL TACTICA: MAILED FIST      $29.00 \nL/A: GLAIVE SUPER-HEAVY SPEC. WPNS TANK      $210.00
URL:https://comicquest.org/event/games-workshop-preorders-115/
LOCATION:Comic Quest\, 23811 Bridger #111 CA 92630\, Lake Forest\, CA\, 92630\, United States
CATEGORIES:Games Workshop Preorders
ATTACH;FMTTYPE=image/png:https://comicquest.org/wp-content/uploads/2024/01/GW_peorder_logo.png
END:VEVENT
END:VCALENDAR