BEGIN:VCALENDAR
VERSION:2.0
PRODID:-//Comic Quest - ECPv6.15.20//NONSGML v1.0//EN
CALSCALE:GREGORIAN
METHOD:PUBLISH
X-WR-CALNAME:Comic Quest
X-ORIGINAL-URL:https://comicquest.org
X-WR-CALDESC:Events for Comic Quest
REFRESH-INTERVAL;VALUE=DURATION:PT1H
X-Robots-Tag:noindex
X-PUBLISHED-TTL:PT1H
BEGIN:VTIMEZONE
TZID:Asia/Shanghai
BEGIN:STANDARD
TZOFFSETFROM:+0800
TZOFFSETTO:+0800
TZNAME:CST
DTSTART:20250101T000000
END:STANDARD
END:VTIMEZONE
BEGIN:VEVENT
DTSTART;VALUE=DATE:20260411
DTEND;VALUE=DATE:20260412
DTSTAMP:20260423T124850
CREATED:20260322T224120Z
LAST-MODIFIED:20260405T214237Z
UID:10004298-1775865600-1775951999@comicquest.org
SUMMARY:Games Workshop Preorders
DESCRIPTION:SYLVANETH: STRONGROOT GROVE               $250.00 \nSYLVANETH: GROVE GUARDIAN       $73.50 \nDAUGHTERS OF KHAINE: SCATHBORN COVEN    $250.00 \nSPEARHEAD: KHAINITE SHADOW COVEN $150.00 \nDAUGHTERS OF KHAINE: THE CRIMSON LASH      $77.00 \nDAUGHTERS OF KHAINE: BLOOD HAGS     $60.00 \nSPEARHEAD: SPITEWING FLIGHT    $150.00 \nSYLVANETH: THE TWISTED BRANCH             $77.00 \nBATTLETOME: SYLVANETH    $60.00 \nBATTLETOME: DAUGHTERS OF KHAINE       $60.00 \nWARSCROLL CARDS: SYLVANETH  $35.00 \nWARSCROLL CARDS: DAUGHTERS OF KHAINE     $35.00 \nAGE OF SIGMAR: SYLVANETH DICE                $34.00 \nAGE OF SIGMAR: DAUGHTERS OF KHAINE DICE   $34.00 \nDAUGHTERS/KHAINE: SHRINE OF DARK TRIBUTE               $69.00 \nSHADE OF KHAINE (PB)          $17.99 \nQUEEN OF THE ROSE THRONE (PB)               $17.99 \n \nLEGIO CUSTODES: CORONUS GRAV-CARRIER     $127.00 \nLEGIO CUSTODES: CALADIUS GRAV-TANK               $100.00 \nL/C: CALADIUS GRAV-TANK ANNIHILATOR                $100.00 \nLEGIO CUSTODES: CUSTODIAN GUARD SODALITY            $73.50 \nLEGIO CUSTODES: VENATARI SODALITY    $82.00 \nLEGIO CUSTODES: SHIELD CAPTAIN             $43.50 \nLEGIO CUSTODES: SENTINEL GUARD SODALITY  $73.50 \nLEGIO CUSTODES: CUSTODIAN DREADNOUGHT                $77.00 \nZARDU LAYEK THE CRIMSON APOSTLE (HB)            $21.00
URL:https://comicquest.org/event/games-workshop-preorders-118/
LOCATION:Comic Quest\, 23811 Bridger #111 CA 92630\, Lake Forest\, CA\, 92630\, United States
CATEGORIES:Games Workshop Preorders
ATTACH;FMTTYPE=image/png:https://comicquest.org/wp-content/uploads/2024/01/GW_peorder_logo.png
END:VEVENT
END:VCALENDAR