BEGIN:VCALENDAR
VERSION:2.0
PRODID:-//Comic Quest - ECPv6.15.20//NONSGML v1.0//EN
CALSCALE:GREGORIAN
METHOD:PUBLISH
X-WR-CALNAME:Comic Quest
X-ORIGINAL-URL:https://comicquest.org
X-WR-CALDESC:Events for Comic Quest
REFRESH-INTERVAL;VALUE=DURATION:PT1H
X-Robots-Tag:noindex
X-PUBLISHED-TTL:PT1H
BEGIN:VTIMEZONE
TZID:Asia/Shanghai
BEGIN:STANDARD
TZOFFSETFROM:+0800
TZOFFSETTO:+0800
TZNAME:CST
DTSTART:20250101T000000
END:STANDARD
END:VTIMEZONE
BEGIN:VEVENT
DTSTART;VALUE=DATE:20260502
DTEND;VALUE=DATE:20260503
DTSTAMP:20260423T124422
CREATED:20260412T234607Z
LAST-MODIFIED:20260412T234607Z
UID:10004307-1777680000-1777766399@comicquest.org
SUMMARY:Games Workshop Preorders
DESCRIPTION:OSSIARCH BONEREAPERS:NULL MYRIAD PHALANX         $250.00 \nSPEARHEAD: CITY OF ASH   $220.00
URL:https://comicquest.org/event/games-workshop-preorders-121/
LOCATION:Comic Quest\, 23811 Bridger #111 CA 92630\, Lake Forest\, CA\, 92630\, United States
CATEGORIES:Games Workshop Preorders
ATTACH;FMTTYPE=image/png:https://comicquest.org/wp-content/uploads/2024/01/GW_peorder_logo.png
END:VEVENT
END:VCALENDAR