BEGIN:VCALENDAR
VERSION:2.0
PRODID:-//Comic Quest - ECPv6.15.20//NONSGML v1.0//EN
CALSCALE:GREGORIAN
METHOD:PUBLISH
X-ORIGINAL-URL:https://comicquest.org
X-WR-CALDESC:Events for Comic Quest
REFRESH-INTERVAL;VALUE=DURATION:PT1H
X-Robots-Tag:noindex
X-PUBLISHED-TTL:PT1H
BEGIN:VTIMEZONE
TZID:Asia/Shanghai
BEGIN:STANDARD
TZOFFSETFROM:+0800
TZOFFSETTO:+0800
TZNAME:CST
DTSTART:20250101T000000
END:STANDARD
END:VTIMEZONE
BEGIN:VEVENT
DTSTART;TZID=Asia/Shanghai:20260626T103000
DTEND;TZID=Asia/Shanghai:20260626T180000
DTSTAMP:20260423T135515
CREATED:20260421T004415Z
LAST-MODIFIED:20260421T004816Z
UID:10004319-1782469800-1782496800@comicquest.org
SUMMARY:Gundam Release - ST10 & EB01
DESCRIPTION:ST10 & EB01 \n \nA collaboration product between the app game “SD Gundam G Generation Eternal” and “GUNDAM CARD GAME” has arrived.\nCollaboration Starter Deck for “SD Gundam G Generation Eternal” is here!\nPilots and SD-style mobile suits from various Gundam series join the game.\nBooster pack “Eternal Nexus[EB01]” drops at the same time.
URL:https://comicquest.org/event/gundam-release-st10-eb01/
LOCATION:Comic Quest\, 23811 Bridger #111 CA 92630\, Lake Forest\, CA\, 92630\, United States
CATEGORIES:Event,Gundam
ATTACH;FMTTYPE=image/png:https://comicquest.org/wp-content/uploads/2025/12/gunam-logo.png
END:VEVENT
END:VCALENDAR