BEGIN:VCALENDAR
VERSION:2.0
PRODID:-//Comic Quest - ECPv6.15.20//NONSGML v1.0//EN
CALSCALE:GREGORIAN
METHOD:PUBLISH
X-WR-CALNAME:Comic Quest
X-ORIGINAL-URL:https://comicquest.org
X-WR-CALDESC:Events for Comic Quest
REFRESH-INTERVAL;VALUE=DURATION:PT1H
X-Robots-Tag:noindex
X-PUBLISHED-TTL:PT1H
BEGIN:VTIMEZONE
TZID:Asia/Shanghai
BEGIN:STANDARD
TZOFFSETFROM:+0800
TZOFFSETTO:+0800
TZNAME:CST
DTSTART:20250101T000000
END:STANDARD
END:VTIMEZONE
BEGIN:VEVENT
DTSTART;TZID=Asia/Shanghai:20260724T103000
DTEND;TZID=Asia/Shanghai:20260724T180000
DTSTAMP:20260423T151653
CREATED:20260419T194507Z
LAST-MODIFIED:20260419T195330Z
UID:10004312-1784889000-1784916000@comicquest.org
SUMMARY:Gundam Release - G005
DESCRIPTION:G005 \n \n“Mobile Fighter G Gundam” joins the game!\nStrike Freedom Gundam from “Mobile Suit Gundam SEED Destiny” arrives.\n“Mobile Suit Gundam Wing: Endless Waltz” joins the game!\n“Mobile Suit Gundam Char’s Counterattack” joins the game!
URL:https://comicquest.org/event/gundam-release-st10-and-eb01/
LOCATION:Comic Quest\, 23811 Bridger #111 CA 92630\, Lake Forest\, CA\, 92630\, United States
CATEGORIES:Event,Gundam
ATTACH;FMTTYPE=image/png:https://comicquest.org/wp-content/uploads/2025/12/gunam-logo.png
END:VEVENT
END:VCALENDAR