BEGIN:VCALENDAR
VERSION:2.0
PRODID:-//Comic Quest - ECPv6.15.20//NONSGML v1.0//EN
CALSCALE:GREGORIAN
METHOD:PUBLISH
X-WR-CALNAME:Comic Quest
X-ORIGINAL-URL:https://comicquest.org
X-WR-CALDESC:Events for Comic Quest
REFRESH-INTERVAL;VALUE=DURATION:PT1H
X-Robots-Tag:noindex
X-PUBLISHED-TTL:PT1H
BEGIN:VTIMEZONE
TZID:Asia/Shanghai
BEGIN:STANDARD
TZOFFSETFROM:+0800
TZOFFSETTO:+0800
TZNAME:CST
DTSTART:20250101T000000
END:STANDARD
END:VTIMEZONE
BEGIN:VEVENT
DTSTART;TZID=Asia/Shanghai:20260130T103000
DTEND;TZID=Asia/Shanghai:20260130T180000
DTSTAMP:20260423T140822
CREATED:20251224T182322Z
LAST-MODIFIED:20260125T004826Z
UID:10003794-1769769000-1769796000@comicquest.org
SUMMARY:Gundam Release - Steel Requiem GD03
DESCRIPTION:Steel Requiem GD03 Booster Boxes \nBandai has released art and some details for the third Gundam Card Game booster set: Steel Requiem (GD03).  The set will include “Special Cards\,” reprints with new art\, plus powered-up cards from previously released series. \n  \nSteel Requiem features content from Mobile Suit Gundam: Iron-Blooded Orphans Urdr-Hunt\, which was originally released in the Iron-Blooded Orphans G mobile app and later adapted into a theatrical anime feature\, released earlier this year. \nSteel Requiem GD03 \nGundam Release Event: Mon 2/2 6:00pm check in. 6:30pm Deck Building. 7:00pm Round 1 \n\nThe set features 139+20 card types\, with 50 Common\, 36 Uncommon\, 34 Rare\, 12 Legend Rare\, 7 Special\, 10 Token\, and 10 Resource cards. \n 
URL:https://comicquest.org/event/gundam-release/
LOCATION:Comic Quest\, 23811 Bridger #111 CA 92630\, Lake Forest\, CA\, 92630\, United States
CATEGORIES:Event,Gundam
ATTACH;FMTTYPE=image/png:https://comicquest.org/wp-content/uploads/2025/12/gunam-logo.png
END:VEVENT
END:VCALENDAR