BEGIN:VCALENDAR
VERSION:2.0
PRODID:-//Comic Quest - ECPv6.15.20//NONSGML v1.0//EN
CALSCALE:GREGORIAN
METHOD:PUBLISH
X-ORIGINAL-URL:https://comicquest.org
X-WR-CALDESC:Events for Comic Quest
REFRESH-INTERVAL;VALUE=DURATION:PT1H
X-Robots-Tag:noindex
X-PUBLISHED-TTL:PT1H
BEGIN:VTIMEZONE
TZID:Asia/Shanghai
BEGIN:STANDARD
TZOFFSETFROM:+0800
TZOFFSETTO:+0800
TZNAME:CST
DTSTART:20240101T000000
END:STANDARD
END:VTIMEZONE
BEGIN:VEVENT
DTSTART;VALUE=DATE:20250520
DTEND;VALUE=DATE:20250521
DTSTAMP:20260424T003550
CREATED:20240828T072144Z
LAST-MODIFIED:20240828T072144Z
UID:10001135-1747699200-1747785599@comicquest.org
SUMMARY:Eliza Doolittle Day
DESCRIPTION:  \n  \n \n  \nEliza Doolittle Day is celebrated on May 20th\, based on a line from the song “Just You Wait” in the 1956 Broadway musical My Fair Lady. In the song\, the character Eliza Doolittle\, a Cockney flower girl\, imagines the king saying “Next week on the twentieth of May\, I proclaim Liza Doolittle Day”
URL:https://comicquest.org/event/eliza-doolittle-day-2/
LOCATION:Comic Quest\, 23811 Bridger #111 CA 92630\, Lake Forest\, CA\, 92630\, United States
CATEGORIES:Holiday
ATTACH;FMTTYPE=image/jpeg:https://comicquest.org/wp-content/uploads/2024/05/eliza-doolitle-day.jpg
END:VEVENT
BEGIN:VEVENT
DTSTART;VALUE=DATE:20250526
DTEND;VALUE=DATE:20250527
DTSTAMP:20260424T003550
CREATED:20240828T072409Z
LAST-MODIFIED:20240828T072409Z
UID:10001137-1748217600-1748303999@comicquest.org
SUMMARY:Memorial Day
DESCRIPTION:  \n 
URL:https://comicquest.org/event/memorial-day-4/
LOCATION:Comic Quest\, 23811 Bridger #111 CA 92630\, Lake Forest\, CA\, 92630\, United States
CATEGORIES:Holiday
ATTACH;FMTTYPE=image/gif:https://comicquest.org/wp-content/uploads/2023/03/memorial_day_stars_lg_nwm1.gif
END:VEVENT
END:VCALENDAR