BEGIN:VCALENDAR
VERSION:2.0
PRODID:-//Comic Quest - ECPv6.15.20//NONSGML v1.0//EN
CALSCALE:GREGORIAN
METHOD:PUBLISH
X-WR-CALNAME:Comic Quest
X-ORIGINAL-URL:https://comicquest.org
X-WR-CALDESC:Events for Comic Quest
REFRESH-INTERVAL;VALUE=DURATION:PT1H
X-Robots-Tag:noindex
X-PUBLISHED-TTL:PT1H
BEGIN:VTIMEZONE
TZID:Asia/Shanghai
BEGIN:STANDARD
TZOFFSETFROM:+0800
TZOFFSETTO:+0800
TZNAME:CST
DTSTART:20230101T000000
END:STANDARD
END:VTIMEZONE
BEGIN:VTIMEZONE
TZID:America/Los_Angeles
BEGIN:DAYLIGHT
TZOFFSETFROM:-0800
TZOFFSETTO:-0700
TZNAME:PDT
DTSTART:20250309T100000
END:DAYLIGHT
BEGIN:STANDARD
TZOFFSETFROM:-0700
TZOFFSETTO:-0800
TZNAME:PST
DTSTART:20251102T090000
END:STANDARD
BEGIN:DAYLIGHT
TZOFFSETFROM:-0800
TZOFFSETTO:-0700
TZNAME:PDT
DTSTART:20260308T100000
END:DAYLIGHT
BEGIN:STANDARD
TZOFFSETFROM:-0700
TZOFFSETTO:-0800
TZNAME:PST
DTSTART:20261101T090000
END:STANDARD
BEGIN:DAYLIGHT
TZOFFSETFROM:-0800
TZOFFSETTO:-0700
TZNAME:PDT
DTSTART:20270314T100000
END:DAYLIGHT
BEGIN:STANDARD
TZOFFSETFROM:-0700
TZOFFSETTO:-0800
TZNAME:PST
DTSTART:20271107T090000
END:STANDARD
END:VTIMEZONE
BEGIN:VEVENT
DTSTART;VALUE=DATE:20260405
DTEND;VALUE=DATE:20260406
DTSTAMP:20260423T125259
CREATED:20250807T235717Z
LAST-MODIFIED:20260404T033337Z
UID:10003168-1775347200-1775433599@comicquest.org
SUMMARY:Easter
DESCRIPTION:‘Eggtastic‘ Easter Special! \nSun April 5 \nEvery purchase gets to open a mystery egg. \n\n Choose an egg.\n Open to reveal: Candy OR \n\nCandy AND a Discount!. \n\n Use your discount on your purchase!\n\n*The Egg will reveal. \nHAPPY 🐣 EASTER!
URL:https://comicquest.org/event/easter-5/
LOCATION:Comic Quest\, 23811 Bridger #111 CA 92630\, Lake Forest\, CA\, 92630\, United States
CATEGORIES:Holiday
ATTACH;FMTTYPE=image/gif:https://comicquest.org/wp-content/uploads/2023/03/bunny_girl_happy_easter_lg_nwm1.gif
END:VEVENT
BEGIN:VEVENT
DTSTART;VALUE=DATE:20260404
DTEND;VALUE=DATE:20260405
DTSTAMP:20260423T125259
CREATED:20250807T235218Z
LAST-MODIFIED:20250807T235218Z
UID:10003157-1775260800-1775347199@comicquest.org
SUMMARY:Fantastic Four Day (4/4)
DESCRIPTION:  \n \n4/4
URL:https://comicquest.org/event/fantastic-four-day-4-4-3/2026-04-04/
LOCATION:Comic Quest\, 23811 Bridger #111 CA 92630\, Lake Forest\, CA\, 92630\, United States
CATEGORIES:Holiday
ATTACH;FMTTYPE=image/jpeg:https://comicquest.org/wp-content/uploads/2024/04/4-4-day.jpg
END:VEVENT
BEGIN:VEVENT
DTSTART;VALUE=DATE:20260317
DTEND;VALUE=DATE:20260318
DTSTAMP:20260423T125259
CREATED:20250807T234909Z
LAST-MODIFIED:20260215T031119Z
UID:10003139-1773705600-1773791999@comicquest.org
SUMMARY:FREE St Patricks Day Dice
DESCRIPTION:  \nOur Holiday Treat to you.\nNo purchase necessary\, just stop by Comic Quest.\nKeeping the 10+ year tradition of giving away holiday dice.\nLimited edition. Supplies can run out.\nMarch 17 (St Patrick’s Day)
URL:https://comicquest.org/event/free-st-patricks-day-dice-4/2026-03-17/
LOCATION:Comic Quest\, 23811 Bridger #111 CA 92630\, Lake Forest\, CA\, 92630\, United States
CATEGORIES:Holiday
ATTACH;FMTTYPE=image/png:https://comicquest.org/wp-content/uploads/2025/08/st-patrick-2026-banner.png
END:VEVENT
BEGIN:VEVENT
DTSTART;VALUE=DATE:20260216
DTEND;VALUE=DATE:20260217
DTSTAMP:20260423T125259
CREATED:20260215T012923Z
LAST-MODIFIED:20260215T012923Z
UID:10004271-1771200000-1771286399@comicquest.org
SUMMARY:Presidents Day (Open)
DESCRIPTION:
URL:https://comicquest.org/event/presidents-day-open/2026-02-16/
CATEGORIES:Holiday
END:VEVENT
BEGIN:VEVENT
DTSTART;VALUE=DATE:20260214
DTEND;VALUE=DATE:20260215
DTSTAMP:20260423T125259
CREATED:20260211T041931Z
LAST-MODIFIED:20260211T041938Z
UID:10003097-1771027200-1771113599@comicquest.org
SUMMARY:St Valentines Day  - FREE DICE
DESCRIPTION: 
URL:https://comicquest.org/event/st-valentines-day-4-2/
LOCATION:Comic Quest\, 23811 Bridger #111 CA 92630\, Lake Forest\, CA\, 92630\, United States
CATEGORIES:Holiday
ATTACH;FMTTYPE=image/gif:https://comicquest.org/wp-content/uploads/2023/03/valent_day.gif
END:VEVENT
BEGIN:VEVENT
DTSTART;VALUE=DATE:20260101
DTEND;VALUE=DATE:20260102
DTSTAMP:20260423T125259
CREATED:20251230T223437Z
LAST-MODIFIED:20251230T223437Z
UID:10004084-1767225600-1767311999@comicquest.org
SUMMARY:New Years Day
DESCRIPTION:  \n 
URL:https://comicquest.org/event/new-years-day-4/2026-01-01/
LOCATION:Comic Quest\, 23811 Bridger #111 CA 92630\, Lake Forest\, CA\, 92630\, United States
CATEGORIES:Holiday
ATTACH;FMTTYPE=image/gif:https://comicquest.org/wp-content/uploads/2024/05/Happy-New-Year-gif.gif
END:VEVENT
BEGIN:VEVENT
DTSTART;VALUE=DATE:20251231
DTEND;VALUE=DATE:20260101
DTSTAMP:20260423T125259
CREATED:20251230T223344Z
LAST-MODIFIED:20251230T223344Z
UID:10004077-1767139200-1767225599@comicquest.org
SUMMARY:New Years Eve
DESCRIPTION:  \n 
URL:https://comicquest.org/event/new-years-eve-2/2025-12-31/
LOCATION:Comic Quest\, 23811 Bridger #111 CA 92630\, Lake Forest\, CA\, 92630\, United States
CATEGORIES:Holiday
ATTACH;FMTTYPE=image/gif:https://comicquest.org/wp-content/uploads/2024/05/new-years-eve.gif
END:VEVENT
BEGIN:VEVENT
DTSTART;VALUE=DATE:20251225
DTEND;VALUE=DATE:20251226
DTSTAMP:20260423T125259
CREATED:20241212T194420Z
LAST-MODIFIED:20251116T165225Z
UID:10001408-1766620800-1766707199@comicquest.org
SUMMARY:Christmas (Closed)
DESCRIPTION:We will Close Early on Tuesday December 24 for Christmas Eve \n\nHours: 10am to 5:00pm. Christmas Eve\n\nHappy Christmas and Merry Holidays to you and yours. \n\nWe are Closed on Christmas Day.\nBut we open REGULAR HOURS on Thurs Dec 26! FREE Holiday Dice!!\n\n2024 Holiday Hours
URL:https://comicquest.org/event/christmas-closed-3/
LOCATION:Comic Quest\, 23811 Bridger #111 CA 92630\, Lake Forest\, CA\, 92630\, United States
CATEGORIES:Holiday
ATTACH;FMTTYPE=image/gif:https://comicquest.org/wp-content/uploads/2023/03/santa_too_many_cookies.gif
END:VEVENT
BEGIN:VEVENT
DTSTART;VALUE=DATE:20251127
DTEND;VALUE=DATE:20251128
DTSTAMP:20260423T125259
CREATED:20241119T015638Z
LAST-MODIFIED:20260215T012221Z
UID:10001377-1764201600-1764287999@comicquest.org
SUMMARY:Thanksgiving (Closed)
DESCRIPTION:  \n 
URL:https://comicquest.org/event/thanksgiving-closed-3/2025-11-27/
LOCATION:Comic Quest\, 23811 Bridger #111 CA 92630\, Lake Forest\, CA\, 92630\, United States
CATEGORIES:Holiday
ATTACH;FMTTYPE=image/gif:https://comicquest.org/wp-content/uploads/2023/03/thanksgiving-animated-212394l.gif
END:VEVENT
BEGIN:VEVENT
DTSTART;TZID=Asia/Shanghai:20251118T120000
DTEND;TZID=Asia/Shanghai:20251118T150000
DTSTAMP:20260423T125259
CREATED:20251105T013851Z
LAST-MODIFIED:20251118T040301Z
UID:10003737-1763467200-1763478000@comicquest.org
SUMMARY:Lake Forest Gift Card new Phase starts
DESCRIPTION:New Batch of BOGO Cards. Expected Tuesday Nov 18th\n\n\n \n\n\nDouble your money to spend at Comic Quest!\n\n\nFor the same money\, you can get double the cool stuff.\n\n\nA new round of Lake Forest gift cards will begin\, don’t miss out before this round ends.\n\n\nGo to ” https://app.yiftee.com/gift-card/city-of-lake-forest-lake-forest”\n\n\n \n\n\nHow:\n\n\nThe city of Lake Forest is offering gift cards. You can use these gift cards at specific stores in Lake Forest.\n\n\nBuy a gift card and you get ANOTHER gift card of equal value for FREE. Basically doubling your money\, the wrinkle is that it has to be used only at select Lake Forest stores and restaurants. HINT: Comic Quest is one of those stores!\n\n\nThe city has a good supply\, but may run out at some point.\n\n\nDenominations in $50 and $100.\n\n\n \n\n\nDetails:\n\n\nGo to ” https://app.yiftee.com/gift-card/city-of-lake-forest-lake-forest”\n\n\nSelect the denominations ($50 or $100)\, and select ‘Buy egift cards’)\n\n\n \n\n\nNotes:\n\n\n• Bonus cards are usable for 6 Months.\n\n\n• Cards are only usable at participating stores and restaurants in Lake Forest (Includes Comic Quest)\n\n\n• You will receive a code via email that you can use like a credit card (at places like Comic Quest). Print and supply at purchase\, or read it from your phone at purchase.
URL:https://comicquest.org/event/lake-forest-gift-card-new-phase-starts/
LOCATION:Comic Quest\, 23811 Bridger #111 CA 92630\, Lake Forest\, CA\, 92630\, United States
CATEGORIES:Holiday
ATTACH;FMTTYPE=image/png:https://comicquest.org/wp-content/uploads/2023/11/Double-Your-Money-New-Round.png
END:VEVENT
BEGIN:VEVENT
DTSTART;VALUE=DATE:20250901
DTEND;VALUE=DATE:20250902
DTSTAMP:20260423T125259
CREATED:20241112T044253Z
LAST-MODIFIED:20250810T065441Z
UID:10001293-1756684800-1756771199@comicquest.org
SUMMARY:Labor Day Open Hours
DESCRIPTION:COMIC QUEST is OPEN on LABOR DAY.  *11:00am to 9:00pm * \nMon Sept 1 \n 
URL:https://comicquest.org/event/labor-day-open-hours/
LOCATION:Comic Quest\, 23811 Bridger #111 CA 92630\, Lake Forest\, CA\, 92630\, United States
CATEGORIES:Holiday
ATTACH;FMTTYPE=image/jpeg:https://comicquest.org/wp-content/uploads/2024/01/Labor-Day-Open-Regular-Hours-rev24-a.jpg
END:VEVENT
BEGIN:VEVENT
DTSTART;VALUE=DATE:20250619
DTEND;VALUE=DATE:20250620
DTSTAMP:20260423T125259
CREATED:20240831T023404Z
LAST-MODIFIED:20240831T023404Z
UID:10001164-1750291200-1750377599@comicquest.org
SUMMARY:Juneteenth
DESCRIPTION: 
URL:https://comicquest.org/event/juneteenth-2/
LOCATION:Comic Quest\, 23811 Bridger #111 CA 92630\, Lake Forest\, CA\, 92630\, United States
CATEGORIES:Holiday
ATTACH;FMTTYPE=image/jpeg:https://comicquest.org/wp-content/uploads/2024/05/juneteenth.jpg
END:VEVENT
BEGIN:VEVENT
DTSTART;VALUE=DATE:20250526
DTEND;VALUE=DATE:20250527
DTSTAMP:20260423T125259
CREATED:20240828T072409Z
LAST-MODIFIED:20240828T072409Z
UID:10001137-1748217600-1748303999@comicquest.org
SUMMARY:Memorial Day
DESCRIPTION:  \n 
URL:https://comicquest.org/event/memorial-day-4/
LOCATION:Comic Quest\, 23811 Bridger #111 CA 92630\, Lake Forest\, CA\, 92630\, United States
CATEGORIES:Holiday
ATTACH;FMTTYPE=image/gif:https://comicquest.org/wp-content/uploads/2023/03/memorial_day_stars_lg_nwm1.gif
END:VEVENT
BEGIN:VEVENT
DTSTART;VALUE=DATE:20250520
DTEND;VALUE=DATE:20250521
DTSTAMP:20260423T125259
CREATED:20240828T072144Z
LAST-MODIFIED:20240828T072144Z
UID:10001135-1747699200-1747785599@comicquest.org
SUMMARY:Eliza Doolittle Day
DESCRIPTION:  \n  \n \n  \nEliza Doolittle Day is celebrated on May 20th\, based on a line from the song “Just You Wait” in the 1956 Broadway musical My Fair Lady. In the song\, the character Eliza Doolittle\, a Cockney flower girl\, imagines the king saying “Next week on the twentieth of May\, I proclaim Liza Doolittle Day”
URL:https://comicquest.org/event/eliza-doolittle-day-2/
LOCATION:Comic Quest\, 23811 Bridger #111 CA 92630\, Lake Forest\, CA\, 92630\, United States
CATEGORIES:Holiday
ATTACH;FMTTYPE=image/jpeg:https://comicquest.org/wp-content/uploads/2024/05/eliza-doolitle-day.jpg
END:VEVENT
BEGIN:VEVENT
DTSTART;VALUE=DATE:20250420
DTEND;VALUE=DATE:20250421
DTSTAMP:20260423T125259
CREATED:20240828T022805Z
LAST-MODIFIED:20240828T022805Z
UID:10001074-1745107200-1745193599@comicquest.org
SUMMARY:Easter
DESCRIPTION:‘Eggtastic‘ Easter Special! \nSun April 20 \nEvery purchase gets to open a mystery egg. \n\n Choose an egg.\n Open to reveal: Candy OR \n\nCandy AND a Discount!. \n\n Use your discount on your purchase!\n\n*The Egg will reveal. \nHAPPY 🐣 EASTER!
URL:https://comicquest.org/event/easter-4/
LOCATION:Comic Quest\, 23811 Bridger #111 CA 92630\, Lake Forest\, CA\, 92630\, United States
CATEGORIES:Holiday
ATTACH;FMTTYPE=image/gif:https://comicquest.org/wp-content/uploads/2023/03/bunny_girl_happy_easter_lg_nwm1.gif
END:VEVENT
BEGIN:VEVENT
DTSTART;VALUE=DATE:20250404
DTEND;VALUE=DATE:20250405
DTSTAMP:20260423T125259
CREATED:20240828T071058Z
LAST-MODIFIED:20240828T071213Z
UID:10001127-1743724800-1743811199@comicquest.org
SUMMARY:Fantastic Four Day (4/4)
DESCRIPTION:  \n \n4/4
URL:https://comicquest.org/event/fantastic-four-day-4-4-2/
LOCATION:Comic Quest\, 23811 Bridger #111 CA 92630\, Lake Forest\, CA\, 92630\, United States
CATEGORIES:Holiday
ATTACH;FMTTYPE=image/jpeg:https://comicquest.org/wp-content/uploads/2024/04/4-4-day.jpg
END:VEVENT
BEGIN:VEVENT
DTSTART;VALUE=DATE:20250317
DTEND;VALUE=DATE:20250318
DTSTAMP:20260423T125259
CREATED:20240828T022622Z
LAST-MODIFIED:20250218T023342Z
UID:10001072-1742169600-1742255999@comicquest.org
SUMMARY:FREE St Patricks Day Dice
DESCRIPTION:  \nOur Holiday Treat to you.\nNo purchase necessary\, just stop by Comic Quest.\nKeeping the 10+ year tradition of giving away holiday dice.\nLimited edition. Supplies can run out.\nMonday March 17 (St Patrick’s Day)
URL:https://comicquest.org/event/free-st-patricks-day-dice-3/
LOCATION:Comic Quest\, 23811 Bridger #111 CA 92630\, Lake Forest\, CA\, 92630\, United States
CATEGORIES:Holiday
ATTACH;FMTTYPE=image/png:https://comicquest.org/wp-content/uploads/2024/08/st-patrick-dice-banner-2025.png
END:VEVENT
BEGIN:VEVENT
DTSTART;VALUE=DATE:20250214
DTEND;VALUE=DATE:20250215
DTSTAMP:20260423T125259
CREATED:20240828T021904Z
LAST-MODIFIED:20250124T045028Z
UID:10001065-1739491200-1739577599@comicquest.org
SUMMARY:St Valentines Day
DESCRIPTION: 
URL:https://comicquest.org/event/st-valentines-day-3/
LOCATION:Comic Quest\, 23811 Bridger #111 CA 92630\, Lake Forest\, CA\, 92630\, United States
CATEGORIES:Holiday
ATTACH;FMTTYPE=image/gif:https://comicquest.org/wp-content/uploads/2023/03/valent_day.gif
END:VEVENT
BEGIN:VEVENT
DTSTART;VALUE=DATE:20250101
DTEND;VALUE=DATE:20250102
DTSTAMP:20260423T125259
CREATED:20251230T223437Z
LAST-MODIFIED:20251230T223437Z
UID:10004083-1735689600-1735775999@comicquest.org
SUMMARY:New Years Day
DESCRIPTION:  \n 
URL:https://comicquest.org/event/new-years-day-4/2025-01-01/
LOCATION:Comic Quest\, 23811 Bridger #111 CA 92630\, Lake Forest\, CA\, 92630\, United States
CATEGORIES:Holiday
ATTACH;FMTTYPE=image/gif:https://comicquest.org/wp-content/uploads/2024/05/Happy-New-Year-gif.gif
END:VEVENT
BEGIN:VEVENT
DTSTART;VALUE=DATE:20250101
DTEND;VALUE=DATE:20250102
DTSTAMP:20260423T125259
CREATED:20240514T043156Z
LAST-MODIFIED:20240514T043156Z
UID:10000908-1735689600-1735775999@comicquest.org
SUMMARY:New Years Day
DESCRIPTION:  \n 
URL:https://comicquest.org/event/new-years-day-2/
LOCATION:Comic Quest\, 23811 Bridger #111 CA 92630\, Lake Forest\, CA\, 92630\, United States
CATEGORIES:Holiday
ATTACH;FMTTYPE=image/gif:https://comicquest.org/wp-content/uploads/2024/05/Happy-New-Year-gif.gif
END:VEVENT
BEGIN:VEVENT
DTSTART;VALUE=DATE:20241231
DTEND;VALUE=DATE:20250101
DTSTAMP:20260423T125259
CREATED:20240514T043004Z
LAST-MODIFIED:20240514T043004Z
UID:10000907-1735603200-1735689599@comicquest.org
SUMMARY:New Years Eve
DESCRIPTION:  \n 
URL:https://comicquest.org/event/new-years-eve/
LOCATION:Comic Quest\, 23811 Bridger #111 CA 92630\, Lake Forest\, CA\, 92630\, United States
CATEGORIES:Holiday
ATTACH;FMTTYPE=image/gif:https://comicquest.org/wp-content/uploads/2024/05/new-years-eve.gif
END:VEVENT
BEGIN:VEVENT
DTSTART;VALUE=DATE:20241225
DTEND;VALUE=DATE:20241226
DTSTAMP:20260423T125259
CREATED:20240130T070531Z
LAST-MODIFIED:20240514T043525Z
UID:10000785-1735084800-1735171199@comicquest.org
SUMMARY:Christmas (Closed)
DESCRIPTION:  \n 
URL:https://comicquest.org/event/christmas-closed-2/
LOCATION:Comic Quest\, 23811 Bridger #111 CA 92630\, Lake Forest\, CA\, 92630\, United States
CATEGORIES:Holiday
ATTACH;FMTTYPE=image/gif:https://comicquest.org/wp-content/uploads/2023/03/santa_too_many_cookies.gif
END:VEVENT
BEGIN:VEVENT
DTSTART;TZID=Asia/Shanghai:20241224T110000
DTEND;TZID=Asia/Shanghai:20241224T170000
DTSTAMP:20260423T125259
CREATED:20241220T020735Z
LAST-MODIFIED:20241220T020739Z
UID:10001430-1735038000-1735059600@comicquest.org
SUMMARY:Christmas Eve Hours
DESCRIPTION:We will Close Early on Tuesday December 24 for Christmas Eve \n\nHours: 11am to 5:00pm. Christmas Eve\n\nHappy Christmas and Merry Holidays to you and yours. \n\nWe are Closed on Christmas Day.\nBut we open REGULAR HOURS on Thurs Dec 26! FREE Holiday Dice!!\n\n2024 Holiday Hours \nFree Holiday Dice on Dec 26 Thursday
URL:https://comicquest.org/event/christmas-eve-hours/
LOCATION:Comic Quest\, 23811 Bridger #111 CA 92630\, Lake Forest\, CA\, 92630\, United States
CATEGORIES:Holiday
ATTACH;FMTTYPE=image/gif:https://comicquest.org/wp-content/uploads/2023/03/santa_too_many_cookies.gif
END:VEVENT
BEGIN:VEVENT
DTSTART;VALUE=DATE:20241128
DTEND;VALUE=DATE:20241129
DTSTAMP:20260423T125259
CREATED:20240130T065538Z
LAST-MODIFIED:20240514T043457Z
UID:10000781-1732752000-1732838399@comicquest.org
SUMMARY:Thanksgiving (Closed)
DESCRIPTION:  \n 
URL:https://comicquest.org/event/thanksgiving-closed-2/
LOCATION:Comic Quest\, 23811 Bridger #111 CA 92630\, Lake Forest\, CA\, 92630\, United States
CATEGORIES:Holiday
ATTACH;FMTTYPE=image/gif:https://comicquest.org/wp-content/uploads/2023/03/thanksgiving-animated-212394l.gif
END:VEVENT
BEGIN:VEVENT
DTSTART;VALUE=DATE:20240902
DTEND;VALUE=DATE:20240903
DTSTAMP:20260423T125259
CREATED:20240113T011804Z
LAST-MODIFIED:20240901T002251Z
UID:10000703-1725235200-1725321599@comicquest.org
SUMMARY:Labor Day Open Hours
DESCRIPTION:COMIC QUEST is OPEN on LABOR DAY.  *11:00am to 7:00pm * \nMon Sept 2nd
URL:https://comicquest.org/event/labor-day/
LOCATION:Comic Quest\, 23811 Bridger #111 CA 92630\, Lake Forest\, CA\, 92630\, United States
CATEGORIES:Holiday
ATTACH;FMTTYPE=image/jpeg:https://comicquest.org/wp-content/uploads/2024/01/Labor-Day-Open-Regular-Hours-rev24-a.jpg
END:VEVENT
BEGIN:VEVENT
DTSTART;VALUE=DATE:20240619
DTEND;VALUE=DATE:20240620
DTSTAMP:20260423T125259
CREATED:20240521T183511Z
LAST-MODIFIED:20240521T183511Z
UID:10000916-1718755200-1718841599@comicquest.org
SUMMARY:Juneteenth
DESCRIPTION: 
URL:https://comicquest.org/event/juneteenth/
LOCATION:Comic Quest\, 23811 Bridger #111 CA 92630\, Lake Forest\, CA\, 92630\, United States
CATEGORIES:Holiday
ATTACH;FMTTYPE=image/jpeg:https://comicquest.org/wp-content/uploads/2024/05/juneteenth.jpg
END:VEVENT
BEGIN:VEVENT
DTSTART;VALUE=DATE:20240527
DTEND;VALUE=DATE:20240528
DTSTAMP:20260423T125259
CREATED:20240514T040156Z
LAST-MODIFIED:20240514T043332Z
UID:10000906-1716768000-1716854399@comicquest.org
SUMMARY:Memorial Day
DESCRIPTION:  \n 
URL:https://comicquest.org/event/memorial-day-3/
LOCATION:Comic Quest\, 23811 Bridger #111 CA 92630\, Lake Forest\, CA\, 92630\, United States
CATEGORIES:Holiday
ATTACH;FMTTYPE=image/gif:https://comicquest.org/wp-content/uploads/2023/03/memorial_day_stars_lg_nwm1.gif
END:VEVENT
BEGIN:VEVENT
DTSTART;VALUE=DATE:20240520
DTEND;VALUE=DATE:20240521
DTSTAMP:20260423T125259
CREATED:20240521T183929Z
LAST-MODIFIED:20240521T183929Z
UID:10000917-1716163200-1716249599@comicquest.org
SUMMARY:Eliza Doolittle Day
DESCRIPTION:  \n  \n \n  \nEliza Doolittle Day is celebrated on May 20th\, based on a line from the song “Just You Wait” in the 1956 Broadway musical My Fair Lady. In the song\, the character Eliza Doolittle\, a Cockney flower girl\, imagines the king saying “Next week on the twentieth of May\, I proclaim Liza Doolittle Day”
URL:https://comicquest.org/event/eliza-doolittle-day/
LOCATION:Comic Quest\, 23811 Bridger #111 CA 92630\, Lake Forest\, CA\, 92630\, United States
CATEGORIES:Holiday
ATTACH;FMTTYPE=image/jpeg:https://comicquest.org/wp-content/uploads/2024/05/eliza-doolitle-day.jpg
END:VEVENT
BEGIN:VEVENT
DTSTART;VALUE=DATE:20240404
DTEND;VALUE=DATE:20240405
DTSTAMP:20260423T125259
CREATED:20240406T022121Z
LAST-MODIFIED:20240514T045008Z
UID:10000887-1712188800-1712275199@comicquest.org
SUMMARY:Fantastic Four Day (4/4)
DESCRIPTION:  \n \n4/4
URL:https://comicquest.org/event/fantastic-four-day-4-4/
LOCATION:Comic Quest\, 23811 Bridger #111 CA 92630\, Lake Forest\, CA\, 92630\, United States
CATEGORIES:Holiday
ATTACH;FMTTYPE=image/jpeg:https://comicquest.org/wp-content/uploads/2024/04/4-4-day.jpg
END:VEVENT
BEGIN:VEVENT
DTSTART;VALUE=DATE:20240331
DTEND;VALUE=DATE:20240401
DTSTAMP:20260423T125259
CREATED:20240320T005529Z
LAST-MODIFIED:20240514T043753Z
UID:10000859-1711843200-1711929599@comicquest.org
SUMMARY:Easter
DESCRIPTION:‘Eggtastic‘ Easter Special! \nSun March 31\, 2024 \nEvery purchase gets to open a mystery egg. \n\n Choose an egg.\n Open to reveal: Candy OR \n\nCandy AND a Discount!. \n\n Use your discount on your purchase!\n\n*The Egg will reveal. \nHAPPY 🐣 EASTER!
URL:https://comicquest.org/event/easter-3/
LOCATION:Comic Quest\, 23811 Bridger #111 CA 92630\, Lake Forest\, CA\, 92630\, United States
CATEGORIES:Holiday
ATTACH;FMTTYPE=image/gif:https://comicquest.org/wp-content/uploads/2023/03/bunny_girl_happy_easter_lg_nwm1.gif
END:VEVENT
END:VCALENDAR