BEGIN:VCALENDAR
VERSION:2.0
PRODID:-//Comic Quest - ECPv6.15.20//NONSGML v1.0//EN
CALSCALE:GREGORIAN
METHOD:PUBLISH
X-ORIGINAL-URL:https://comicquest.org
X-WR-CALDESC:Events for Comic Quest
REFRESH-INTERVAL;VALUE=DURATION:PT1H
X-Robots-Tag:noindex
X-PUBLISHED-TTL:PT1H
BEGIN:VTIMEZONE
TZID:Asia/Shanghai
BEGIN:STANDARD
TZOFFSETFROM:+0800
TZOFFSETTO:+0800
TZNAME:CST
DTSTART:20260101T000000
END:STANDARD
END:VTIMEZONE
BEGIN:VTIMEZONE
TZID:America/Los_Angeles
BEGIN:DAYLIGHT
TZOFFSETFROM:-0800
TZOFFSETTO:-0700
TZNAME:PDT
DTSTART:20270314T100000
END:DAYLIGHT
BEGIN:STANDARD
TZOFFSETFROM:-0700
TZOFFSETTO:-0800
TZNAME:PST
DTSTART:20271107T090000
END:STANDARD
BEGIN:DAYLIGHT
TZOFFSETFROM:-0800
TZOFFSETTO:-0700
TZNAME:PDT
DTSTART:20280312T100000
END:DAYLIGHT
BEGIN:STANDARD
TZOFFSETFROM:-0700
TZOFFSETTO:-0800
TZNAME:PST
DTSTART:20281105T090000
END:STANDARD
BEGIN:DAYLIGHT
TZOFFSETFROM:-0800
TZOFFSETTO:-0700
TZNAME:PDT
DTSTART:20290311T100000
END:DAYLIGHT
BEGIN:STANDARD
TZOFFSETFROM:-0700
TZOFFSETTO:-0800
TZNAME:PST
DTSTART:20291104T090000
END:STANDARD
BEGIN:DAYLIGHT
TZOFFSETFROM:-0800
TZOFFSETTO:-0700
TZNAME:PDT
DTSTART:20300310T100000
END:DAYLIGHT
BEGIN:STANDARD
TZOFFSETFROM:-0700
TZOFFSETTO:-0800
TZNAME:PST
DTSTART:20301103T090000
END:STANDARD
END:VTIMEZONE
BEGIN:VEVENT
DTSTART;VALUE=DATE:20270404
DTEND;VALUE=DATE:20270405
DTSTAMP:20260423T154053
CREATED:20250807T235218Z
LAST-MODIFIED:20250807T235218Z
UID:10003158-1806796800-1806883199@comicquest.org
SUMMARY:Fantastic Four Day (4/4)
DESCRIPTION:  \n \n4/4
URL:https://comicquest.org/event/fantastic-four-day-4-4-3/2027-04-04/
LOCATION:Comic Quest\, 23811 Bridger #111 CA 92630\, Lake Forest\, CA\, 92630\, United States
CATEGORIES:Holiday
ATTACH;FMTTYPE=image/jpeg:https://comicquest.org/wp-content/uploads/2024/04/4-4-day.jpg
END:VEVENT
BEGIN:VEVENT
DTSTART;VALUE=DATE:20270520
DTEND;VALUE=DATE:20270521
DTSTAMP:20260423T154053
CREATED:20250808T001039Z
LAST-MODIFIED:20250808T001039Z
UID:10003213-1810771200-1810857599@comicquest.org
SUMMARY:Eliza Doolittle Day
DESCRIPTION:  \n  \n \n  \nEliza Doolittle Day is celebrated on May 20th\, based on a line from the song “Just You Wait” in the 1956 Broadway musical My Fair Lady. In the song\, the character Eliza Doolittle\, a Cockney flower girl\, imagines the king saying “Next week on the twentieth of May\, I proclaim Liza Doolittle Day”
URL:https://comicquest.org/event/eliza-doolittle-day-3/2027-05-20/
LOCATION:Comic Quest\, 23811 Bridger #111 CA 92630\, Lake Forest\, CA\, 92630\, United States
CATEGORIES:Holiday
ATTACH;FMTTYPE=image/jpeg:https://comicquest.org/wp-content/uploads/2024/05/eliza-doolitle-day.jpg
END:VEVENT
BEGIN:VEVENT
DTSTART;VALUE=DATE:20270531
DTEND;VALUE=DATE:20270601
DTSTAMP:20260423T154053
CREATED:20250808T001545Z
LAST-MODIFIED:20250808T001545Z
UID:10003225-1811721600-1811807999@comicquest.org
SUMMARY:Memorial Day
DESCRIPTION:  \n 
URL:https://comicquest.org/event/memorial-day-5/2027-05-31/
LOCATION:Comic Quest\, 23811 Bridger #111 CA 92630\, Lake Forest\, CA\, 92630\, United States
CATEGORIES:Holiday
ATTACH;FMTTYPE=image/gif:https://comicquest.org/wp-content/uploads/2023/03/memorial_day_stars_lg_nwm1.gif
END:VEVENT
BEGIN:VEVENT
DTSTART;VALUE=DATE:20270619
DTEND;VALUE=DATE:20270620
DTSTAMP:20260423T154053
CREATED:20250808T062139Z
LAST-MODIFIED:20250808T062139Z
UID:10003269-1813363200-1813449599@comicquest.org
SUMMARY:Juneteenth
DESCRIPTION: 
URL:https://comicquest.org/event/juneteenth-3/2027-06-19/
LOCATION:Comic Quest\, 23811 Bridger #111 CA 92630\, Lake Forest\, CA\, 92630\, United States
CATEGORIES:Holiday
ATTACH;FMTTYPE=image/jpeg:https://comicquest.org/wp-content/uploads/2024/05/juneteenth.jpg
END:VEVENT
BEGIN:VEVENT
DTSTART;VALUE=DATE:20270906
DTEND;VALUE=DATE:20270907
DTSTAMP:20260423T154053
CREATED:20251021T233659Z
LAST-MODIFIED:20251021T233659Z
UID:10003685-1820188800-1820275199@comicquest.org
SUMMARY:Labor Day
DESCRIPTION:COMIC QUEST is OPEN on LABOR DAY.  *11:00am to 9:00pm * \n  \n 
URL:https://comicquest.org/event/labor-day-2/2027-09-06/
LOCATION:Comic Quest\, 23811 Bridger #111 CA 92630\, Lake Forest\, CA\, 92630\, United States
CATEGORIES:Holiday
ATTACH;FMTTYPE=image/jpeg:https://comicquest.org/wp-content/uploads/2024/01/Labor-Day-Open-Regular-Hours-rev24-a.jpg
END:VEVENT
BEGIN:VEVENT
DTSTART;VALUE=DATE:20271125
DTEND;VALUE=DATE:20271126
DTSTAMP:20260423T154053
CREATED:20241119T015638Z
LAST-MODIFIED:20260215T012221Z
UID:10004267-1827100800-1827187199@comicquest.org
SUMMARY:Thanksgiving (Closed)
DESCRIPTION:  \n 
URL:https://comicquest.org/event/thanksgiving-closed-3/2027-11-25/
LOCATION:Comic Quest\, 23811 Bridger #111 CA 92630\, Lake Forest\, CA\, 92630\, United States
CATEGORIES:Holiday
ATTACH;FMTTYPE=image/gif:https://comicquest.org/wp-content/uploads/2023/03/thanksgiving-animated-212394l.gif
END:VEVENT
BEGIN:VEVENT
DTSTART;VALUE=DATE:20271125
DTEND;VALUE=DATE:20271126
DTSTAMP:20260423T154053
CREATED:20251231T184455Z
LAST-MODIFIED:20251231T184455Z
UID:10004173-1827100800-1827187199@comicquest.org
SUMMARY:Thanksgiving (Closed)
DESCRIPTION:  \n 
URL:https://comicquest.org/event/thanksgiving-closed-4/2027-11-25/
LOCATION:Comic Quest\, 23811 Bridger #111 CA 92630\, Lake Forest\, CA\, 92630\, United States
CATEGORIES:Holiday
ATTACH;FMTTYPE=image/gif:https://comicquest.org/wp-content/uploads/2023/03/thanksgiving-animated-212394l.gif
END:VEVENT
BEGIN:VEVENT
DTSTART;VALUE=DATE:20271225
DTEND;VALUE=DATE:20271226
DTSTAMP:20260423T154053
CREATED:20251231T184851Z
LAST-MODIFIED:20251231T184851Z
UID:10004191-1829692800-1829779199@comicquest.org
SUMMARY:Christmas (Closed)
DESCRIPTION:We will Close Early on Tuesday December 24 for Christmas Eve \n\nHours: 10am to 5:00pm. Christmas Eve\n\nHappy Christmas and Merry Holidays to you and yours. \n\nWe are Closed on Christmas Day.\nBut we open REGULAR HOURS on Thurs Dec 26! FREE Holiday Dice!!\n\n 
URL:https://comicquest.org/event/christmas-closed-4/2027-12-25/
LOCATION:Comic Quest\, 23811 Bridger #111 CA 92630\, Lake Forest\, CA\, 92630\, United States
CATEGORIES:Holiday
ATTACH;FMTTYPE=image/gif:https://comicquest.org/wp-content/uploads/2023/03/santa_too_many_cookies.gif
END:VEVENT
BEGIN:VEVENT
DTSTART;VALUE=DATE:20271231
DTEND;VALUE=DATE:20280101
DTSTAMP:20260423T154053
CREATED:20251230T223344Z
LAST-MODIFIED:20251230T223344Z
UID:10004079-1830211200-1830297599@comicquest.org
SUMMARY:New Years Eve
DESCRIPTION:  \n 
URL:https://comicquest.org/event/new-years-eve-2/2027-12-31/
LOCATION:Comic Quest\, 23811 Bridger #111 CA 92630\, Lake Forest\, CA\, 92630\, United States
CATEGORIES:Holiday
ATTACH;FMTTYPE=image/gif:https://comicquest.org/wp-content/uploads/2024/05/new-years-eve.gif
END:VEVENT
BEGIN:VEVENT
DTSTART;VALUE=DATE:20280101
DTEND;VALUE=DATE:20280102
DTSTAMP:20260423T154053
CREATED:20251230T223437Z
LAST-MODIFIED:20251230T223437Z
UID:10004086-1830297600-1830383999@comicquest.org
SUMMARY:New Years Day
DESCRIPTION:  \n 
URL:https://comicquest.org/event/new-years-day-4/2028-01-01/
LOCATION:Comic Quest\, 23811 Bridger #111 CA 92630\, Lake Forest\, CA\, 92630\, United States
CATEGORIES:Holiday
ATTACH;FMTTYPE=image/gif:https://comicquest.org/wp-content/uploads/2024/05/Happy-New-Year-gif.gif
END:VEVENT
BEGIN:VEVENT
DTSTART;VALUE=DATE:20280214
DTEND;VALUE=DATE:20280215
DTSTAMP:20260423T154053
CREATED:20250807T233810Z
LAST-MODIFIED:20250807T233810Z
UID:10003099-1834099200-1834185599@comicquest.org
SUMMARY:St Valentines Day
DESCRIPTION: 
URL:https://comicquest.org/event/st-valentines-day-4/2028-02-14/
LOCATION:Comic Quest\, 23811 Bridger #111 CA 92630\, Lake Forest\, CA\, 92630\, United States
CATEGORIES:Holiday
ATTACH;FMTTYPE=image/gif:https://comicquest.org/wp-content/uploads/2023/03/valent_day.gif
END:VEVENT
BEGIN:VEVENT
DTSTART;VALUE=DATE:20280221
DTEND;VALUE=DATE:20280222
DTSTAMP:20260423T154053
CREATED:20260215T012923Z
LAST-MODIFIED:20260215T012923Z
UID:10004273-1834704000-1834790399@comicquest.org
SUMMARY:Presidents Day (Open)
DESCRIPTION:
URL:https://comicquest.org/event/presidents-day-open/2028-02-21/
LOCATION:CA
CATEGORIES:Holiday
END:VEVENT
BEGIN:VEVENT
DTSTART;VALUE=DATE:20280317
DTEND;VALUE=DATE:20280318
DTSTAMP:20260423T154053
CREATED:20250807T234909Z
LAST-MODIFIED:20260215T031119Z
UID:10003141-1836864000-1836950399@comicquest.org
SUMMARY:FREE St Patricks Day Dice
DESCRIPTION:  \nOur Holiday Treat to you.\nNo purchase necessary\, just stop by Comic Quest.\nKeeping the 10+ year tradition of giving away holiday dice.\nLimited edition. Supplies can run out.\nMarch 17 (St Patrick’s Day)
URL:https://comicquest.org/event/free-st-patricks-day-dice-4/2028-03-17/
LOCATION:Comic Quest\, 23811 Bridger #111 CA 92630\, Lake Forest\, CA\, 92630\, United States
CATEGORIES:Holiday
ATTACH;FMTTYPE=image/png:https://comicquest.org/wp-content/uploads/2025/08/st-patrick-2026-banner.png
END:VEVENT
BEGIN:VEVENT
DTSTART;VALUE=DATE:20280404
DTEND;VALUE=DATE:20280405
DTSTAMP:20260423T154053
CREATED:20250807T235218Z
LAST-MODIFIED:20250807T235218Z
UID:10003159-1838419200-1838505599@comicquest.org
SUMMARY:Fantastic Four Day (4/4)
DESCRIPTION:  \n \n4/4
URL:https://comicquest.org/event/fantastic-four-day-4-4-3/2028-04-04/
LOCATION:Comic Quest\, 23811 Bridger #111 CA 92630\, Lake Forest\, CA\, 92630\, United States
CATEGORIES:Holiday
ATTACH;FMTTYPE=image/jpeg:https://comicquest.org/wp-content/uploads/2024/04/4-4-day.jpg
END:VEVENT
BEGIN:VEVENT
DTSTART;VALUE=DATE:20280520
DTEND;VALUE=DATE:20280521
DTSTAMP:20260423T154053
CREATED:20250808T001039Z
LAST-MODIFIED:20250808T001039Z
UID:10003214-1842393600-1842479999@comicquest.org
SUMMARY:Eliza Doolittle Day
DESCRIPTION:  \n  \n \n  \nEliza Doolittle Day is celebrated on May 20th\, based on a line from the song “Just You Wait” in the 1956 Broadway musical My Fair Lady. In the song\, the character Eliza Doolittle\, a Cockney flower girl\, imagines the king saying “Next week on the twentieth of May\, I proclaim Liza Doolittle Day”
URL:https://comicquest.org/event/eliza-doolittle-day-3/2028-05-20/
LOCATION:Comic Quest\, 23811 Bridger #111 CA 92630\, Lake Forest\, CA\, 92630\, United States
CATEGORIES:Holiday
ATTACH;FMTTYPE=image/jpeg:https://comicquest.org/wp-content/uploads/2024/05/eliza-doolitle-day.jpg
END:VEVENT
BEGIN:VEVENT
DTSTART;VALUE=DATE:20280529
DTEND;VALUE=DATE:20280530
DTSTAMP:20260423T154053
CREATED:20250808T001545Z
LAST-MODIFIED:20250808T001545Z
UID:10003226-1843171200-1843257599@comicquest.org
SUMMARY:Memorial Day
DESCRIPTION:  \n 
URL:https://comicquest.org/event/memorial-day-5/2028-05-29/
LOCATION:Comic Quest\, 23811 Bridger #111 CA 92630\, Lake Forest\, CA\, 92630\, United States
CATEGORIES:Holiday
ATTACH;FMTTYPE=image/gif:https://comicquest.org/wp-content/uploads/2023/03/memorial_day_stars_lg_nwm1.gif
END:VEVENT
BEGIN:VEVENT
DTSTART;VALUE=DATE:20280619
DTEND;VALUE=DATE:20280620
DTSTAMP:20260423T154053
CREATED:20250808T062139Z
LAST-MODIFIED:20250808T062139Z
UID:10003270-1844985600-1845071999@comicquest.org
SUMMARY:Juneteenth
DESCRIPTION: 
URL:https://comicquest.org/event/juneteenth-3/2028-06-19/
LOCATION:Comic Quest\, 23811 Bridger #111 CA 92630\, Lake Forest\, CA\, 92630\, United States
CATEGORIES:Holiday
ATTACH;FMTTYPE=image/jpeg:https://comicquest.org/wp-content/uploads/2024/05/juneteenth.jpg
END:VEVENT
BEGIN:VEVENT
DTSTART;VALUE=DATE:20280904
DTEND;VALUE=DATE:20280905
DTSTAMP:20260423T154053
CREATED:20251021T233659Z
LAST-MODIFIED:20251021T233659Z
UID:10003686-1851638400-1851724799@comicquest.org
SUMMARY:Labor Day
DESCRIPTION:COMIC QUEST is OPEN on LABOR DAY.  *11:00am to 9:00pm * \n  \n 
URL:https://comicquest.org/event/labor-day-2/2028-09-04/
LOCATION:Comic Quest\, 23811 Bridger #111 CA 92630\, Lake Forest\, CA\, 92630\, United States
CATEGORIES:Holiday
ATTACH;FMTTYPE=image/jpeg:https://comicquest.org/wp-content/uploads/2024/01/Labor-Day-Open-Regular-Hours-rev24-a.jpg
END:VEVENT
BEGIN:VEVENT
DTSTART;VALUE=DATE:20281123
DTEND;VALUE=DATE:20281124
DTSTAMP:20260423T154053
CREATED:20241119T015638Z
LAST-MODIFIED:20260215T012221Z
UID:10004268-1858550400-1858636799@comicquest.org
SUMMARY:Thanksgiving (Closed)
DESCRIPTION:  \n 
URL:https://comicquest.org/event/thanksgiving-closed-3/2028-11-23/
LOCATION:Comic Quest\, 23811 Bridger #111 CA 92630\, Lake Forest\, CA\, 92630\, United States
CATEGORIES:Holiday
ATTACH;FMTTYPE=image/gif:https://comicquest.org/wp-content/uploads/2023/03/thanksgiving-animated-212394l.gif
END:VEVENT
BEGIN:VEVENT
DTSTART;VALUE=DATE:20281123
DTEND;VALUE=DATE:20281124
DTSTAMP:20260423T154053
CREATED:20251231T184455Z
LAST-MODIFIED:20251231T184455Z
UID:10004174-1858550400-1858636799@comicquest.org
SUMMARY:Thanksgiving (Closed)
DESCRIPTION:  \n 
URL:https://comicquest.org/event/thanksgiving-closed-4/2028-11-23/
LOCATION:Comic Quest\, 23811 Bridger #111 CA 92630\, Lake Forest\, CA\, 92630\, United States
CATEGORIES:Holiday
ATTACH;FMTTYPE=image/gif:https://comicquest.org/wp-content/uploads/2023/03/thanksgiving-animated-212394l.gif
END:VEVENT
BEGIN:VEVENT
DTSTART;VALUE=DATE:20281225
DTEND;VALUE=DATE:20281226
DTSTAMP:20260423T154053
CREATED:20251231T184851Z
LAST-MODIFIED:20251231T184851Z
UID:10004192-1861315200-1861401599@comicquest.org
SUMMARY:Christmas (Closed)
DESCRIPTION:We will Close Early on Tuesday December 24 for Christmas Eve \n\nHours: 10am to 5:00pm. Christmas Eve\n\nHappy Christmas and Merry Holidays to you and yours. \n\nWe are Closed on Christmas Day.\nBut we open REGULAR HOURS on Thurs Dec 26! FREE Holiday Dice!!\n\n 
URL:https://comicquest.org/event/christmas-closed-4/2028-12-25/
LOCATION:Comic Quest\, 23811 Bridger #111 CA 92630\, Lake Forest\, CA\, 92630\, United States
CATEGORIES:Holiday
ATTACH;FMTTYPE=image/gif:https://comicquest.org/wp-content/uploads/2023/03/santa_too_many_cookies.gif
END:VEVENT
BEGIN:VEVENT
DTSTART;VALUE=DATE:20281231
DTEND;VALUE=DATE:20290101
DTSTAMP:20260423T154053
CREATED:20251230T223344Z
LAST-MODIFIED:20251230T223344Z
UID:10004080-1861833600-1861919999@comicquest.org
SUMMARY:New Years Eve
DESCRIPTION:  \n 
URL:https://comicquest.org/event/new-years-eve-2/2028-12-31/
LOCATION:Comic Quest\, 23811 Bridger #111 CA 92630\, Lake Forest\, CA\, 92630\, United States
CATEGORIES:Holiday
ATTACH;FMTTYPE=image/gif:https://comicquest.org/wp-content/uploads/2024/05/new-years-eve.gif
END:VEVENT
BEGIN:VEVENT
DTSTART;VALUE=DATE:20290101
DTEND;VALUE=DATE:20290102
DTSTAMP:20260423T154053
CREATED:20251230T223437Z
LAST-MODIFIED:20251230T223437Z
UID:10004087-1861920000-1862006399@comicquest.org
SUMMARY:New Years Day
DESCRIPTION:  \n 
URL:https://comicquest.org/event/new-years-day-4/2029-01-01/
LOCATION:Comic Quest\, 23811 Bridger #111 CA 92630\, Lake Forest\, CA\, 92630\, United States
CATEGORIES:Holiday
ATTACH;FMTTYPE=image/gif:https://comicquest.org/wp-content/uploads/2024/05/Happy-New-Year-gif.gif
END:VEVENT
BEGIN:VEVENT
DTSTART;VALUE=DATE:20290214
DTEND;VALUE=DATE:20290215
DTSTAMP:20260423T154053
CREATED:20250807T233810Z
LAST-MODIFIED:20250807T233810Z
UID:10003100-1865721600-1865807999@comicquest.org
SUMMARY:St Valentines Day
DESCRIPTION: 
URL:https://comicquest.org/event/st-valentines-day-4/2029-02-14/
LOCATION:Comic Quest\, 23811 Bridger #111 CA 92630\, Lake Forest\, CA\, 92630\, United States
CATEGORIES:Holiday
ATTACH;FMTTYPE=image/gif:https://comicquest.org/wp-content/uploads/2023/03/valent_day.gif
END:VEVENT
BEGIN:VEVENT
DTSTART;VALUE=DATE:20290219
DTEND;VALUE=DATE:20290220
DTSTAMP:20260423T154053
CREATED:20260215T012923Z
LAST-MODIFIED:20260215T012923Z
UID:10004274-1866153600-1866239999@comicquest.org
SUMMARY:Presidents Day (Open)
DESCRIPTION:
URL:https://comicquest.org/event/presidents-day-open/2029-02-19/
LOCATION:CA
CATEGORIES:Holiday
END:VEVENT
BEGIN:VEVENT
DTSTART;VALUE=DATE:20290317
DTEND;VALUE=DATE:20290318
DTSTAMP:20260423T154053
CREATED:20250807T234909Z
LAST-MODIFIED:20260215T031119Z
UID:10003142-1868400000-1868486399@comicquest.org
SUMMARY:FREE St Patricks Day Dice
DESCRIPTION:  \nOur Holiday Treat to you.\nNo purchase necessary\, just stop by Comic Quest.\nKeeping the 10+ year tradition of giving away holiday dice.\nLimited edition. Supplies can run out.\nMarch 17 (St Patrick’s Day)
URL:https://comicquest.org/event/free-st-patricks-day-dice-4/2029-03-17/
LOCATION:Comic Quest\, 23811 Bridger #111 CA 92630\, Lake Forest\, CA\, 92630\, United States
CATEGORIES:Holiday
ATTACH;FMTTYPE=image/png:https://comicquest.org/wp-content/uploads/2025/08/st-patrick-2026-banner.png
END:VEVENT
BEGIN:VEVENT
DTSTART;VALUE=DATE:20290404
DTEND;VALUE=DATE:20290405
DTSTAMP:20260423T154053
CREATED:20250807T235218Z
LAST-MODIFIED:20250807T235218Z
UID:10003160-1869955200-1870041599@comicquest.org
SUMMARY:Fantastic Four Day (4/4)
DESCRIPTION:  \n \n4/4
URL:https://comicquest.org/event/fantastic-four-day-4-4-3/2029-04-04/
LOCATION:Comic Quest\, 23811 Bridger #111 CA 92630\, Lake Forest\, CA\, 92630\, United States
CATEGORIES:Holiday
ATTACH;FMTTYPE=image/jpeg:https://comicquest.org/wp-content/uploads/2024/04/4-4-day.jpg
END:VEVENT
BEGIN:VEVENT
DTSTART;VALUE=DATE:20290520
DTEND;VALUE=DATE:20290521
DTSTAMP:20260423T154053
CREATED:20250808T001039Z
LAST-MODIFIED:20250808T001039Z
UID:10003215-1873929600-1874015999@comicquest.org
SUMMARY:Eliza Doolittle Day
DESCRIPTION:  \n  \n \n  \nEliza Doolittle Day is celebrated on May 20th\, based on a line from the song “Just You Wait” in the 1956 Broadway musical My Fair Lady. In the song\, the character Eliza Doolittle\, a Cockney flower girl\, imagines the king saying “Next week on the twentieth of May\, I proclaim Liza Doolittle Day”
URL:https://comicquest.org/event/eliza-doolittle-day-3/2029-05-20/
LOCATION:Comic Quest\, 23811 Bridger #111 CA 92630\, Lake Forest\, CA\, 92630\, United States
CATEGORIES:Holiday
ATTACH;FMTTYPE=image/jpeg:https://comicquest.org/wp-content/uploads/2024/05/eliza-doolitle-day.jpg
END:VEVENT
BEGIN:VEVENT
DTSTART;VALUE=DATE:20290528
DTEND;VALUE=DATE:20290529
DTSTAMP:20260423T154053
CREATED:20250808T001545Z
LAST-MODIFIED:20250808T001545Z
UID:10003227-1874620800-1874707199@comicquest.org
SUMMARY:Memorial Day
DESCRIPTION:  \n 
URL:https://comicquest.org/event/memorial-day-5/2029-05-28/
LOCATION:Comic Quest\, 23811 Bridger #111 CA 92630\, Lake Forest\, CA\, 92630\, United States
CATEGORIES:Holiday
ATTACH;FMTTYPE=image/gif:https://comicquest.org/wp-content/uploads/2023/03/memorial_day_stars_lg_nwm1.gif
END:VEVENT
BEGIN:VEVENT
DTSTART;VALUE=DATE:20290619
DTEND;VALUE=DATE:20290620
DTSTAMP:20260423T154053
CREATED:20250808T062139Z
LAST-MODIFIED:20250808T062139Z
UID:10003271-1876521600-1876607999@comicquest.org
SUMMARY:Juneteenth
DESCRIPTION: 
URL:https://comicquest.org/event/juneteenth-3/2029-06-19/
LOCATION:Comic Quest\, 23811 Bridger #111 CA 92630\, Lake Forest\, CA\, 92630\, United States
CATEGORIES:Holiday
ATTACH;FMTTYPE=image/jpeg:https://comicquest.org/wp-content/uploads/2024/05/juneteenth.jpg
END:VEVENT
END:VCALENDAR