BEGIN:VCALENDAR
VERSION:2.0
PRODID:-//Comic Quest - ECPv6.15.20//NONSGML v1.0//EN
CALSCALE:GREGORIAN
METHOD:PUBLISH
X-WR-CALNAME:Comic Quest
X-ORIGINAL-URL:https://comicquest.org
X-WR-CALDESC:Events for Comic Quest
REFRESH-INTERVAL;VALUE=DURATION:PT1H
X-Robots-Tag:noindex
X-PUBLISHED-TTL:PT1H
BEGIN:VTIMEZONE
TZID:UTC
BEGIN:STANDARD
TZOFFSETFROM:+0000
TZOFFSETTO:+0000
TZNAME:UTC
DTSTART:20220101T000000
END:STANDARD
END:VTIMEZONE
BEGIN:VEVENT
DTSTART;VALUE=DATE:20230722
DTEND;VALUE=DATE:20230723
DTSTAMP:20260423T164509
CREATED:20230406T001229Z
LAST-MODIFIED:20230720T171126Z
UID:10000191-1689984000-1690070399@comicquest.org
SUMMARY:Infinity
DESCRIPTION:Infinity \nInfinity Tournament \nSATURDAY July 22n.  11 AM \nSummer ITS \n$10 \n300 Point Tournament\noptions: Soldiers of fortune\, direct action \nFacebook Group
URL:https://comicquest.org/event/infinity/
LOCATION:Comic Quest\, 23811 Bridger #111 CA 92630\, Lake Forest\, CA\, 92630\, United States
CATEGORIES:Event,Infinity,Tournament
ATTACH;FMTTYPE=image/jpeg:https://comicquest.org/wp-content/uploads/2023/04/infinity-logo.jpg
END:VEVENT
END:VCALENDAR