BEGIN:VCALENDAR
VERSION:2.0
PRODID:-//Comic Quest - ECPv6.15.20//NONSGML v1.0//EN
CALSCALE:GREGORIAN
METHOD:PUBLISH
X-WR-CALNAME:Comic Quest
X-ORIGINAL-URL:https://comicquest.org
X-WR-CALDESC:Events for Comic Quest
REFRESH-INTERVAL;VALUE=DURATION:PT1H
X-Robots-Tag:noindex
X-PUBLISHED-TTL:PT1H
BEGIN:VTIMEZONE
TZID:Asia/Shanghai
BEGIN:STANDARD
TZOFFSETFROM:+0800
TZOFFSETTO:+0800
TZNAME:CST
DTSTART:20250101T000000
END:STANDARD
END:VTIMEZONE
BEGIN:VEVENT
DTSTART;TZID=Asia/Shanghai:20260105T180000
DTEND;TZID=Asia/Shanghai:20260105T210000
DTSTAMP:20260423T153638
CREATED:20251125T012317Z
LAST-MODIFIED:20251125T012318Z
UID:10001864-1767636000-1767646800@comicquest.org
SUMMARY:Card Game TCG Night (SWU & Gundam & Riftbound)
DESCRIPTION:Card Game TCG Night \n\nWEEKLY Card Game TCG at COMIC QUEST.\nMondays – 6pm to 9pm.\n\nConstructed – bring your own deck!\n\n\nStar Wars Unlimited\nGundam TCG – Best of 1\, 3 to 4 rounds\nRiftbound TCG – Best of 3\, 3 to 4 rounds\n\n\n\n\n*Join our Discord for updates \n\n\n  \n 
URL:https://comicquest.org/event/card-game-tcg-night-swu-gundam-3-2/2026-01-05/
LOCATION:Comic Quest\, 23811 Bridger #111 CA 92630\, Lake Forest\, CA\, 92630\, United States
CATEGORIES:Event,Lorcana
ATTACH;FMTTYPE=image/png:https://comicquest.org/wp-content/uploads/2025/07/monday-madness2.png
END:VEVENT
BEGIN:VEVENT
DTSTART;TZID=Asia/Shanghai:20260106T180000
DTEND;TZID=Asia/Shanghai:20260106T210000
DTSTAMP:20260423T153638
CREATED:20251230T022459Z
LAST-MODIFIED:20251230T022459Z
UID:10003816-1767722400-1767733200@comicquest.org
SUMMARY:Lorcana Night
DESCRIPTION:WEEKLY LORCANA at COMIC QUEST.\nTuesdays – 6pm to 9pm.\nCasual League play\, two game format\, 3 – 4 rounds. Casual/Manual pairings.\nConstructed – bring your own deck!\n\nEarn Points for Disney swag and promo cards.\nEXTRA POINTS: Earn points besides game wins/losses- in the following ways:\n• 1. Theme Deck  Each week we have a different deck theme. If you accomplish this during a match\, you get a point.\n• 2. Wear your Disney garb/merch. Wear something with Disney on it. Pins\, Hats\, Socks\, Shirts\, Shoes\, etc\n• 3. Bring a friend new to league\n• 4. Teach someone to play\n• 5. Come to league.\n• 6. Trade\n• 7. Play a group game!\nCome Play With Us!\n\n*Join our Discord and our Comic Quest Lorcana Facebook group for updates and the weekly deck theme. \n\n\n 
URL:https://comicquest.org/event/lorcana-night-77/2026-01-06/
LOCATION:Comic Quest\, 23811 Bridger #111 CA 92630\, Lake Forest\, CA\, 92630\, United States
CATEGORIES:Event,Lorcana
ATTACH;FMTTYPE=image/jpeg:https://comicquest.org/wp-content/uploads/2023/04/loracana.jpg
END:VEVENT
BEGIN:VEVENT
DTSTART;TZID=Asia/Shanghai:20260112T180000
DTEND;TZID=Asia/Shanghai:20260112T210000
DTSTAMP:20260423T153638
CREATED:20251125T012317Z
LAST-MODIFIED:20251125T012318Z
UID:10001865-1768240800-1768251600@comicquest.org
SUMMARY:Card Game TCG Night (SWU & Gundam & Riftbound)
DESCRIPTION:Card Game TCG Night \n\nWEEKLY Card Game TCG at COMIC QUEST.\nMondays – 6pm to 9pm.\n\nConstructed – bring your own deck!\n\n\nStar Wars Unlimited\nGundam TCG – Best of 1\, 3 to 4 rounds\nRiftbound TCG – Best of 3\, 3 to 4 rounds\n\n\n\n\n*Join our Discord for updates \n\n\n  \n 
URL:https://comicquest.org/event/card-game-tcg-night-swu-gundam-3-2/2026-01-12/
LOCATION:Comic Quest\, 23811 Bridger #111 CA 92630\, Lake Forest\, CA\, 92630\, United States
CATEGORIES:Event,Lorcana
ATTACH;FMTTYPE=image/png:https://comicquest.org/wp-content/uploads/2025/07/monday-madness2.png
END:VEVENT
BEGIN:VEVENT
DTSTART;TZID=Asia/Shanghai:20260113T180000
DTEND;TZID=Asia/Shanghai:20260113T210000
DTSTAMP:20260423T153638
CREATED:20251230T022535Z
LAST-MODIFIED:20251230T022644Z
UID:10003817-1768327200-1768338000@comicquest.org
SUMMARY:Lorcana Night
DESCRIPTION:WEEKLY LORCANA at COMIC QUEST.\nTuesdays – 6pm to 9pm.\nCasual League play\, two game format\, 3 – 4 rounds. Casual/Manual pairings.\nConstructed – bring your own deck!\n\nEarn Points for Disney swag and promo cards.\nEXTRA POINTS: Earn points besides game wins/losses- in the following ways:\n• 1. Theme Deck  Each week we have a different deck theme. If you accomplish this during a match\, you get a point.\n• 2. Wear your Disney garb/merch. Wear something with Disney on it. Pins\, Hats\, Socks\, Shirts\, Shoes\, etc\n• 3. Bring a friend new to league\n• 4. Teach someone to play\n• 5. Come to league.\n• 6. Trade\n• 7. Play a group game!\nCome Play With Us!\n\n*Join our Discord and our Comic Quest Lorcana Facebook group for updates and the weekly deck theme. \n\n\n 
URL:https://comicquest.org/event/lorcana-night-83-2/2026-01-13/
LOCATION:Comic Quest\, 23811 Bridger #111 CA 92630\, Lake Forest\, CA\, 92630\, United States
CATEGORIES:Event,Lorcana
ATTACH;FMTTYPE=image/jpeg:https://comicquest.org/wp-content/uploads/2023/04/loracana.jpg
END:VEVENT
BEGIN:VEVENT
DTSTART;TZID=Asia/Shanghai:20260119T180000
DTEND;TZID=Asia/Shanghai:20260119T210000
DTSTAMP:20260423T153638
CREATED:20251125T012317Z
LAST-MODIFIED:20251125T012318Z
UID:10001866-1768845600-1768856400@comicquest.org
SUMMARY:Card Game TCG Night (SWU & Gundam & Riftbound)
DESCRIPTION:Card Game TCG Night \n\nWEEKLY Card Game TCG at COMIC QUEST.\nMondays – 6pm to 9pm.\n\nConstructed – bring your own deck!\n\n\nStar Wars Unlimited\nGundam TCG – Best of 1\, 3 to 4 rounds\nRiftbound TCG – Best of 3\, 3 to 4 rounds\n\n\n\n\n*Join our Discord for updates \n\n\n  \n 
URL:https://comicquest.org/event/card-game-tcg-night-swu-gundam-3-2/2026-01-19/
LOCATION:Comic Quest\, 23811 Bridger #111 CA 92630\, Lake Forest\, CA\, 92630\, United States
CATEGORIES:Event,Lorcana
ATTACH;FMTTYPE=image/png:https://comicquest.org/wp-content/uploads/2025/07/monday-madness2.png
END:VEVENT
BEGIN:VEVENT
DTSTART;TZID=Asia/Shanghai:20260120T180000
DTEND;TZID=Asia/Shanghai:20260120T210000
DTSTAMP:20260423T153638
CREATED:20251230T022535Z
LAST-MODIFIED:20251230T022644Z
UID:10003818-1768932000-1768942800@comicquest.org
SUMMARY:Lorcana Night
DESCRIPTION:WEEKLY LORCANA at COMIC QUEST.\nTuesdays – 6pm to 9pm.\nCasual League play\, two game format\, 3 – 4 rounds. Casual/Manual pairings.\nConstructed – bring your own deck!\n\nEarn Points for Disney swag and promo cards.\nEXTRA POINTS: Earn points besides game wins/losses- in the following ways:\n• 1. Theme Deck  Each week we have a different deck theme. If you accomplish this during a match\, you get a point.\n• 2. Wear your Disney garb/merch. Wear something with Disney on it. Pins\, Hats\, Socks\, Shirts\, Shoes\, etc\n• 3. Bring a friend new to league\n• 4. Teach someone to play\n• 5. Come to league.\n• 6. Trade\n• 7. Play a group game!\nCome Play With Us!\n\n*Join our Discord and our Comic Quest Lorcana Facebook group for updates and the weekly deck theme. \n\n\n 
URL:https://comicquest.org/event/lorcana-night-83-2/2026-01-20/
LOCATION:Comic Quest\, 23811 Bridger #111 CA 92630\, Lake Forest\, CA\, 92630\, United States
CATEGORIES:Event,Lorcana
ATTACH;FMTTYPE=image/jpeg:https://comicquest.org/wp-content/uploads/2023/04/loracana.jpg
END:VEVENT
BEGIN:VEVENT
DTSTART;TZID=Asia/Shanghai:20260126T180000
DTEND;TZID=Asia/Shanghai:20260126T210000
DTSTAMP:20260423T153638
CREATED:20251125T012317Z
LAST-MODIFIED:20251125T012318Z
UID:10001867-1769450400-1769461200@comicquest.org
SUMMARY:Card Game TCG Night (SWU & Gundam & Riftbound)
DESCRIPTION:Card Game TCG Night \n\nWEEKLY Card Game TCG at COMIC QUEST.\nMondays – 6pm to 9pm.\n\nConstructed – bring your own deck!\n\n\nStar Wars Unlimited\nGundam TCG – Best of 1\, 3 to 4 rounds\nRiftbound TCG – Best of 3\, 3 to 4 rounds\n\n\n\n\n*Join our Discord for updates \n\n\n  \n 
URL:https://comicquest.org/event/card-game-tcg-night-swu-gundam-3-2/2026-01-26/
LOCATION:Comic Quest\, 23811 Bridger #111 CA 92630\, Lake Forest\, CA\, 92630\, United States
CATEGORIES:Event,Lorcana
ATTACH;FMTTYPE=image/png:https://comicquest.org/wp-content/uploads/2025/07/monday-madness2.png
END:VEVENT
BEGIN:VEVENT
DTSTART;TZID=Asia/Shanghai:20260127T180000
DTEND;TZID=Asia/Shanghai:20260127T210000
DTSTAMP:20260423T153638
CREATED:20251230T022535Z
LAST-MODIFIED:20251230T022644Z
UID:10003819-1769536800-1769547600@comicquest.org
SUMMARY:Lorcana Night
DESCRIPTION:WEEKLY LORCANA at COMIC QUEST.\nTuesdays – 6pm to 9pm.\nCasual League play\, two game format\, 3 – 4 rounds. Casual/Manual pairings.\nConstructed – bring your own deck!\n\nEarn Points for Disney swag and promo cards.\nEXTRA POINTS: Earn points besides game wins/losses- in the following ways:\n• 1. Theme Deck  Each week we have a different deck theme. If you accomplish this during a match\, you get a point.\n• 2. Wear your Disney garb/merch. Wear something with Disney on it. Pins\, Hats\, Socks\, Shirts\, Shoes\, etc\n• 3. Bring a friend new to league\n• 4. Teach someone to play\n• 5. Come to league.\n• 6. Trade\n• 7. Play a group game!\nCome Play With Us!\n\n*Join our Discord and our Comic Quest Lorcana Facebook group for updates and the weekly deck theme. \n\n\n 
URL:https://comicquest.org/event/lorcana-night-83-2/2026-01-27/
LOCATION:Comic Quest\, 23811 Bridger #111 CA 92630\, Lake Forest\, CA\, 92630\, United States
CATEGORIES:Event,Lorcana
ATTACH;FMTTYPE=image/jpeg:https://comicquest.org/wp-content/uploads/2023/04/loracana.jpg
END:VEVENT
END:VCALENDAR