BEGIN:VCALENDAR
VERSION:2.0
PRODID:-//Comic Quest - ECPv6.15.20//NONSGML v1.0//EN
CALSCALE:GREGORIAN
METHOD:PUBLISH
X-WR-CALNAME:Comic Quest
X-ORIGINAL-URL:https://comicquest.org
X-WR-CALDESC:Events for Comic Quest
REFRESH-INTERVAL;VALUE=DURATION:PT1H
X-Robots-Tag:noindex
X-PUBLISHED-TTL:PT1H
BEGIN:VTIMEZONE
TZID:Asia/Shanghai
BEGIN:STANDARD
TZOFFSETFROM:+0800
TZOFFSETTO:+0800
TZNAME:CST
DTSTART:20250101T000000
END:STANDARD
END:VTIMEZONE
BEGIN:VEVENT
DTSTART;TZID=Asia/Shanghai:20260302T180000
DTEND;TZID=Asia/Shanghai:20260302T210000
DTSTAMP:20260423T124854
CREATED:20251125T012317Z
LAST-MODIFIED:20251125T012318Z
UID:10001872-1772474400-1772485200@comicquest.org
SUMMARY:Card Game TCG Night (SWU & Gundam & Riftbound)
DESCRIPTION:Card Game TCG Night \n\nWEEKLY Card Game TCG at COMIC QUEST.\nMondays – 6pm to 9pm.\n\nConstructed – bring your own deck!\n\n\nStar Wars Unlimited\nGundam TCG – Best of 1\, 3 to 4 rounds\nRiftbound TCG – Best of 3\, 3 to 4 rounds\n\n\n\n\n*Join our Discord for updates \n\n\n  \n 
URL:https://comicquest.org/event/card-game-tcg-night-swu-gundam-3-2/2026-03-02/
LOCATION:Comic Quest\, 23811 Bridger #111 CA 92630\, Lake Forest\, CA\, 92630\, United States
CATEGORIES:Event,Lorcana
ATTACH;FMTTYPE=image/png:https://comicquest.org/wp-content/uploads/2025/07/monday-madness2.png
END:VEVENT
BEGIN:VEVENT
DTSTART;TZID=Asia/Shanghai:20260303T180000
DTEND;TZID=Asia/Shanghai:20260303T210000
DTSTAMP:20260423T124854
CREATED:20251230T022535Z
LAST-MODIFIED:20251230T022644Z
UID:10003824-1772560800-1772571600@comicquest.org
SUMMARY:Lorcana Night
DESCRIPTION:WEEKLY LORCANA at COMIC QUEST.\nTuesdays – 6pm to 9pm.\nCasual League play\, two game format\, 3 – 4 rounds. Casual/Manual pairings.\nConstructed – bring your own deck!\n\nEarn Points for Disney swag and promo cards.\nEXTRA POINTS: Earn points besides game wins/losses- in the following ways:\n• 1. Theme Deck  Each week we have a different deck theme. If you accomplish this during a match\, you get a point.\n• 2. Wear your Disney garb/merch. Wear something with Disney on it. Pins\, Hats\, Socks\, Shirts\, Shoes\, etc\n• 3. Bring a friend new to league\n• 4. Teach someone to play\n• 5. Come to league.\n• 6. Trade\n• 7. Play a group game!\nCome Play With Us!\n\n*Join our Discord and our Comic Quest Lorcana Facebook group for updates and the weekly deck theme. \n\n\n 
URL:https://comicquest.org/event/lorcana-night-83-2/2026-03-03/
LOCATION:Comic Quest\, 23811 Bridger #111 CA 92630\, Lake Forest\, CA\, 92630\, United States
CATEGORIES:Event,Lorcana
ATTACH;FMTTYPE=image/jpeg:https://comicquest.org/wp-content/uploads/2023/04/loracana.jpg
END:VEVENT
BEGIN:VEVENT
DTSTART;TZID=Asia/Shanghai:20260309T180000
DTEND;TZID=Asia/Shanghai:20260309T210000
DTSTAMP:20260423T124854
CREATED:20251125T012317Z
LAST-MODIFIED:20251125T012318Z
UID:10001873-1773079200-1773090000@comicquest.org
SUMMARY:Card Game TCG Night (SWU & Gundam & Riftbound)
DESCRIPTION:Card Game TCG Night \n\nWEEKLY Card Game TCG at COMIC QUEST.\nMondays – 6pm to 9pm.\n\nConstructed – bring your own deck!\n\n\nStar Wars Unlimited\nGundam TCG – Best of 1\, 3 to 4 rounds\nRiftbound TCG – Best of 3\, 3 to 4 rounds\n\n\n\n\n*Join our Discord for updates \n\n\n  \n 
URL:https://comicquest.org/event/card-game-tcg-night-swu-gundam-3-2/2026-03-09/
LOCATION:Comic Quest\, 23811 Bridger #111 CA 92630\, Lake Forest\, CA\, 92630\, United States
CATEGORIES:Event,Lorcana
ATTACH;FMTTYPE=image/png:https://comicquest.org/wp-content/uploads/2025/07/monday-madness2.png
END:VEVENT
BEGIN:VEVENT
DTSTART;TZID=Asia/Shanghai:20260310T180000
DTEND;TZID=Asia/Shanghai:20260310T210000
DTSTAMP:20260423T124854
CREATED:20251230T022535Z
LAST-MODIFIED:20251230T022644Z
UID:10003825-1773165600-1773176400@comicquest.org
SUMMARY:Lorcana Night
DESCRIPTION:WEEKLY LORCANA at COMIC QUEST.\nTuesdays – 6pm to 9pm.\nCasual League play\, two game format\, 3 – 4 rounds. Casual/Manual pairings.\nConstructed – bring your own deck!\n\nEarn Points for Disney swag and promo cards.\nEXTRA POINTS: Earn points besides game wins/losses- in the following ways:\n• 1. Theme Deck  Each week we have a different deck theme. If you accomplish this during a match\, you get a point.\n• 2. Wear your Disney garb/merch. Wear something with Disney on it. Pins\, Hats\, Socks\, Shirts\, Shoes\, etc\n• 3. Bring a friend new to league\n• 4. Teach someone to play\n• 5. Come to league.\n• 6. Trade\n• 7. Play a group game!\nCome Play With Us!\n\n*Join our Discord and our Comic Quest Lorcana Facebook group for updates and the weekly deck theme. \n\n\n 
URL:https://comicquest.org/event/lorcana-night-83-2/2026-03-10/
LOCATION:Comic Quest\, 23811 Bridger #111 CA 92630\, Lake Forest\, CA\, 92630\, United States
CATEGORIES:Event,Lorcana
ATTACH;FMTTYPE=image/jpeg:https://comicquest.org/wp-content/uploads/2023/04/loracana.jpg
END:VEVENT
BEGIN:VEVENT
DTSTART;TZID=Asia/Shanghai:20260316T180000
DTEND;TZID=Asia/Shanghai:20260316T210000
DTSTAMP:20260423T124854
CREATED:20251125T012317Z
LAST-MODIFIED:20251125T012318Z
UID:10001874-1773684000-1773694800@comicquest.org
SUMMARY:Card Game TCG Night (SWU & Gundam & Riftbound)
DESCRIPTION:Card Game TCG Night \n\nWEEKLY Card Game TCG at COMIC QUEST.\nMondays – 6pm to 9pm.\n\nConstructed – bring your own deck!\n\n\nStar Wars Unlimited\nGundam TCG – Best of 1\, 3 to 4 rounds\nRiftbound TCG – Best of 3\, 3 to 4 rounds\n\n\n\n\n*Join our Discord for updates \n\n\n  \n 
URL:https://comicquest.org/event/card-game-tcg-night-swu-gundam-3-2/2026-03-16/
LOCATION:Comic Quest\, 23811 Bridger #111 CA 92630\, Lake Forest\, CA\, 92630\, United States
CATEGORIES:Event,Lorcana
ATTACH;FMTTYPE=image/png:https://comicquest.org/wp-content/uploads/2025/07/monday-madness2.png
END:VEVENT
BEGIN:VEVENT
DTSTART;TZID=Asia/Shanghai:20260317T180000
DTEND;TZID=Asia/Shanghai:20260317T210000
DTSTAMP:20260423T124854
CREATED:20251230T022535Z
LAST-MODIFIED:20251230T022644Z
UID:10003826-1773770400-1773781200@comicquest.org
SUMMARY:Lorcana Night
DESCRIPTION:WEEKLY LORCANA at COMIC QUEST.\nTuesdays – 6pm to 9pm.\nCasual League play\, two game format\, 3 – 4 rounds. Casual/Manual pairings.\nConstructed – bring your own deck!\n\nEarn Points for Disney swag and promo cards.\nEXTRA POINTS: Earn points besides game wins/losses- in the following ways:\n• 1. Theme Deck  Each week we have a different deck theme. If you accomplish this during a match\, you get a point.\n• 2. Wear your Disney garb/merch. Wear something with Disney on it. Pins\, Hats\, Socks\, Shirts\, Shoes\, etc\n• 3. Bring a friend new to league\n• 4. Teach someone to play\n• 5. Come to league.\n• 6. Trade\n• 7. Play a group game!\nCome Play With Us!\n\n*Join our Discord and our Comic Quest Lorcana Facebook group for updates and the weekly deck theme. \n\n\n 
URL:https://comicquest.org/event/lorcana-night-83-2/2026-03-17/
LOCATION:Comic Quest\, 23811 Bridger #111 CA 92630\, Lake Forest\, CA\, 92630\, United States
CATEGORIES:Event,Lorcana
ATTACH;FMTTYPE=image/jpeg:https://comicquest.org/wp-content/uploads/2023/04/loracana.jpg
END:VEVENT
BEGIN:VEVENT
DTSTART;TZID=Asia/Shanghai:20260323T180000
DTEND;TZID=Asia/Shanghai:20260323T210000
DTSTAMP:20260423T124854
CREATED:20251125T012317Z
LAST-MODIFIED:20251125T012318Z
UID:10001875-1774288800-1774299600@comicquest.org
SUMMARY:Card Game TCG Night (SWU & Gundam & Riftbound)
DESCRIPTION:Card Game TCG Night \n\nWEEKLY Card Game TCG at COMIC QUEST.\nMondays – 6pm to 9pm.\n\nConstructed – bring your own deck!\n\n\nStar Wars Unlimited\nGundam TCG – Best of 1\, 3 to 4 rounds\nRiftbound TCG – Best of 3\, 3 to 4 rounds\n\n\n\n\n*Join our Discord for updates \n\n\n  \n 
URL:https://comicquest.org/event/card-game-tcg-night-swu-gundam-3-2/2026-03-23/
LOCATION:Comic Quest\, 23811 Bridger #111 CA 92630\, Lake Forest\, CA\, 92630\, United States
CATEGORIES:Event,Lorcana
ATTACH;FMTTYPE=image/png:https://comicquest.org/wp-content/uploads/2025/07/monday-madness2.png
END:VEVENT
BEGIN:VEVENT
DTSTART;TZID=Asia/Shanghai:20260324T180000
DTEND;TZID=Asia/Shanghai:20260324T210000
DTSTAMP:20260423T124854
CREATED:20251230T022535Z
LAST-MODIFIED:20251230T022644Z
UID:10003827-1774375200-1774386000@comicquest.org
SUMMARY:Lorcana Night
DESCRIPTION:WEEKLY LORCANA at COMIC QUEST.\nTuesdays – 6pm to 9pm.\nCasual League play\, two game format\, 3 – 4 rounds. Casual/Manual pairings.\nConstructed – bring your own deck!\n\nEarn Points for Disney swag and promo cards.\nEXTRA POINTS: Earn points besides game wins/losses- in the following ways:\n• 1. Theme Deck  Each week we have a different deck theme. If you accomplish this during a match\, you get a point.\n• 2. Wear your Disney garb/merch. Wear something with Disney on it. Pins\, Hats\, Socks\, Shirts\, Shoes\, etc\n• 3. Bring a friend new to league\n• 4. Teach someone to play\n• 5. Come to league.\n• 6. Trade\n• 7. Play a group game!\nCome Play With Us!\n\n*Join our Discord and our Comic Quest Lorcana Facebook group for updates and the weekly deck theme. \n\n\n 
URL:https://comicquest.org/event/lorcana-night-83-2/2026-03-24/
LOCATION:Comic Quest\, 23811 Bridger #111 CA 92630\, Lake Forest\, CA\, 92630\, United States
CATEGORIES:Event,Lorcana
ATTACH;FMTTYPE=image/jpeg:https://comicquest.org/wp-content/uploads/2023/04/loracana.jpg
END:VEVENT
BEGIN:VEVENT
DTSTART;TZID=Asia/Shanghai:20260330T180000
DTEND;TZID=Asia/Shanghai:20260330T210000
DTSTAMP:20260423T124854
CREATED:20251125T012317Z
LAST-MODIFIED:20251125T012318Z
UID:10001876-1774893600-1774904400@comicquest.org
SUMMARY:Card Game TCG Night (SWU & Gundam & Riftbound)
DESCRIPTION:Card Game TCG Night \n\nWEEKLY Card Game TCG at COMIC QUEST.\nMondays – 6pm to 9pm.\n\nConstructed – bring your own deck!\n\n\nStar Wars Unlimited\nGundam TCG – Best of 1\, 3 to 4 rounds\nRiftbound TCG – Best of 3\, 3 to 4 rounds\n\n\n\n\n*Join our Discord for updates \n\n\n  \n 
URL:https://comicquest.org/event/card-game-tcg-night-swu-gundam-3-2/2026-03-30/
LOCATION:Comic Quest\, 23811 Bridger #111 CA 92630\, Lake Forest\, CA\, 92630\, United States
CATEGORIES:Event,Lorcana
ATTACH;FMTTYPE=image/png:https://comicquest.org/wp-content/uploads/2025/07/monday-madness2.png
END:VEVENT
BEGIN:VEVENT
DTSTART;TZID=Asia/Shanghai:20260331T180000
DTEND;TZID=Asia/Shanghai:20260331T210000
DTSTAMP:20260423T124854
CREATED:20251230T022535Z
LAST-MODIFIED:20251230T022644Z
UID:10003828-1774980000-1774990800@comicquest.org
SUMMARY:Lorcana Night
DESCRIPTION:WEEKLY LORCANA at COMIC QUEST.\nTuesdays – 6pm to 9pm.\nCasual League play\, two game format\, 3 – 4 rounds. Casual/Manual pairings.\nConstructed – bring your own deck!\n\nEarn Points for Disney swag and promo cards.\nEXTRA POINTS: Earn points besides game wins/losses- in the following ways:\n• 1. Theme Deck  Each week we have a different deck theme. If you accomplish this during a match\, you get a point.\n• 2. Wear your Disney garb/merch. Wear something with Disney on it. Pins\, Hats\, Socks\, Shirts\, Shoes\, etc\n• 3. Bring a friend new to league\n• 4. Teach someone to play\n• 5. Come to league.\n• 6. Trade\n• 7. Play a group game!\nCome Play With Us!\n\n*Join our Discord and our Comic Quest Lorcana Facebook group for updates and the weekly deck theme. \n\n\n 
URL:https://comicquest.org/event/lorcana-night-83-2/2026-03-31/
LOCATION:Comic Quest\, 23811 Bridger #111 CA 92630\, Lake Forest\, CA\, 92630\, United States
CATEGORIES:Event,Lorcana
ATTACH;FMTTYPE=image/jpeg:https://comicquest.org/wp-content/uploads/2023/04/loracana.jpg
END:VEVENT
END:VCALENDAR