BEGIN:VCALENDAR
VERSION:2.0
PRODID:-//Comic Quest - ECPv6.15.20//NONSGML v1.0//EN
CALSCALE:GREGORIAN
METHOD:PUBLISH
X-ORIGINAL-URL:https://comicquest.org
X-WR-CALDESC:Events for Comic Quest
REFRESH-INTERVAL;VALUE=DURATION:PT1H
X-Robots-Tag:noindex
X-PUBLISHED-TTL:PT1H
BEGIN:VTIMEZONE
TZID:Asia/Shanghai
BEGIN:STANDARD
TZOFFSETFROM:+0800
TZOFFSETTO:+0800
TZNAME:CST
DTSTART:20230101T000000
END:STANDARD
END:VTIMEZONE
BEGIN:VEVENT
DTSTART;TZID=Asia/Shanghai:20241112T180000
DTEND;TZID=Asia/Shanghai:20241112T210000
DTSTAMP:20260424T152922
CREATED:20240627T190943Z
LAST-MODIFIED:20240627T190943Z
UID:10000950-1731434400-1731445200@comicquest.org
SUMMARY:Lorcana Night
DESCRIPTION:WEEKLY LORCANA at COMIC QUEST.\nTuesdays – 6pm to 9pm.\nOpen play and Casual League play – Swiss\, best of 3 rounds.\nConstructed – bring your own deck!\n*As previously talked about at our past store events\, we are officially starting Tuesdays as Lorcana night at Comic Quest.\nCome play with others.\n\n 
URL:https://comicquest.org/event/lorcana-night-43/
LOCATION:Comic Quest\, 23811 Bridger #111 CA 92630\, Lake Forest\, CA\, 92630\, United States
CATEGORIES:Event,Lorcana
ATTACH;FMTTYPE=image/jpeg:https://comicquest.org/wp-content/uploads/2023/04/loracana.jpg
END:VEVENT
BEGIN:VEVENT
DTSTART;TZID=Asia/Shanghai:20241112T180000
DTEND;TZID=Asia/Shanghai:20241112T210000
DTSTAMP:20260424T152922
CREATED:20241030T235237Z
LAST-MODIFIED:20241030T235319Z
UID:10001240-1731434400-1731445200@comicquest.org
SUMMARY:Lorcana Night -- Guest Artist Brian Kesinger
DESCRIPTION:Tues Nov 12 – Guest Artist Brian Kesinger. = 6pm to 9pm. He’ll sign your cards and have some of his own portfolios/art books to sell. Brians’s cards he’s done art for: Flotsam Riffraff\, Jetsam Riffraff\, Jetsam Ursula’s Baby\, Flotsam Ursula’s Baby\, Flotsam&Jetsam Tangling Eels\, Break Free\, Hades Hotheaded Ruler\, Genie Main Attraction\, Kakamora Menacing Sailor\, Olaf Trusted Companion\, Gaston Despicable Dealer\, Bruno Madrigal Unspeakable Seer.\n\n\n\n\nWe will also have Lorcana play as well. Theme TBA\, but feel free to bring challenge decks\, your own theme decks as well.
URL:https://comicquest.org/event/lorcana-night-guest-artist-brian-kesinger/
LOCATION:Comic Quest\, 23811 Bridger #111 CA 92630\, Lake Forest\, CA\, 92630\, United States
CATEGORIES:Event,Lorcana
ATTACH;FMTTYPE=image/jpeg:https://comicquest.org/wp-content/uploads/2024/10/image0-2-scaled.jpeg
END:VEVENT
END:VCALENDAR