BEGIN:VCALENDAR
VERSION:2.0
PRODID:-//Comic Quest - ECPv6.15.20//NONSGML v1.0//EN
CALSCALE:GREGORIAN
METHOD:PUBLISH
X-ORIGINAL-URL:https://comicquest.org
X-WR-CALDESC:Events for Comic Quest
REFRESH-INTERVAL;VALUE=DURATION:PT1H
X-Robots-Tag:noindex
X-PUBLISHED-TTL:PT1H
BEGIN:VTIMEZONE
TZID:Asia/Shanghai
BEGIN:STANDARD
TZOFFSETFROM:+0800
TZOFFSETTO:+0800
TZNAME:CST
DTSTART:20240101T000000
END:STANDARD
END:VTIMEZONE
BEGIN:VEVENT
DTSTART;VALUE=DATE:20250307
DTEND;VALUE=DATE:20250308
DTSTAMP:20260424T083757
CREATED:20241219T043450Z
LAST-MODIFIED:20250211T010951Z
UID:10001419-1741305600-1741391999@comicquest.org
SUMMARY:Lorcana New Set Launch - Archazia's Island Preorders Available
DESCRIPTION:Lorcana New Set Launch Archazia’s Island \n \nNew Set 7 \nProduct PreOrders available now in store: \nPreOrder Discounts available. \n15% Off all product preorders. \n  \nDisney Lorcana TCG: Archazia’s Island – Booster Display $121.99 (price includes 15% discount) \n 15% off the listed MSRP price on products below:\nDisney Lorcana TCG: Archazia’s Island Starter Deck (Amethyst & Steel) $16.99\nDisney Lorcana TCG: Archazia’s Island Starter Deck (Ruby & Sapphire) $16.99\nDisney Lorcana TCG: Archazia’s Island- Illumineer`s Trove $49.99\nDisney Lorcana TCG: Archazia’s Island – Lilo’s Gift Set $29.99\nDisney Lorcana TCG: Archazia’s Island – Playmat\, Big Hero 6 $19.99\nDisney Lorcana TCG: Archazia’s Island – Playmat\, Tigger $19.99 \n  \n  \n  \n 
URL:https://comicquest.org/event/lorcana-new-set-launch-archazias-island/
LOCATION:Comic Quest\, 23811 Bridger #111 CA 92630\, Lake Forest\, CA\, 92630\, United States
CATEGORIES:Lorcana
ATTACH;FMTTYPE=image/jpeg:https://comicquest.org/wp-content/uploads/2023/04/loracana.jpg
END:VEVENT
END:VCALENDAR