BEGIN:VCALENDAR
VERSION:2.0
PRODID:-//Comic Quest - ECPv6.15.20//NONSGML v1.0//EN
CALSCALE:GREGORIAN
METHOD:PUBLISH
X-ORIGINAL-URL:https://comicquest.org
X-WR-CALDESC:Events for Comic Quest
REFRESH-INTERVAL;VALUE=DURATION:PT1H
X-Robots-Tag:noindex
X-PUBLISHED-TTL:PT1H
BEGIN:VTIMEZONE
TZID:Asia/Shanghai
BEGIN:STANDARD
TZOFFSETFROM:+0800
TZOFFSETTO:+0800
TZNAME:CST
DTSTART:20240101T000000
END:STANDARD
END:VTIMEZONE
BEGIN:VEVENT
DTSTART;VALUE=DATE:20250530
DTEND;VALUE=DATE:20250531
DTSTAMP:20260424T054301
CREATED:20250121T160741Z
LAST-MODIFIED:20250520T235533Z
UID:10001458-1748563200-1748649599@comicquest.org
SUMMARY:Lorcana New Set Launch - Reign of Jafar
DESCRIPTION:Lorcana New Set Launch Reign of Jafar \nSealed Deck PreRelease Launch event – Saturday May 31. *Sign up in store. See calendar date 5/31 for details. \nPreorders for the NEW Lorcana Set 8 – Reign of Jafar – have begun!\nPrices listed are BEFORE our very nice CQ Preorder Discount.\n*Note: Booster Boxes are already discounted – the listed price is the discounted price. \nBuy-A-Box Promo Card: Minnie Mouse Daring Defender (While Supplies Last). Get this promo card when you buy a box. Only 1 per customer \nPREORDERS END – WED MAY 28 \nSet 8 Reign of Jafar Accessories \n \nSet 8 Reign of Jafar Core Products \nReign of Jafar Buy-A-Box Promo Card \n  \nDisney Lorcana: Reign of Jafar – Set 8_Launch FLGS May 30\, 2025 Price \n\nDisney Lorcana: Reign of Jafar – Booster Display (24) $121.99 *Already discounted price.\nDisney Lorcana: Reign of Jafar – Starter Deck (Ruby & Steel) $16.99\nDisney Lorcana: Reign of Jafar – Starter Deck (Amber & Sapphire) $16.99\nDisney Lorcana: Reign of Jafar Illumineer’s Trove $49.99\nDisney Lorcana: Reign of Jafar Illumineer’s Quest (Palace Heist). $59.99\nPlaymat: Disney Lorcana- Reign of Jafar- Hades\, Double Dealer $19.99\nPlaymat: Disney Lorcana- Reign of Jafar- Rescue Rangers Away! $19.99\nCard Sleeves: Reign of Jafar- Mickey Mouse\, Wayward Sorcerer (65ct) $9.99\nCard Sleeves: Reign of Jafar- Tinker Bell\, Giant Fairy (65ct) $9.99\nDeck Box: Reign of Jafar- Mickey Mouse\, Wayward Sorcerer $5.99\nDeck Box: Reign of Jafar- Tinker Bell\, Giant Fairy $5.99\n\n \n  \n  \n  \n  \n  \n 
URL:https://comicquest.org/event/lorcana-new-set-launch-reign-of-jafar/
LOCATION:Comic Quest\, 23811 Bridger #111 CA 92630\, Lake Forest\, CA\, 92630\, United States
CATEGORIES:Lorcana
ATTACH;FMTTYPE=image/jpeg:https://comicquest.org/wp-content/uploads/2025/01/DLC_ROJ_EN_lorez.jpg
END:VEVENT
END:VCALENDAR