BEGIN:VCALENDAR
VERSION:2.0
PRODID:-//Comic Quest - ECPv6.15.20//NONSGML v1.0//EN
CALSCALE:GREGORIAN
METHOD:PUBLISH
X-WR-CALNAME:Comic Quest
X-ORIGINAL-URL:https://comicquest.org
X-WR-CALDESC:Events for Comic Quest
REFRESH-INTERVAL;VALUE=DURATION:PT1H
X-Robots-Tag:noindex
X-PUBLISHED-TTL:PT1H
BEGIN:VTIMEZONE
TZID:Asia/Shanghai
BEGIN:STANDARD
TZOFFSETFROM:+0800
TZOFFSETTO:+0800
TZNAME:CST
DTSTART:20230101T000000
END:STANDARD
END:VTIMEZONE
BEGIN:VEVENT
DTSTART;TZID=Asia/Shanghai:20241105T180000
DTEND;TZID=Asia/Shanghai:20241105T210000
DTSTAMP:20260424T035044
CREATED:20240627T190916Z
LAST-MODIFIED:20240627T190916Z
UID:10000949-1730829600-1730840400@comicquest.org
SUMMARY:Lorcana Night
DESCRIPTION:WEEKLY LORCANA at COMIC QUEST.\nTuesdays – 6pm to 9pm.\nOpen play and Casual League play – Swiss\, best of 3 rounds.\nConstructed – bring your own deck!\n*As previously talked about at our past store events\, we are officially starting Tuesdays as Lorcana night at Comic Quest.\nCome play with others.\n\n 
URL:https://comicquest.org/event/lorcana-night-42/
LOCATION:Comic Quest\, 23811 Bridger #111 CA 92630\, Lake Forest\, CA\, 92630\, United States
CATEGORIES:Event,Lorcana
ATTACH;FMTTYPE=image/jpeg:https://comicquest.org/wp-content/uploads/2023/04/loracana.jpg
END:VEVENT
BEGIN:VEVENT
DTSTART;TZID=Asia/Shanghai:20241029T180000
DTEND;TZID=Asia/Shanghai:20241029T210000
DTSTAMP:20260424T035044
CREATED:20240627T190848Z
LAST-MODIFIED:20240627T190848Z
UID:10000948-1730224800-1730235600@comicquest.org
SUMMARY:Lorcana Night
DESCRIPTION:WEEKLY LORCANA at COMIC QUEST.\nTuesdays – 6pm to 9pm.\nOpen play and Casual League play – Swiss\, best of 3 rounds.\nConstructed – bring your own deck!\n*As previously talked about at our past store events\, we are officially starting Tuesdays as Lorcana night at Comic Quest.\nCome play with others.\n\n 
URL:https://comicquest.org/event/lorcana-night-41/
LOCATION:Comic Quest\, 23811 Bridger #111 CA 92630\, Lake Forest\, CA\, 92630\, United States
CATEGORIES:Event,Lorcana
ATTACH;FMTTYPE=image/jpeg:https://comicquest.org/wp-content/uploads/2023/04/loracana.jpg
END:VEVENT
BEGIN:VEVENT
DTSTART;TZID=Asia/Shanghai:20241022T180000
DTEND;TZID=Asia/Shanghai:20241022T210000
DTSTAMP:20260424T035044
CREATED:20240627T190821Z
LAST-MODIFIED:20240627T190821Z
UID:10000947-1729620000-1729630800@comicquest.org
SUMMARY:Lorcana Night
DESCRIPTION:WEEKLY LORCANA at COMIC QUEST.\nTuesdays – 6pm to 9pm.\nOpen play and Casual League play – Swiss\, best of 3 rounds.\nConstructed – bring your own deck!\n*As previously talked about at our past store events\, we are officially starting Tuesdays as Lorcana night at Comic Quest.\nCome play with others.\n\n 
URL:https://comicquest.org/event/lorcana-night-40/
LOCATION:Comic Quest\, 23811 Bridger #111 CA 92630\, Lake Forest\, CA\, 92630\, United States
CATEGORIES:Event,Lorcana
ATTACH;FMTTYPE=image/jpeg:https://comicquest.org/wp-content/uploads/2023/04/loracana.jpg
END:VEVENT
BEGIN:VEVENT
DTSTART;TZID=Asia/Shanghai:20241015T180000
DTEND;TZID=Asia/Shanghai:20241015T210000
DTSTAMP:20260424T035044
CREATED:20240627T190742Z
LAST-MODIFIED:20240627T190742Z
UID:10000946-1729015200-1729026000@comicquest.org
SUMMARY:Lorcana Night
DESCRIPTION:WEEKLY LORCANA at COMIC QUEST.\nTuesdays – 6pm to 9pm.\nOpen play and Casual League play – Swiss\, best of 3 rounds.\nConstructed – bring your own deck!\n*As previously talked about at our past store events\, we are officially starting Tuesdays as Lorcana night at Comic Quest.\nCome play with others.\n\n 
URL:https://comicquest.org/event/lorcana-night-39/
LOCATION:Comic Quest\, 23811 Bridger #111 CA 92630\, Lake Forest\, CA\, 92630\, United States
CATEGORIES:Event,Lorcana
ATTACH;FMTTYPE=image/jpeg:https://comicquest.org/wp-content/uploads/2023/04/loracana.jpg
END:VEVENT
BEGIN:VEVENT
DTSTART;TZID=Asia/Shanghai:20241008T180000
DTEND;TZID=Asia/Shanghai:20241008T210000
DTSTAMP:20260424T035044
CREATED:20240627T190711Z
LAST-MODIFIED:20240627T190711Z
UID:10000945-1728410400-1728421200@comicquest.org
SUMMARY:Lorcana Night
DESCRIPTION:WEEKLY LORCANA at COMIC QUEST.\nTuesdays – 6pm to 9pm.\nOpen play and Casual League play – Swiss\, best of 3 rounds.\nConstructed – bring your own deck!\n*As previously talked about at our past store events\, we are officially starting Tuesdays as Lorcana night at Comic Quest.\nCome play with others.\n\n 
URL:https://comicquest.org/event/lorcana-night-38/
LOCATION:Comic Quest\, 23811 Bridger #111 CA 92630\, Lake Forest\, CA\, 92630\, United States
CATEGORIES:Event,Lorcana
ATTACH;FMTTYPE=image/jpeg:https://comicquest.org/wp-content/uploads/2023/04/loracana.jpg
END:VEVENT
BEGIN:VEVENT
DTSTART;TZID=Asia/Shanghai:20241001T180000
DTEND;TZID=Asia/Shanghai:20241001T210000
DTSTAMP:20260424T035044
CREATED:20240627T190650Z
LAST-MODIFIED:20240627T190650Z
UID:10000944-1727805600-1727816400@comicquest.org
SUMMARY:Lorcana Night
DESCRIPTION:WEEKLY LORCANA at COMIC QUEST.\nTuesdays – 6pm to 9pm.\nOpen play and Casual League play – Swiss\, best of 3 rounds.\nConstructed – bring your own deck!\n*As previously talked about at our past store events\, we are officially starting Tuesdays as Lorcana night at Comic Quest.\nCome play with others.\n\n 
URL:https://comicquest.org/event/lorcana-night-37/
LOCATION:Comic Quest\, 23811 Bridger #111 CA 92630\, Lake Forest\, CA\, 92630\, United States
CATEGORIES:Event,Lorcana
ATTACH;FMTTYPE=image/jpeg:https://comicquest.org/wp-content/uploads/2023/04/loracana.jpg
END:VEVENT
BEGIN:VEVENT
DTSTART;TZID=Asia/Shanghai:20240924T180000
DTEND;TZID=Asia/Shanghai:20240924T210000
DTSTAMP:20260424T035044
CREATED:20240627T190621Z
LAST-MODIFIED:20240627T190621Z
UID:10000943-1727200800-1727211600@comicquest.org
SUMMARY:Lorcana Night
DESCRIPTION:WEEKLY LORCANA at COMIC QUEST.\nTuesdays – 6pm to 9pm.\nOpen play and Casual League play – Swiss\, best of 3 rounds.\nConstructed – bring your own deck!\n*As previously talked about at our past store events\, we are officially starting Tuesdays as Lorcana night at Comic Quest.\nCome play with others.\n\n 
URL:https://comicquest.org/event/lorcana-night-36/
LOCATION:Comic Quest\, 23811 Bridger #111 CA 92630\, Lake Forest\, CA\, 92630\, United States
CATEGORIES:Event,Lorcana
ATTACH;FMTTYPE=image/jpeg:https://comicquest.org/wp-content/uploads/2023/04/loracana.jpg
END:VEVENT
BEGIN:VEVENT
DTSTART;TZID=Asia/Shanghai:20240917T180000
DTEND;TZID=Asia/Shanghai:20240917T210000
DTSTAMP:20260424T035044
CREATED:20240627T190557Z
LAST-MODIFIED:20240627T190557Z
UID:10000942-1726596000-1726606800@comicquest.org
SUMMARY:Lorcana Night
DESCRIPTION:WEEKLY LORCANA at COMIC QUEST.\nTuesdays – 6pm to 9pm.\nOpen play and Casual League play – Swiss\, best of 3 rounds.\nConstructed – bring your own deck!\n*As previously talked about at our past store events\, we are officially starting Tuesdays as Lorcana night at Comic Quest.\nCome play with others.\n\n 
URL:https://comicquest.org/event/lorcana-night-35/
LOCATION:Comic Quest\, 23811 Bridger #111 CA 92630\, Lake Forest\, CA\, 92630\, United States
CATEGORIES:Event,Lorcana
ATTACH;FMTTYPE=image/jpeg:https://comicquest.org/wp-content/uploads/2023/04/loracana.jpg
END:VEVENT
BEGIN:VEVENT
DTSTART;TZID=Asia/Shanghai:20240910T180000
DTEND;TZID=Asia/Shanghai:20240910T210000
DTSTAMP:20260424T035044
CREATED:20240627T190533Z
LAST-MODIFIED:20240627T190533Z
UID:10000941-1725991200-1726002000@comicquest.org
SUMMARY:Lorcana Night
DESCRIPTION:WEEKLY LORCANA at COMIC QUEST.\nTuesdays – 6pm to 9pm.\nOpen play and Casual League play – Swiss\, best of 3 rounds.\nConstructed – bring your own deck!\n*As previously talked about at our past store events\, we are officially starting Tuesdays as Lorcana night at Comic Quest.\nCome play with others.\n\n 
URL:https://comicquest.org/event/lorcana-night-34/
LOCATION:Comic Quest\, 23811 Bridger #111 CA 92630\, Lake Forest\, CA\, 92630\, United States
CATEGORIES:Event,Lorcana
ATTACH;FMTTYPE=image/jpeg:https://comicquest.org/wp-content/uploads/2023/04/loracana.jpg
END:VEVENT
BEGIN:VEVENT
DTSTART;TZID=Asia/Shanghai:20240903T180000
DTEND;TZID=Asia/Shanghai:20240903T210000
DTSTAMP:20260424T035044
CREATED:20240627T190504Z
LAST-MODIFIED:20240901T002946Z
UID:10000940-1725386400-1725397200@comicquest.org
SUMMARY:Lorcana Night
DESCRIPTION:WEEKLY LORCANA at COMIC QUEST.\nTuesdays – 6pm to 9pm.\nOpen play and Casual League play\, best of 3 rounds.\nConstructed – bring your own deck!\n\nEarn Points for Disney swag and promo cards.\nEXTRA POINTS: Earn points besides game wins/losses- in the following ways:\n• 1. Theme Deck  Each week we have a different deck theme. If you accomplish this during a match\, you get a point.\n• 2. Wear your Disney garb/merch. Wear something with Disney on it. Pins\, Hats\, Socks\, Shirts\, Shoes\, etc\n• 3. Bring a friend new to league\n• 4. Teach someone to play\n• 5. Come to league.\nCome Play With Us!\n\n*Join our Discord and our Comic Quest Lorcana Facebook group for updates and the weekly deck theme.
URL:https://comicquest.org/event/lorcana-night-33/
LOCATION:Comic Quest\, 23811 Bridger #111 CA 92630\, Lake Forest\, CA\, 92630\, United States
CATEGORIES:Event,Lorcana
ATTACH;FMTTYPE=image/jpeg:https://comicquest.org/wp-content/uploads/2023/04/loracana.jpg
END:VEVENT
BEGIN:VEVENT
DTSTART;TZID=Asia/Shanghai:20240827T180000
DTEND;TZID=Asia/Shanghai:20240827T210000
DTSTAMP:20260424T035044
CREATED:20240221T204948Z
LAST-MODIFIED:20240221T204948Z
UID:10000830-1724781600-1724792400@comicquest.org
SUMMARY:Lorcana Night
DESCRIPTION:WEEKLY LORCANA at COMIC QUEST.\nTuesdays – 6pm to 9pm.\nOpen play and Casual League play – Swiss\, best of 3 rounds.\nConstructed – bring your own deck!\n*As previously talked about at our past store events\, we are officially starting Tuesdays as Lorcana night at Comic Quest.\nCome play with others.\n\n 
URL:https://comicquest.org/event/lorcana-night-31/
LOCATION:Comic Quest\, 23811 Bridger #111 CA 92630\, Lake Forest\, CA\, 92630\, United States
CATEGORIES:Event,Lorcana
ATTACH;FMTTYPE=image/jpeg:https://comicquest.org/wp-content/uploads/2023/04/loracana.jpg
END:VEVENT
BEGIN:VEVENT
DTSTART;TZID=Asia/Shanghai:20240820T180000
DTEND;TZID=Asia/Shanghai:20240820T210000
DTSTAMP:20260424T035044
CREATED:20240221T204918Z
LAST-MODIFIED:20240221T204918Z
UID:10000829-1724176800-1724187600@comicquest.org
SUMMARY:Lorcana Night
DESCRIPTION:WEEKLY LORCANA at COMIC QUEST.\nTuesdays – 6pm to 9pm.\nOpen play and Casual League play – Swiss\, best of 3 rounds.\nConstructed – bring your own deck!\n*As previously talked about at our past store events\, we are officially starting Tuesdays as Lorcana night at Comic Quest.\nCome play with others.\n\n 
URL:https://comicquest.org/event/lorcana-night-30/
LOCATION:Comic Quest\, 23811 Bridger #111 CA 92630\, Lake Forest\, CA\, 92630\, United States
CATEGORIES:Event,Lorcana
ATTACH;FMTTYPE=image/jpeg:https://comicquest.org/wp-content/uploads/2023/04/loracana.jpg
END:VEVENT
BEGIN:VEVENT
DTSTART;TZID=Asia/Shanghai:20240813T180000
DTEND;TZID=Asia/Shanghai:20240813T210000
DTSTAMP:20260424T035044
CREATED:20240221T204848Z
LAST-MODIFIED:20240221T204848Z
UID:10000828-1723572000-1723582800@comicquest.org
SUMMARY:Lorcana Night
DESCRIPTION:WEEKLY LORCANA at COMIC QUEST.\nTuesdays – 6pm to 9pm.\nOpen play and Casual League play – Swiss\, best of 3 rounds.\nConstructed – bring your own deck!\n*As previously talked about at our past store events\, we are officially starting Tuesdays as Lorcana night at Comic Quest.\nCome play with others.\n\n 
URL:https://comicquest.org/event/lorcana-night-29/
LOCATION:Comic Quest\, 23811 Bridger #111 CA 92630\, Lake Forest\, CA\, 92630\, United States
CATEGORIES:Event,Lorcana
ATTACH;FMTTYPE=image/jpeg:https://comicquest.org/wp-content/uploads/2023/04/loracana.jpg
END:VEVENT
BEGIN:VEVENT
DTSTART;TZID=Asia/Shanghai:20240806T180000
DTEND;TZID=Asia/Shanghai:20240806T210000
DTSTAMP:20260424T035044
CREATED:20240221T204820Z
LAST-MODIFIED:20240221T204820Z
UID:10000827-1722967200-1722978000@comicquest.org
SUMMARY:Lorcana Night
DESCRIPTION:WEEKLY LORCANA at COMIC QUEST.\nTuesdays – 6pm to 9pm.\nOpen play and Casual League play – Swiss\, best of 3 rounds.\nConstructed – bring your own deck!\n*As previously talked about at our past store events\, we are officially starting Tuesdays as Lorcana night at Comic Quest.\nCome play with others.\n\n 
URL:https://comicquest.org/event/lorcana-night-28/
LOCATION:Comic Quest\, 23811 Bridger #111 CA 92630\, Lake Forest\, CA\, 92630\, United States
CATEGORIES:Event,Lorcana
ATTACH;FMTTYPE=image/jpeg:https://comicquest.org/wp-content/uploads/2023/04/loracana.jpg
END:VEVENT
BEGIN:VEVENT
DTSTART;TZID=Asia/Shanghai:20240730T180000
DTEND;TZID=Asia/Shanghai:20240730T210000
DTSTAMP:20260424T035044
CREATED:20240221T204752Z
LAST-MODIFIED:20240221T204752Z
UID:10000826-1722362400-1722373200@comicquest.org
SUMMARY:Lorcana Night
DESCRIPTION:WEEKLY LORCANA at COMIC QUEST.\nTuesdays – 6pm to 9pm.\nOpen play and Casual League play – Swiss\, best of 3 rounds.\nConstructed – bring your own deck!\n*As previously talked about at our past store events\, we are officially starting Tuesdays as Lorcana night at Comic Quest.\nCome play with others.\n\n 
URL:https://comicquest.org/event/lorcana-night-27/
LOCATION:Comic Quest\, 23811 Bridger #111 CA 92630\, Lake Forest\, CA\, 92630\, United States
CATEGORIES:Event,Lorcana
ATTACH;FMTTYPE=image/jpeg:https://comicquest.org/wp-content/uploads/2023/04/loracana.jpg
END:VEVENT
BEGIN:VEVENT
DTSTART;TZID=Asia/Shanghai:20240723T180000
DTEND;TZID=Asia/Shanghai:20240723T210000
DTSTAMP:20260424T035044
CREATED:20240221T204728Z
LAST-MODIFIED:20240221T204728Z
UID:10000825-1721757600-1721768400@comicquest.org
SUMMARY:Lorcana Night
DESCRIPTION:WEEKLY LORCANA at COMIC QUEST.\nTuesdays – 6pm to 9pm.\nOpen play and Casual League play – Swiss\, best of 3 rounds.\nConstructed – bring your own deck!\n*As previously talked about at our past store events\, we are officially starting Tuesdays as Lorcana night at Comic Quest.\nCome play with others.\n\n 
URL:https://comicquest.org/event/lorcana-night-26/
LOCATION:Comic Quest\, 23811 Bridger #111 CA 92630\, Lake Forest\, CA\, 92630\, United States
CATEGORIES:Event,Lorcana
ATTACH;FMTTYPE=image/jpeg:https://comicquest.org/wp-content/uploads/2023/04/loracana.jpg
END:VEVENT
BEGIN:VEVENT
DTSTART;TZID=Asia/Shanghai:20240716T180000
DTEND;TZID=Asia/Shanghai:20240716T210000
DTSTAMP:20260424T035044
CREATED:20240221T204657Z
LAST-MODIFIED:20240221T204657Z
UID:10000824-1721152800-1721163600@comicquest.org
SUMMARY:Lorcana Night
DESCRIPTION:WEEKLY LORCANA at COMIC QUEST.\nTuesdays – 6pm to 9pm.\nOpen play and Casual League play – Swiss\, best of 3 rounds.\nConstructed – bring your own deck!\n*As previously talked about at our past store events\, we are officially starting Tuesdays as Lorcana night at Comic Quest.\nCome play with others.\n\n 
URL:https://comicquest.org/event/lorcana-night-25/
LOCATION:Comic Quest\, 23811 Bridger #111 CA 92630\, Lake Forest\, CA\, 92630\, United States
CATEGORIES:Event,Lorcana
ATTACH;FMTTYPE=image/jpeg:https://comicquest.org/wp-content/uploads/2023/04/loracana.jpg
END:VEVENT
BEGIN:VEVENT
DTSTART;TZID=Asia/Shanghai:20240709T180000
DTEND;TZID=Asia/Shanghai:20240709T210000
DTSTAMP:20260424T035044
CREATED:20240221T204617Z
LAST-MODIFIED:20240221T204617Z
UID:10000823-1720548000-1720558800@comicquest.org
SUMMARY:Lorcana Night
DESCRIPTION:WEEKLY LORCANA at COMIC QUEST.\nTuesdays – 6pm to 9pm.\nOpen play and Casual League play – Swiss\, best of 3 rounds.\nConstructed – bring your own deck!\n*As previously talked about at our past store events\, we are officially starting Tuesdays as Lorcana night at Comic Quest.\nCome play with others.\n\n 
URL:https://comicquest.org/event/lorcana-night-24/
LOCATION:Comic Quest\, 23811 Bridger #111 CA 92630\, Lake Forest\, CA\, 92630\, United States
CATEGORIES:Event,Lorcana
ATTACH;FMTTYPE=image/jpeg:https://comicquest.org/wp-content/uploads/2023/04/loracana.jpg
END:VEVENT
BEGIN:VEVENT
DTSTART;TZID=Asia/Shanghai:20240702T180000
DTEND;TZID=Asia/Shanghai:20240702T210000
DTSTAMP:20260424T035044
CREATED:20240221T204544Z
LAST-MODIFIED:20240221T204544Z
UID:10000822-1719943200-1719954000@comicquest.org
SUMMARY:Lorcana Night
DESCRIPTION:WEEKLY LORCANA at COMIC QUEST.\nTuesdays – 6pm to 9pm.\nOpen play and Casual League play – Swiss\, best of 3 rounds.\nConstructed – bring your own deck!\n*As previously talked about at our past store events\, we are officially starting Tuesdays as Lorcana night at Comic Quest.\nCome play with others.\n\n 
URL:https://comicquest.org/event/lorcana-night-23/
LOCATION:Comic Quest\, 23811 Bridger #111 CA 92630\, Lake Forest\, CA\, 92630\, United States
CATEGORIES:Event,Lorcana
ATTACH;FMTTYPE=image/jpeg:https://comicquest.org/wp-content/uploads/2023/04/loracana.jpg
END:VEVENT
BEGIN:VEVENT
DTSTART;TZID=Asia/Shanghai:20240625T180000
DTEND;TZID=Asia/Shanghai:20240625T210000
DTSTAMP:20260424T035044
CREATED:20240221T204516Z
LAST-MODIFIED:20240221T204516Z
UID:10000821-1719338400-1719349200@comicquest.org
SUMMARY:Lorcana Night
DESCRIPTION:WEEKLY LORCANA at COMIC QUEST.\nTuesdays – 6pm to 9pm.\nOpen play and Casual League play – Swiss\, best of 3 rounds.\nConstructed – bring your own deck!\n*As previously talked about at our past store events\, we are officially starting Tuesdays as Lorcana night at Comic Quest.\nCome play with others.\n\n 
URL:https://comicquest.org/event/lorcana-night-22/
LOCATION:Comic Quest\, 23811 Bridger #111 CA 92630\, Lake Forest\, CA\, 92630\, United States
CATEGORIES:Event,Lorcana
ATTACH;FMTTYPE=image/jpeg:https://comicquest.org/wp-content/uploads/2023/04/loracana.jpg
END:VEVENT
BEGIN:VEVENT
DTSTART;TZID=Asia/Shanghai:20240618T180000
DTEND;TZID=Asia/Shanghai:20240618T210000
DTSTAMP:20260424T035044
CREATED:20240221T204431Z
LAST-MODIFIED:20240221T204431Z
UID:10000820-1718733600-1718744400@comicquest.org
SUMMARY:Lorcana Night
DESCRIPTION:WEEKLY LORCANA at COMIC QUEST.\nTuesdays – 6pm to 9pm.\nOpen play and Casual League play – Swiss\, best of 3 rounds.\nConstructed – bring your own deck!\n*As previously talked about at our past store events\, we are officially starting Tuesdays as Lorcana night at Comic Quest.\nCome play with others.\n\n 
URL:https://comicquest.org/event/lorcana-night-21/
LOCATION:Comic Quest\, 23811 Bridger #111 CA 92630\, Lake Forest\, CA\, 92630\, United States
CATEGORIES:Event,Lorcana
ATTACH;FMTTYPE=image/jpeg:https://comicquest.org/wp-content/uploads/2023/04/loracana.jpg
END:VEVENT
BEGIN:VEVENT
DTSTART;TZID=Asia/Shanghai:20240611T180000
DTEND;TZID=Asia/Shanghai:20240611T210000
DTSTAMP:20260424T035044
CREATED:20240221T204359Z
LAST-MODIFIED:20240221T204359Z
UID:10000819-1718128800-1718139600@comicquest.org
SUMMARY:Lorcana Night
DESCRIPTION:WEEKLY LORCANA at COMIC QUEST.\nTuesdays – 6pm to 9pm.\nOpen play and Casual League play – Swiss\, best of 3 rounds.\nConstructed – bring your own deck!\n*As previously talked about at our past store events\, we are officially starting Tuesdays as Lorcana night at Comic Quest.\nCome play with others.\n\n 
URL:https://comicquest.org/event/lorcana-night-20/
LOCATION:Comic Quest\, 23811 Bridger #111 CA 92630\, Lake Forest\, CA\, 92630\, United States
CATEGORIES:Event,Lorcana
ATTACH;FMTTYPE=image/jpeg:https://comicquest.org/wp-content/uploads/2023/04/loracana.jpg
END:VEVENT
BEGIN:VEVENT
DTSTART;TZID=Asia/Shanghai:20240604T180000
DTEND;TZID=Asia/Shanghai:20240604T210000
DTSTAMP:20260424T035044
CREATED:20240221T204324Z
LAST-MODIFIED:20240221T204324Z
UID:10000818-1717524000-1717534800@comicquest.org
SUMMARY:Lorcana Night
DESCRIPTION:WEEKLY LORCANA at COMIC QUEST.\nTuesdays – 6pm to 9pm.\nOpen play and Casual League play – Swiss\, best of 3 rounds.\nConstructed – bring your own deck!\n*As previously talked about at our past store events\, we are officially starting Tuesdays as Lorcana night at Comic Quest.\nCome play with others.\n\n 
URL:https://comicquest.org/event/lorcana-night-19/
LOCATION:Comic Quest\, 23811 Bridger #111 CA 92630\, Lake Forest\, CA\, 92630\, United States
CATEGORIES:Event,Lorcana
ATTACH;FMTTYPE=image/jpeg:https://comicquest.org/wp-content/uploads/2023/04/loracana.jpg
END:VEVENT
BEGIN:VEVENT
DTSTART;TZID=Asia/Shanghai:20240528T180000
DTEND;TZID=Asia/Shanghai:20240528T210000
DTSTAMP:20260424T035044
CREATED:20240221T204255Z
LAST-MODIFIED:20240221T204255Z
UID:10000817-1716919200-1716930000@comicquest.org
SUMMARY:Lorcana Night
DESCRIPTION:WEEKLY LORCANA at COMIC QUEST.\nTuesdays – 6pm to 9pm.\nOpen play and Casual League play – Swiss\, best of 3 rounds.\nConstructed – bring your own deck!\n*As previously talked about at our past store events\, we are officially starting Tuesdays as Lorcana night at Comic Quest.\nCome play with others.\n\n 
URL:https://comicquest.org/event/lorcana-night-18/
LOCATION:Comic Quest\, 23811 Bridger #111 CA 92630\, Lake Forest\, CA\, 92630\, United States
CATEGORIES:Event,Lorcana
ATTACH;FMTTYPE=image/jpeg:https://comicquest.org/wp-content/uploads/2023/04/loracana.jpg
END:VEVENT
BEGIN:VEVENT
DTSTART;TZID=Asia/Shanghai:20240521T180000
DTEND;TZID=Asia/Shanghai:20240521T210000
DTSTAMP:20260424T035044
CREATED:20240221T204229Z
LAST-MODIFIED:20240221T204229Z
UID:10000816-1716314400-1716325200@comicquest.org
SUMMARY:Lorcana Night
DESCRIPTION:WEEKLY LORCANA at COMIC QUEST.\nTuesdays – 6pm to 9pm.\nOpen play and Casual League play – Swiss\, best of 3 rounds.\nConstructed – bring your own deck!\n*As previously talked about at our past store events\, we are officially starting Tuesdays as Lorcana night at Comic Quest.\nCome play with others.\n\n 
URL:https://comicquest.org/event/lorcana-night-17/
LOCATION:Comic Quest\, 23811 Bridger #111 CA 92630\, Lake Forest\, CA\, 92630\, United States
CATEGORIES:Event,Lorcana
ATTACH;FMTTYPE=image/jpeg:https://comicquest.org/wp-content/uploads/2023/04/loracana.jpg
END:VEVENT
BEGIN:VEVENT
DTSTART;TZID=Asia/Shanghai:20240514T180000
DTEND;TZID=Asia/Shanghai:20240514T210000
DTSTAMP:20260424T035044
CREATED:20240221T204204Z
LAST-MODIFIED:20240221T204204Z
UID:10000815-1715709600-1715720400@comicquest.org
SUMMARY:Lorcana Night
DESCRIPTION:WEEKLY LORCANA at COMIC QUEST.\nTuesdays – 6pm to 9pm.\nOpen play and Casual League play – Swiss\, best of 3 rounds.\nConstructed – bring your own deck!\n*As previously talked about at our past store events\, we are officially starting Tuesdays as Lorcana night at Comic Quest.\nCome play with others.\n\n 
URL:https://comicquest.org/event/lorcana-night-16/
LOCATION:Comic Quest\, 23811 Bridger #111 CA 92630\, Lake Forest\, CA\, 92630\, United States
CATEGORIES:Event,Lorcana
ATTACH;FMTTYPE=image/jpeg:https://comicquest.org/wp-content/uploads/2023/04/loracana.jpg
END:VEVENT
BEGIN:VEVENT
DTSTART;TZID=Asia/Shanghai:20240507T180000
DTEND;TZID=Asia/Shanghai:20240507T210000
DTSTAMP:20260424T035044
CREATED:20240221T204137Z
LAST-MODIFIED:20240221T204137Z
UID:10000814-1715104800-1715115600@comicquest.org
SUMMARY:Lorcana Night
DESCRIPTION:WEEKLY LORCANA at COMIC QUEST.\nTuesdays – 6pm to 9pm.\nOpen play and Casual League play – Swiss\, best of 3 rounds.\nConstructed – bring your own deck!\n*As previously talked about at our past store events\, we are officially starting Tuesdays as Lorcana night at Comic Quest.\nCome play with others.\n\n 
URL:https://comicquest.org/event/lorcana-night-15/
LOCATION:Comic Quest\, 23811 Bridger #111 CA 92630\, Lake Forest\, CA\, 92630\, United States
CATEGORIES:Event,Lorcana
ATTACH;FMTTYPE=image/jpeg:https://comicquest.org/wp-content/uploads/2023/04/loracana.jpg
END:VEVENT
BEGIN:VEVENT
DTSTART;TZID=Asia/Shanghai:20240430T180000
DTEND;TZID=Asia/Shanghai:20240430T210000
DTSTAMP:20260424T035044
CREATED:20240221T204111Z
LAST-MODIFIED:20240221T204111Z
UID:10000813-1714500000-1714510800@comicquest.org
SUMMARY:Lorcana Night
DESCRIPTION:WEEKLY LORCANA at COMIC QUEST.\nTuesdays – 6pm to 9pm.\nOpen play and Casual League play – Swiss\, best of 3 rounds.\nConstructed – bring your own deck!\n*As previously talked about at our past store events\, we are officially starting Tuesdays as Lorcana night at Comic Quest.\nCome play with others.\n\n 
URL:https://comicquest.org/event/lorcana-night-14/
LOCATION:Comic Quest\, 23811 Bridger #111 CA 92630\, Lake Forest\, CA\, 92630\, United States
CATEGORIES:Event,Lorcana
ATTACH;FMTTYPE=image/jpeg:https://comicquest.org/wp-content/uploads/2023/04/loracana.jpg
END:VEVENT
BEGIN:VEVENT
DTSTART;TZID=Asia/Shanghai:20240423T180000
DTEND;TZID=Asia/Shanghai:20240423T210000
DTSTAMP:20260424T035044
CREATED:20240221T204040Z
LAST-MODIFIED:20240221T204040Z
UID:10000812-1713895200-1713906000@comicquest.org
SUMMARY:Lorcana Night
DESCRIPTION:WEEKLY LORCANA at COMIC QUEST.\nTuesdays – 6pm to 9pm.\nOpen play and Casual League play – Swiss\, best of 3 rounds.\nConstructed – bring your own deck!\n*As previously talked about at our past store events\, we are officially starting Tuesdays as Lorcana night at Comic Quest.\nCome play with others.\n\n 
URL:https://comicquest.org/event/lorcana-night-13/
LOCATION:Comic Quest\, 23811 Bridger #111 CA 92630\, Lake Forest\, CA\, 92630\, United States
CATEGORIES:Event,Lorcana
ATTACH;FMTTYPE=image/jpeg:https://comicquest.org/wp-content/uploads/2023/04/loracana.jpg
END:VEVENT
BEGIN:VEVENT
DTSTART;TZID=Asia/Shanghai:20240416T180000
DTEND;TZID=Asia/Shanghai:20240416T210000
DTSTAMP:20260424T035044
CREATED:20240221T204011Z
LAST-MODIFIED:20240221T204011Z
UID:10000811-1713290400-1713301200@comicquest.org
SUMMARY:Lorcana Night
DESCRIPTION:WEEKLY LORCANA at COMIC QUEST.\nTuesdays – 6pm to 9pm.\nOpen play and Casual League play – Swiss\, best of 3 rounds.\nConstructed – bring your own deck!\n*As previously talked about at our past store events\, we are officially starting Tuesdays as Lorcana night at Comic Quest.\nCome play with others.\n\n 
URL:https://comicquest.org/event/lorcana-night-12/
LOCATION:Comic Quest\, 23811 Bridger #111 CA 92630\, Lake Forest\, CA\, 92630\, United States
CATEGORIES:Event,Lorcana
ATTACH;FMTTYPE=image/jpeg:https://comicquest.org/wp-content/uploads/2023/04/loracana.jpg
END:VEVENT
END:VCALENDAR