BEGIN:VCALENDAR
VERSION:2.0
PRODID:-//Comic Quest - ECPv6.15.20//NONSGML v1.0//EN
CALSCALE:GREGORIAN
METHOD:PUBLISH
X-ORIGINAL-URL:https://comicquest.org
X-WR-CALDESC:Events for Comic Quest
REFRESH-INTERVAL;VALUE=DURATION:PT1H
X-Robots-Tag:noindex
X-PUBLISHED-TTL:PT1H
BEGIN:VTIMEZONE
TZID:America/Los_Angeles
BEGIN:DAYLIGHT
TZOFFSETFROM:-0800
TZOFFSETTO:-0700
TZNAME:PDT
DTSTART:20240310T100000
END:DAYLIGHT
BEGIN:STANDARD
TZOFFSETFROM:-0700
TZOFFSETTO:-0800
TZNAME:PST
DTSTART:20241103T090000
END:STANDARD
BEGIN:DAYLIGHT
TZOFFSETFROM:-0800
TZOFFSETTO:-0700
TZNAME:PDT
DTSTART:20250309T100000
END:DAYLIGHT
BEGIN:STANDARD
TZOFFSETFROM:-0700
TZOFFSETTO:-0800
TZNAME:PST
DTSTART:20251102T090000
END:STANDARD
BEGIN:DAYLIGHT
TZOFFSETFROM:-0800
TZOFFSETTO:-0700
TZNAME:PDT
DTSTART:20260308T100000
END:DAYLIGHT
BEGIN:STANDARD
TZOFFSETFROM:-0700
TZOFFSETTO:-0800
TZNAME:PST
DTSTART:20261101T090000
END:STANDARD
END:VTIMEZONE
BEGIN:VEVENT
DTSTART;VALUE=DATE:20250606
DTEND;VALUE=DATE:20250607
DTSTAMP:20260424T054120
CREATED:20241029T225933Z
LAST-MODIFIED:20250602T174912Z
UID:10001229-1749168000-1749254399@comicquest.org
SUMMARY:Final Fantasy -New Magic Set Early Release
DESCRIPTION:New Magic Set Early Release Date = Friday June 6. \nFor FLGS stores \n \n  \nNew Magic The Gathering set prerelease events:  Final Fantasy \nFriday Jun 6 6pm \nSaturday Jun 7  Noon \nSunday Jun 8 Noon \n$44.00 \nSign ups available in store now. \nThe beloved FINAL FANTASY RPG series’ sixteen mainline games of unforgettable characters\, items\, and moments are now here in Magic: The Gathering! Cast powerful spells\, call upon classic summons\, and even visit your favorite locations on the back of a chocobo. Countless elements from the games are here for you to weave together your own story! \nPrizes for winning matches. \nAlso\, a limited edition custom time token while supplies last. \nAlso don’t forget that packs and boxes are available starting Friday June 6.   With a cool buy-a-box card ‘Herald’s Horn’. \n\n\n\n\n \n  \n  \n 
URL:https://comicquest.org/event/magic-release-final-fantasy/
LOCATION:Comic Quest\, 23811 Bridger #111 CA 92630\, Lake Forest\, CA\, 92630\, United States
CATEGORIES:Event,Magic,Tournament
ATTACH;FMTTYPE=image/png:https://comicquest.org/wp-content/uploads/2023/09/magic_the_gathering_logo.png
END:VEVENT
BEGIN:VEVENT
DTSTART;TZID=America/Los_Angeles:20250606T180000
DTEND;TZID=America/Los_Angeles:20250606T220000
DTSTAMP:20260424T054120
CREATED:20240831T022520Z
LAST-MODIFIED:20240831T022520Z
UID:10001155-1749232800-1749247200@comicquest.org
SUMMARY:Friday Night Magic
DESCRIPTION:Friday Night Magic! Come Join the fun! \nModern and Commander Formats. \nOn occasion sealed & draft around new set launches. \nPlease join our Facebook group. \nhttps://www.facebook.com/groups/426423864154241/
URL:https://comicquest.org/event/friday-night-magic-118/
LOCATION:Comic Quest\, 23811 Bridger #111 CA 92630\, Lake Forest\, CA\, 92630\, United States
CATEGORIES:Event,Magic,Tournament
ATTACH;FMTTYPE=image/jpeg:https://comicquest.org/wp-content/uploads/2023/01/Friday-Night-Magic.jpg
END:VEVENT
BEGIN:VEVENT
DTSTART;TZID=America/Los_Angeles:20250607T120000
DTEND;TZID=America/Los_Angeles:20250607T170000
DTSTAMP:20260424T054120
CREATED:20241029T233559Z
LAST-MODIFIED:20250602T174954Z
UID:10001235-1749297600-1749315600@comicquest.org
SUMMARY:Magic Prerelease - Final Fantasy
DESCRIPTION:Prerelease is your community’s first opportunity to get their hands on the newest Magic: The Gathering release and explore what the set has to offer\, and Prerelease Packs are the perfect product to fuel the first events of this new set. \n\n\n\n\n\nMagic the Gathering: Final Fantasy \nPreRelease Event = Sat& Sun June 7 and June 8 \n \nNew Magic The Gathering set prerelease events:  Final Fantasy \nFriday Jun 6 6pm \nSaturday Jun 7  Noon \nSunday Jun 8 Noon \n$44.00 \nSign ups available in store now. \nThe beloved FINAL FANTASY RPG series’ sixteen mainline games of unforgettable characters\, items\, and moments are now here in Magic: The Gathering! Cast powerful spells\, call upon classic summons\, and even visit your favorite locations on the back of a chocobo. Countless elements from the games are here for you to weave together your own story! \nPrizes for winning matches. \nAlso\, a limited edition custom time token while supplies last. \nAlso don’t forget that packs and boxes are available starting Friday June 6.   With a cool buy-a-box card ‘Herald’s Horn’.
URL:https://comicquest.org/event/magic-prerelease-final-fantasy/
LOCATION:Comic Quest\, 23811 Bridger #111 CA 92630\, Lake Forest\, CA\, 92630\, United States
CATEGORIES:Event,Magic,Tournament
ATTACH;FMTTYPE=image/jpeg:https://comicquest.org/wp-content/uploads/2023/03/magic_prerelease.jpg
END:VEVENT
BEGIN:VEVENT
DTSTART;TZID=America/Los_Angeles:20250608T120000
DTEND;TZID=America/Los_Angeles:20250608T170000
DTSTAMP:20260424T054120
CREATED:20241029T233634Z
LAST-MODIFIED:20250602T175025Z
UID:10001236-1749384000-1749402000@comicquest.org
SUMMARY:Magic Prerelease - Final Fantasy
DESCRIPTION:Prerelease is your community’s first opportunity to get their hands on the newest Magic: The Gathering release and explore what the set has to offer\, and Prerelease Packs are the perfect product to fuel the first events of this new set. \n\n\n\n\n\nMagic the Gathering: Final Fantasy \nPreRelease Event = Sat& Sun June 7 and June 8 \n \nNew Magic The Gathering set prerelease events:  Final Fantasy \nFriday Jun 6 6pm \nSaturday Jun 7  Noon \nSunday Jun 8 Noon \n$44.00 \nSign ups available in store now. \nThe beloved FINAL FANTASY RPG series’ sixteen mainline games of unforgettable characters\, items\, and moments are now here in Magic: The Gathering! Cast powerful spells\, call upon classic summons\, and even visit your favorite locations on the back of a chocobo. Countless elements from the games are here for you to weave together your own story! \nPrizes for winning matches. \nAlso\, a limited edition custom time token while supplies last. \nAlso don’t forget that packs and boxes are available starting Friday June 6.   With a cool buy-a-box card ‘Herald’s Horn’.
URL:https://comicquest.org/event/magic-prerelease-final-fantasy-2/
LOCATION:Comic Quest\, 23811 Bridger #111 CA 92630\, Lake Forest\, CA\, 92630\, United States
CATEGORIES:Event,Magic,Tournament
ATTACH;FMTTYPE=image/jpeg:https://comicquest.org/wp-content/uploads/2023/03/magic_prerelease.jpg
END:VEVENT
BEGIN:VEVENT
DTSTART;TZID=America/Los_Angeles:20250613T180000
DTEND;TZID=America/Los_Angeles:20250613T220000
DTSTAMP:20260424T054120
CREATED:20240831T022549Z
LAST-MODIFIED:20240831T022549Z
UID:10001156-1749837600-1749852000@comicquest.org
SUMMARY:Friday Night Magic
DESCRIPTION:Friday Night Magic! Come Join the fun! \nModern and Commander Formats. \nOn occasion sealed & draft around new set launches. \nPlease join our Facebook group. \nhttps://www.facebook.com/groups/426423864154241/
URL:https://comicquest.org/event/friday-night-magic-119/
LOCATION:Comic Quest\, 23811 Bridger #111 CA 92630\, Lake Forest\, CA\, 92630\, United States
CATEGORIES:Event,Magic,Tournament
ATTACH;FMTTYPE=image/jpeg:https://comicquest.org/wp-content/uploads/2023/01/Friday-Night-Magic.jpg
END:VEVENT
BEGIN:VEVENT
DTSTART;TZID=America/Los_Angeles:20250620T180000
DTEND;TZID=America/Los_Angeles:20250620T220000
DTSTAMP:20260424T054120
CREATED:20240831T022610Z
LAST-MODIFIED:20240831T022610Z
UID:10001157-1750442400-1750456800@comicquest.org
SUMMARY:Friday Night Magic
DESCRIPTION:Friday Night Magic! Come Join the fun! \nModern and Commander Formats. \nOn occasion sealed & draft around new set launches. \nPlease join our Facebook group. \nhttps://www.facebook.com/groups/426423864154241/
URL:https://comicquest.org/event/friday-night-magic-120/
LOCATION:Comic Quest\, 23811 Bridger #111 CA 92630\, Lake Forest\, CA\, 92630\, United States
CATEGORIES:Event,Magic,Tournament
ATTACH;FMTTYPE=image/jpeg:https://comicquest.org/wp-content/uploads/2023/01/Friday-Night-Magic.jpg
END:VEVENT
BEGIN:VEVENT
DTSTART;TZID=America/Los_Angeles:20250627T180000
DTEND;TZID=America/Los_Angeles:20250627T220000
DTSTAMP:20260424T054120
CREATED:20240831T022640Z
LAST-MODIFIED:20240831T022640Z
UID:10001158-1751047200-1751061600@comicquest.org
SUMMARY:Friday Night Magic
DESCRIPTION:Friday Night Magic! Come Join the fun! \nModern and Commander Formats. \nOn occasion sealed & draft around new set launches. \nPlease join our Facebook group. \nhttps://www.facebook.com/groups/426423864154241/
URL:https://comicquest.org/event/friday-night-magic-121/
LOCATION:Comic Quest\, 23811 Bridger #111 CA 92630\, Lake Forest\, CA\, 92630\, United States
CATEGORIES:Event,Magic,Tournament
ATTACH;FMTTYPE=image/jpeg:https://comicquest.org/wp-content/uploads/2023/01/Friday-Night-Magic.jpg
END:VEVENT
END:VCALENDAR