BEGIN:VCALENDAR
VERSION:2.0
PRODID:-//Comic Quest - ECPv6.15.20//NONSGML v1.0//EN
CALSCALE:GREGORIAN
METHOD:PUBLISH
X-ORIGINAL-URL:https://comicquest.org
X-WR-CALDESC:Events for Comic Quest
REFRESH-INTERVAL;VALUE=DURATION:PT1H
X-Robots-Tag:noindex
X-PUBLISHED-TTL:PT1H
BEGIN:VTIMEZONE
TZID:America/Los_Angeles
BEGIN:DAYLIGHT
TZOFFSETFROM:-0800
TZOFFSETTO:-0700
TZNAME:PDT
DTSTART:20240310T100000
END:DAYLIGHT
BEGIN:STANDARD
TZOFFSETFROM:-0700
TZOFFSETTO:-0800
TZNAME:PST
DTSTART:20241103T090000
END:STANDARD
BEGIN:DAYLIGHT
TZOFFSETFROM:-0800
TZOFFSETTO:-0700
TZNAME:PDT
DTSTART:20250309T100000
END:DAYLIGHT
BEGIN:STANDARD
TZOFFSETFROM:-0700
TZOFFSETTO:-0800
TZNAME:PST
DTSTART:20251102T090000
END:STANDARD
BEGIN:DAYLIGHT
TZOFFSETFROM:-0800
TZOFFSETTO:-0700
TZNAME:PDT
DTSTART:20260308T100000
END:DAYLIGHT
BEGIN:STANDARD
TZOFFSETFROM:-0700
TZOFFSETTO:-0800
TZNAME:PST
DTSTART:20261101T090000
END:STANDARD
END:VTIMEZONE
BEGIN:VEVENT
DTSTART;VALUE=DATE:20250801
DTEND;VALUE=DATE:20250802
DTSTAMP:20260424T003422
CREATED:20241029T230031Z
LAST-MODIFIED:20241029T230031Z
UID:10001230-1754006400-1754092799@comicquest.org
SUMMARY:Magic Release - Edge of Eternities
DESCRIPTION:New Magic Set Release Date \n \n  \n  \n\n\n\n  \n\n  \n  \n  \n  \n  \n 
URL:https://comicquest.org/event/magic-release-edge-of-eternities/
LOCATION:Comic Quest\, 23811 Bridger #111 CA 92630\, Lake Forest\, CA\, 92630\, United States
CATEGORIES:Event,Magic,Tournament
ATTACH;FMTTYPE=image/png:https://comicquest.org/wp-content/uploads/2023/09/magic_the_gathering_logo.png
END:VEVENT
BEGIN:VEVENT
DTSTART;TZID=America/Los_Angeles:20250801T180000
DTEND;TZID=America/Los_Angeles:20250801T220000
DTSTAMP:20260424T003422
CREATED:20241112T043143Z
LAST-MODIFIED:20241112T043143Z
UID:10001279-1754071200-1754085600@comicquest.org
SUMMARY:Friday Night Magic
DESCRIPTION:Friday Night Magic! Come Join the fun! \nModern and Commander Formats. \nOn occasion sealed & draft around new set launches. \nPlease join our Facebook group. \nhttps://www.facebook.com/groups/426423864154241/
URL:https://comicquest.org/event/friday-night-magic-126/
LOCATION:Comic Quest\, 23811 Bridger #111 CA 92630\, Lake Forest\, CA\, 92630\, United States
CATEGORIES:Event,Magic,Tournament
ATTACH;FMTTYPE=image/jpeg:https://comicquest.org/wp-content/uploads/2023/01/Friday-Night-Magic.jpg
END:VEVENT
BEGIN:VEVENT
DTSTART;TZID=America/Los_Angeles:20250808T180000
DTEND;TZID=America/Los_Angeles:20250808T220000
DTSTAMP:20260424T003422
CREATED:20241112T043206Z
LAST-MODIFIED:20250808T002417Z
UID:10001280-1754676000-1754690400@comicquest.org
SUMMARY:Friday Night Magic
DESCRIPTION:Friday Night Magic! Come Join the fun! \nStandard and Commander Formats. \nOn occasion sealed & draft around new set launches. \nPlease join our Facebook group & our Discord \nhttps://www.facebook.com/groups/426423864154241/
URL:https://comicquest.org/event/friday-night-magic-127/
LOCATION:Comic Quest\, 23811 Bridger #111 CA 92630\, Lake Forest\, CA\, 92630\, United States
CATEGORIES:Event,Magic,Tournament
ATTACH;FMTTYPE=image/jpeg:https://comicquest.org/wp-content/uploads/2023/01/Friday-Night-Magic.jpg
END:VEVENT
BEGIN:VEVENT
DTSTART;TZID=America/Los_Angeles:20250808T180000
DTEND;TZID=America/Los_Angeles:20250808T220000
DTSTAMP:20260424T003422
CREATED:20250808T005217Z
LAST-MODIFIED:20250811T042625Z
UID:10003236-1754676000-1754690400@comicquest.org
SUMMARY:Friday Night Magic -- Learn to Play
DESCRIPTION:Learn to Play Magic! Deck Building Strategies.  \nFriday August 8th & 15th. 6:00pm\nFREE Deck to keep (choose from several options). \nFree Guides and Tips. Learn with an instructor \nWe will walk you through the game. And play a few rounds.\nWe’ll be doing more of these in the months to come. \n*********** \n  \nFriday Night Magic! Come Join the fun! \nCommander Formats and Standard Showdown. \nOn occasion sealed & draft around new set launches. \n  \nPlease join our Facebook group. And Discord. \nhttps://www.facebook.com/groups/426423864154241/ \n 
URL:https://comicquest.org/event/friday-night-magic-learn-to-play-3/
LOCATION:Comic Quest\, 23811 Bridger #111 CA 92630\, Lake Forest\, CA\, 92630\, United States
CATEGORIES:Event,Magic,Tournament
ATTACH;FMTTYPE=image/jpeg:https://comicquest.org/wp-content/uploads/2025/08/Learn-to-Play-Magic_cq-logo_8.8-8.15.25.jpg
END:VEVENT
BEGIN:VEVENT
DTSTART;TZID=America/Los_Angeles:20250815T180000
DTEND;TZID=America/Los_Angeles:20250815T220000
DTSTAMP:20260424T003422
CREATED:20241112T043240Z
LAST-MODIFIED:20250815T015729Z
UID:10001281-1755280800-1755295200@comicquest.org
SUMMARY:Friday Night Magic
DESCRIPTION:Friday Night Magic! Come Join the fun! \nStandard and Commander Formats. \nFree\, unless a draft or sealed event. \nOn Demand Drafts – just ask the TO. \nOn occasion sealed & draft around new set launches. \nPlease join our Facebook group & Discord. \nhttps://www.facebook.com/groups/426423864154241/
URL:https://comicquest.org/event/friday-night-magic-128/2025-08-15/
LOCATION:Comic Quest\, 23811 Bridger #111 CA 92630\, Lake Forest\, CA\, 92630\, United States
CATEGORIES:Event,Magic,Tournament
ATTACH;FMTTYPE=image/jpeg:https://comicquest.org/wp-content/uploads/2023/01/Friday-Night-Magic.jpg
END:VEVENT
BEGIN:VEVENT
DTSTART;TZID=America/Los_Angeles:20250815T180000
DTEND;TZID=America/Los_Angeles:20250815T220000
DTSTAMP:20260424T003422
CREATED:20250810T002613Z
LAST-MODIFIED:20250811T042757Z
UID:10003310-1755280800-1755295200@comicquest.org
SUMMARY:Friday Night Magic -- Learn to Play
DESCRIPTION:Learn to Play Magic! Deck Building Strategies.  \nFriday August 8th & 15th. 6:00pm\nFREE Deck to keep (choose from several options). \nFree Guides and Tips. Learn with an instructor \nWe will walk you through the game. And play a few rounds.\nWe’ll be doing more of these in the months to come. \n*********** \n  \nFriday Night Magic! Come Join the fun! \nCommander Formats and Standard Showdown. \nOn occasion sealed & draft around new set launches. \n  \nPlease join our Facebook group. And Discord. \nhttps://www.facebook.com/groups/426423864154241/ \n 
URL:https://comicquest.org/event/friday-night-magic-learn-to-play-4/
LOCATION:Comic Quest\, 23811 Bridger #111 CA 92630\, Lake Forest\, CA\, 92630\, United States
CATEGORIES:Event,Magic,Tournament
ATTACH;FMTTYPE=image/jpeg:https://comicquest.org/wp-content/uploads/2025/08/Learn-to-Play-Magic_cq-logo_8.8-8.15.25.jpg
END:VEVENT
BEGIN:VEVENT
DTSTART;TZID=America/Los_Angeles:20250822T180000
DTEND;TZID=America/Los_Angeles:20250822T220000
DTSTAMP:20260424T003422
CREATED:20241112T043240Z
LAST-MODIFIED:20250815T015729Z
UID:10003319-1755885600-1755900000@comicquest.org
SUMMARY:Friday Night Magic
DESCRIPTION:Friday Night Magic! Come Join the fun! \nStandard and Commander Formats. \nFree\, unless a draft or sealed event. \nOn Demand Drafts – just ask the TO. \nOn occasion sealed & draft around new set launches. \nPlease join our Facebook group & Discord. \nhttps://www.facebook.com/groups/426423864154241/
URL:https://comicquest.org/event/friday-night-magic-128/2025-08-22/
LOCATION:Comic Quest\, 23811 Bridger #111 CA 92630\, Lake Forest\, CA\, 92630\, United States
CATEGORIES:Event,Magic,Tournament
ATTACH;FMTTYPE=image/jpeg:https://comicquest.org/wp-content/uploads/2023/01/Friday-Night-Magic.jpg
END:VEVENT
BEGIN:VEVENT
DTSTART;TZID=America/Los_Angeles:20250829T180000
DTEND;TZID=America/Los_Angeles:20250829T220000
DTSTAMP:20260424T003422
CREATED:20241112T043240Z
LAST-MODIFIED:20250815T015729Z
UID:10003320-1756490400-1756504800@comicquest.org
SUMMARY:Friday Night Magic
DESCRIPTION:Friday Night Magic! Come Join the fun! \nStandard and Commander Formats. \nFree\, unless a draft or sealed event. \nOn Demand Drafts – just ask the TO. \nOn occasion sealed & draft around new set launches. \nPlease join our Facebook group & Discord. \nhttps://www.facebook.com/groups/426423864154241/
URL:https://comicquest.org/event/friday-night-magic-128/2025-08-29/
LOCATION:Comic Quest\, 23811 Bridger #111 CA 92630\, Lake Forest\, CA\, 92630\, United States
CATEGORIES:Event,Magic,Tournament
ATTACH;FMTTYPE=image/jpeg:https://comicquest.org/wp-content/uploads/2023/01/Friday-Night-Magic.jpg
END:VEVENT
END:VCALENDAR