BEGIN:VCALENDAR
VERSION:2.0
PRODID:-//Comic Quest - ECPv6.15.20//NONSGML v1.0//EN
CALSCALE:GREGORIAN
METHOD:PUBLISH
X-ORIGINAL-URL:https://comicquest.org
X-WR-CALDESC:Events for Comic Quest
REFRESH-INTERVAL;VALUE=DURATION:PT1H
X-Robots-Tag:noindex
X-PUBLISHED-TTL:PT1H
BEGIN:VTIMEZONE
TZID:America/Los_Angeles
BEGIN:DAYLIGHT
TZOFFSETFROM:-0800
TZOFFSETTO:-0700
TZNAME:PDT
DTSTART:20230312T100000
END:DAYLIGHT
BEGIN:STANDARD
TZOFFSETFROM:-0700
TZOFFSETTO:-0800
TZNAME:PST
DTSTART:20231105T090000
END:STANDARD
BEGIN:DAYLIGHT
TZOFFSETFROM:-0800
TZOFFSETTO:-0700
TZNAME:PDT
DTSTART:20240310T100000
END:DAYLIGHT
BEGIN:STANDARD
TZOFFSETFROM:-0700
TZOFFSETTO:-0800
TZNAME:PST
DTSTART:20241103T090000
END:STANDARD
BEGIN:DAYLIGHT
TZOFFSETFROM:-0800
TZOFFSETTO:-0700
TZNAME:PDT
DTSTART:20250309T100000
END:DAYLIGHT
BEGIN:STANDARD
TZOFFSETFROM:-0700
TZOFFSETTO:-0800
TZNAME:PST
DTSTART:20251102T090000
END:STANDARD
END:VTIMEZONE
BEGIN:VEVENT
DTSTART;TZID=America/Los_Angeles:20240705T120000
DTEND;TZID=America/Los_Angeles:20240705T190000
DTSTAMP:20260425T084702
CREATED:20240302T005919Z
LAST-MODIFIED:20240618T150030Z
UID:10000842-1720180800-1720206000@comicquest.org
SUMMARY:Magic Release - Assassins Creed
DESCRIPTION:Assassin’s Creed® emerges from the shadows to join Magic: The Gathering! Your community will freerun through ancient locales with their favorite Assassins and take a leap of faith—the past is theirs to explore. \nBeyond Boosters give your players a curated experience with every pack: they’ll find classic characters\, items\, and moments from their favorite Universes Beyond stories inside. \n\n\nContents:\n\n\n7 Magic: The Gathering cards\n\n1-4 card(s) of rarity Rare or higher\n3-5 Uncommon cards\n0-1 Land cards\nTraditional Foil Showcase Mythic Rare card in <1% of boosters\n\n\n\n\n\n\n\n\n \n\n 
URL:https://comicquest.org/event/magic-release-assassins-creed/
LOCATION:Comic Quest\, 23811 Bridger #111 CA 92630\, Lake Forest\, CA\, 92630\, United States
CATEGORIES:Event,Magic,Tournament
ATTACH;FMTTYPE=image/jpeg:https://comicquest.org/wp-content/uploads/2024/03/acr_alg_1080p_en.jpg
END:VEVENT
BEGIN:VEVENT
DTSTART;TZID=America/Los_Angeles:20240705T180000
DTEND;TZID=America/Los_Angeles:20240705T220000
DTSTAMP:20260425T084702
CREATED:20231022T175146Z
LAST-MODIFIED:20231022T175146Z
UID:10000587-1720202400-1720216800@comicquest.org
SUMMARY:Friday Night Magic
DESCRIPTION:Friday Night Magic! Come Join the fun! \nModern and Commander Formats. \nOn occasion sealed & draft around new set launches. \nPlease join our Facebook group. \nhttps://www.facebook.com/groups/426423864154241/
URL:https://comicquest.org/event/friday-night-magic-70/
LOCATION:Comic Quest\, 23811 Bridger #111 CA 92630\, Lake Forest\, CA\, 92630\, United States
CATEGORIES:Event,Magic,Tournament
ATTACH;FMTTYPE=image/jpeg:https://comicquest.org/wp-content/uploads/2023/01/Friday-Night-Magic.jpg
END:VEVENT
END:VCALENDAR