BEGIN:VCALENDAR
VERSION:2.0
PRODID:-//Comic Quest - ECPv6.15.20//NONSGML v1.0//EN
CALSCALE:GREGORIAN
METHOD:PUBLISH
X-WR-CALNAME:Comic Quest
X-ORIGINAL-URL:https://comicquest.org
X-WR-CALDESC:Events for Comic Quest
REFRESH-INTERVAL;VALUE=DURATION:PT1H
X-Robots-Tag:noindex
X-PUBLISHED-TTL:PT1H
BEGIN:VTIMEZONE
TZID:America/Los_Angeles
BEGIN:DAYLIGHT
TZOFFSETFROM:-0800
TZOFFSETTO:-0700
TZNAME:PDT
DTSTART:20230312T100000
END:DAYLIGHT
BEGIN:STANDARD
TZOFFSETFROM:-0700
TZOFFSETTO:-0800
TZNAME:PST
DTSTART:20231105T090000
END:STANDARD
BEGIN:DAYLIGHT
TZOFFSETFROM:-0800
TZOFFSETTO:-0700
TZNAME:PDT
DTSTART:20240310T100000
END:DAYLIGHT
BEGIN:STANDARD
TZOFFSETFROM:-0700
TZOFFSETTO:-0800
TZNAME:PST
DTSTART:20241103T090000
END:STANDARD
BEGIN:DAYLIGHT
TZOFFSETFROM:-0800
TZOFFSETTO:-0700
TZNAME:PDT
DTSTART:20250309T100000
END:DAYLIGHT
BEGIN:STANDARD
TZOFFSETFROM:-0700
TZOFFSETTO:-0800
TZNAME:PST
DTSTART:20251102T090000
END:STANDARD
END:VTIMEZONE
BEGIN:VEVENT
DTSTART;TZID=America/Los_Angeles:20241220T180000
DTEND;TZID=America/Los_Angeles:20241220T220000
DTSTAMP:20260424T023839
CREATED:20240130T064438Z
LAST-MODIFIED:20240130T064438Z
UID:10000775-1734717600-1734732000@comicquest.org
SUMMARY:Friday Night Magic
DESCRIPTION:Friday Night Magic! Come Join the fun! \nModern and Commander Formats. \nOn occasion sealed & draft around new set launches. \nPlease join our Facebook group. \nhttps://www.facebook.com/groups/426423864154241/
URL:https://comicquest.org/event/friday-night-magic-93/
LOCATION:Comic Quest\, 23811 Bridger #111 CA 92630\, Lake Forest\, CA\, 92630\, United States
CATEGORIES:Event,Magic,Tournament
ATTACH;FMTTYPE=image/jpeg:https://comicquest.org/wp-content/uploads/2023/01/Friday-Night-Magic.jpg
END:VEVENT
BEGIN:VEVENT
DTSTART;TZID=America/Los_Angeles:20241213T180000
DTEND;TZID=America/Los_Angeles:20241213T220000
DTSTAMP:20260424T023839
CREATED:20240130T064403Z
LAST-MODIFIED:20240130T064403Z
UID:10000774-1734112800-1734127200@comicquest.org
SUMMARY:Friday Night Magic
DESCRIPTION:Friday Night Magic! Come Join the fun! \nModern and Commander Formats. \nOn occasion sealed & draft around new set launches. \nPlease join our Facebook group. \nhttps://www.facebook.com/groups/426423864154241/
URL:https://comicquest.org/event/friday-night-magic-92/
LOCATION:Comic Quest\, 23811 Bridger #111 CA 92630\, Lake Forest\, CA\, 92630\, United States
CATEGORIES:Event,Magic,Tournament
ATTACH;FMTTYPE=image/jpeg:https://comicquest.org/wp-content/uploads/2023/01/Friday-Night-Magic.jpg
END:VEVENT
BEGIN:VEVENT
DTSTART;TZID=America/Los_Angeles:20241206T180000
DTEND;TZID=America/Los_Angeles:20241206T220000
DTSTAMP:20260424T023839
CREATED:20240130T064336Z
LAST-MODIFIED:20240130T064336Z
UID:10000773-1733508000-1733522400@comicquest.org
SUMMARY:Friday Night Magic
DESCRIPTION:Friday Night Magic! Come Join the fun! \nModern and Commander Formats. \nOn occasion sealed & draft around new set launches. \nPlease join our Facebook group. \nhttps://www.facebook.com/groups/426423864154241/
URL:https://comicquest.org/event/friday-night-magic-91/
LOCATION:Comic Quest\, 23811 Bridger #111 CA 92630\, Lake Forest\, CA\, 92630\, United States
CATEGORIES:Event,Magic,Tournament
ATTACH;FMTTYPE=image/jpeg:https://comicquest.org/wp-content/uploads/2023/01/Friday-Night-Magic.jpg
END:VEVENT
BEGIN:VEVENT
DTSTART;TZID=America/Los_Angeles:20241129T180000
DTEND;TZID=America/Los_Angeles:20241129T220000
DTSTAMP:20260424T023839
CREATED:20240130T064235Z
LAST-MODIFIED:20240130T064309Z
UID:10000772-1732903200-1732917600@comicquest.org
SUMMARY:Friday Night Magic
DESCRIPTION:Friday Night Magic! Come Join the fun! \nModern and Commander Formats. \nOn occasion sealed & draft around new set launches. \nPlease join our Facebook group. \nhttps://www.facebook.com/groups/426423864154241/
URL:https://comicquest.org/event/friday-night-magic-90/
LOCATION:Comic Quest\, 23811 Bridger #111 CA 92630\, Lake Forest\, CA\, 92630\, United States
CATEGORIES:Event,Magic,Tournament
ATTACH;FMTTYPE=image/jpeg:https://comicquest.org/wp-content/uploads/2023/01/Friday-Night-Magic.jpg
END:VEVENT
BEGIN:VEVENT
DTSTART;TZID=America/Los_Angeles:20241122T180000
DTEND;TZID=America/Los_Angeles:20241122T220000
DTSTAMP:20260424T023839
CREATED:20240130T064621Z
LAST-MODIFIED:20240130T064621Z
UID:10000777-1732298400-1732312800@comicquest.org
SUMMARY:Friday Night Magic
DESCRIPTION:Friday Night Magic! Come Join the fun! \nModern and Commander Formats. \nOn occasion sealed & draft around new set launches. \nPlease join our Facebook group. \nhttps://www.facebook.com/groups/426423864154241/
URL:https://comicquest.org/event/friday-night-magic-95/
LOCATION:Comic Quest\, 23811 Bridger #111 CA 92630\, Lake Forest\, CA\, 92630\, United States
CATEGORIES:Event,Magic,Tournament
ATTACH;FMTTYPE=image/jpeg:https://comicquest.org/wp-content/uploads/2023/01/Friday-Night-Magic.jpg
END:VEVENT
BEGIN:VEVENT
DTSTART;TZID=America/Los_Angeles:20241115T180000
DTEND;TZID=America/Los_Angeles:20241115T220000
DTSTAMP:20260424T023839
CREATED:20240130T064215Z
LAST-MODIFIED:20240130T064215Z
UID:10000771-1731693600-1731708000@comicquest.org
SUMMARY:Friday Night Magic
DESCRIPTION:Friday Night Magic! Come Join the fun! \nModern and Commander Formats. \nOn occasion sealed & draft around new set launches. \nPlease join our Facebook group. \nhttps://www.facebook.com/groups/426423864154241/
URL:https://comicquest.org/event/friday-night-magic-89/
LOCATION:Comic Quest\, 23811 Bridger #111 CA 92630\, Lake Forest\, CA\, 92630\, United States
CATEGORIES:Event,Magic,Tournament
ATTACH;FMTTYPE=image/jpeg:https://comicquest.org/wp-content/uploads/2023/01/Friday-Night-Magic.jpg
END:VEVENT
BEGIN:VEVENT
DTSTART;TZID=America/Los_Angeles:20241110T120000
DTEND;TZID=America/Los_Angeles:20241110T170000
DTSTAMP:20260424T023839
CREATED:20240701T004046Z
LAST-MODIFIED:20241104T014721Z
UID:10000960-1731240000-1731258000@comicquest.org
SUMMARY:Magic Prerelease -FOUNDATIONS -Sunday Event
DESCRIPTION:Magic the Gathering: FOUNDATIONS PreRelease Events\n\n\n\n\nPrerelease is your community’s first opportunity to get their hands on the newest Magic: The Gathering release and explore what the set has to offer\, and Prerelease Packs are the perfect product to fuel the first events of this new set. \n\n\n\n\n\nMagic the Gathering: FOUNDATIONS \nYour favorite legends and Planeswalkers are here with quintessential magic from across the Multiverse. This set was made for past\, present\, and future Magic players\, featuring products for players fresh or famous and filled with cards legal in Standard\, at least until 2029! \nPreRelease Event = Sat& Sun Nov 9 & Nov 10 \n**NEW MAGIC SET = FOUNDATIONS.**\nAvailable for PreOrder now!! PreOrder & Sign ups in Store.\n– PreRelease Event = Sat & Sun\, Nov 9 & Nov 10. Noon\n– Play Booster Boxes.\n– Collector Booster Boxes. \n  \n\n\n\n\n\n\n\nMagic the Gathering Foundations
URL:https://comicquest.org/event/magic-prerelease-foundations-sunday-event/
LOCATION:Comic Quest\, 23811 Bridger #111 CA 92630\, Lake Forest\, CA\, 92630\, United States
CATEGORIES:Event,Magic,Tournament
ATTACH;FMTTYPE=image/jpeg:https://comicquest.org/wp-content/uploads/2023/03/magic_prerelease.jpg
END:VEVENT
BEGIN:VEVENT
DTSTART;TZID=America/Los_Angeles:20241109T120000
DTEND;TZID=America/Los_Angeles:20241109T170000
DTSTAMP:20260424T023839
CREATED:20240628T202523Z
LAST-MODIFIED:20241104T014653Z
UID:10000956-1731153600-1731171600@comicquest.org
SUMMARY:Magic Prerelease -FOUNDATIONS -Saturday Event
DESCRIPTION:Magic the Gathering: FOUNDATIONS PreRelease Events\n\n\n\n\nPrerelease is your community’s first opportunity to get their hands on the newest Magic: The Gathering release and explore what the set has to offer\, and Prerelease Packs are the perfect product to fuel the first events of this new set. \n\n\n\n\n\nMagic the Gathering: FOUNDATIONS \nYour favorite legends and Planeswalkers are here with quintessential magic from across the Multiverse. This set was made for past\, present\, and future Magic players\, featuring products for players fresh or famous and filled with cards legal in Standard\, at least until 2029! \nPreRelease Event = Sat& Sun Nov 9 & Nov 10 \n**NEW MAGIC SET = FOUNDATIONS.**\nAvailable for PreOrder now!! PreOrder & Sign ups in Store.\n– PreRelease Event = Sat & Sun\, Nov 9 & Nov 10. Noon\n– Play Booster Boxes.\n– Collector Booster Boxes. \n  \nMagic the Gathering Foundations
URL:https://comicquest.org/event/magic-prerelease-foundations-saturday-event/
LOCATION:Comic Quest\, 23811 Bridger #111 CA 92630\, Lake Forest\, CA\, 92630\, United States
CATEGORIES:Event,Magic,Tournament
ATTACH;FMTTYPE=image/jpeg:https://comicquest.org/wp-content/uploads/2023/03/magic_prerelease.jpg
END:VEVENT
BEGIN:VEVENT
DTSTART;TZID=America/Los_Angeles:20241108T180000
DTEND;TZID=America/Los_Angeles:20241108T220000
DTSTAMP:20260424T023839
CREATED:20240130T064153Z
LAST-MODIFIED:20240130T064153Z
UID:10000770-1731088800-1731103200@comicquest.org
SUMMARY:Friday Night Magic
DESCRIPTION:Friday Night Magic! Come Join the fun! \nModern and Commander Formats. \nOn occasion sealed & draft around new set launches. \nPlease join our Facebook group. \nhttps://www.facebook.com/groups/426423864154241/
URL:https://comicquest.org/event/friday-night-magic-88/
LOCATION:Comic Quest\, 23811 Bridger #111 CA 92630\, Lake Forest\, CA\, 92630\, United States
CATEGORIES:Event,Magic,Tournament
ATTACH;FMTTYPE=image/jpeg:https://comicquest.org/wp-content/uploads/2023/01/Friday-Night-Magic.jpg
END:VEVENT
BEGIN:VEVENT
DTSTART;VALUE=DATE:20241108
DTEND;VALUE=DATE:20241109
DTSTAMP:20260424T023839
CREATED:20240925T182651Z
LAST-MODIFIED:20241102T014439Z
UID:10001213-1731024000-1731110399@comicquest.org
SUMMARY:Magic Set New Release - Foundations
DESCRIPTION:New November Magic Set Release Date \n \n\nMagic the Gathering: FOUNDATIONS PreRelease Events\n\n\n\n\nPrerelease is your community’s first opportunity to get their hands on the newest Magic: The Gathering release and explore what the set has to offer\, and Prerelease Packs are the perfect product to fuel the first events of this new set. \n\n\n\n\n\nMagic the Gathering: FOUNDATIONS \nYour favorite legends and Planeswalkers are here with quintessential magic from across the Multiverse. This set was made for past\, present\, and future Magic players\, featuring products for players fresh or famous and filled with cards legal in Standard\, at least until 2029! \nPreRelease Event = Sat& Sun Nov 9 & Nov 10 \n**NEW MAGIC SET = FOUNDATIONS.**\nAvailable for PreOrder now!! PreOrder & Sign ups in Store.\n– PreRelease Event = Sat & Sun\, Nov 9 & Nov 10. Noon\n– Play Booster Boxes.\n– Collector Booster Boxes. \n-Bundles\, Starter Collection\, & Beginner Box will also be available to purchase on Friday Nov 8.
URL:https://comicquest.org/event/magic-release-foundations/
LOCATION:Comic Quest\, 23811 Bridger #111 CA 92630\, Lake Forest\, CA\, 92630\, United States
CATEGORIES:Event,Magic,Tournament
ATTACH;FMTTYPE=image/png:https://comicquest.org/wp-content/uploads/2023/09/magic_the_gathering_logo.png
END:VEVENT
BEGIN:VEVENT
DTSTART;TZID=America/Los_Angeles:20241101T180000
DTEND;TZID=America/Los_Angeles:20241101T220000
DTSTAMP:20260424T023839
CREATED:20240130T064130Z
LAST-MODIFIED:20240130T064130Z
UID:10000769-1730484000-1730498400@comicquest.org
SUMMARY:Friday Night Magic
DESCRIPTION:Friday Night Magic! Come Join the fun! \nModern and Commander Formats. \nOn occasion sealed & draft around new set launches. \nPlease join our Facebook group. \nhttps://www.facebook.com/groups/426423864154241/
URL:https://comicquest.org/event/friday-night-magic-87/
LOCATION:Comic Quest\, 23811 Bridger #111 CA 92630\, Lake Forest\, CA\, 92630\, United States
CATEGORIES:Event,Magic,Tournament
ATTACH;FMTTYPE=image/jpeg:https://comicquest.org/wp-content/uploads/2023/01/Friday-Night-Magic.jpg
END:VEVENT
BEGIN:VEVENT
DTSTART;TZID=America/Los_Angeles:20241025T180000
DTEND;TZID=America/Los_Angeles:20241025T220000
DTSTAMP:20260424T023839
CREATED:20240113T010513Z
LAST-MODIFIED:20240113T010513Z
UID:10000682-1729879200-1729893600@comicquest.org
SUMMARY:Friday Night Magic
DESCRIPTION:Friday Night Magic! Come Join the fun! \nModern and Commander Formats. \nOn occasion sealed & draft around new set launches. \nPlease join our Facebook group. \nhttps://www.facebook.com/groups/426423864154241/
URL:https://comicquest.org/event/friday-night-magic-86/
LOCATION:Comic Quest\, 23811 Bridger #111 CA 92630\, Lake Forest\, CA\, 92630\, United States
CATEGORIES:Event,Magic,Tournament
ATTACH;FMTTYPE=image/jpeg:https://comicquest.org/wp-content/uploads/2023/01/Friday-Night-Magic.jpg
END:VEVENT
BEGIN:VEVENT
DTSTART;TZID=America/Los_Angeles:20241018T180000
DTEND;TZID=America/Los_Angeles:20241018T220000
DTSTAMP:20260424T023839
CREATED:20240113T010446Z
LAST-MODIFIED:20240113T010446Z
UID:10000681-1729274400-1729288800@comicquest.org
SUMMARY:Friday Night Magic
DESCRIPTION:Friday Night Magic! Come Join the fun! \nModern and Commander Formats. \nOn occasion sealed & draft around new set launches. \nPlease join our Facebook group. \nhttps://www.facebook.com/groups/426423864154241/
URL:https://comicquest.org/event/friday-night-magic-85/
LOCATION:Comic Quest\, 23811 Bridger #111 CA 92630\, Lake Forest\, CA\, 92630\, United States
CATEGORIES:Event,Magic,Tournament
ATTACH;FMTTYPE=image/jpeg:https://comicquest.org/wp-content/uploads/2023/01/Friday-Night-Magic.jpg
END:VEVENT
BEGIN:VEVENT
DTSTART;TZID=America/Los_Angeles:20241011T180000
DTEND;TZID=America/Los_Angeles:20241011T220000
DTSTAMP:20260424T023839
CREATED:20240113T010422Z
LAST-MODIFIED:20240113T010422Z
UID:10000680-1728669600-1728684000@comicquest.org
SUMMARY:Friday Night Magic
DESCRIPTION:Friday Night Magic! Come Join the fun! \nModern and Commander Formats. \nOn occasion sealed & draft around new set launches. \nPlease join our Facebook group. \nhttps://www.facebook.com/groups/426423864154241/
URL:https://comicquest.org/event/friday-night-magic-84/
LOCATION:Comic Quest\, 23811 Bridger #111 CA 92630\, Lake Forest\, CA\, 92630\, United States
CATEGORIES:Event,Magic,Tournament
ATTACH;FMTTYPE=image/jpeg:https://comicquest.org/wp-content/uploads/2023/01/Friday-Night-Magic.jpg
END:VEVENT
BEGIN:VEVENT
DTSTART;TZID=America/Los_Angeles:20241004T180000
DTEND;TZID=America/Los_Angeles:20241004T220000
DTSTAMP:20260424T023839
CREATED:20240113T010358Z
LAST-MODIFIED:20240113T010358Z
UID:10000679-1728064800-1728079200@comicquest.org
SUMMARY:Friday Night Magic
DESCRIPTION:Friday Night Magic! Come Join the fun! \nModern and Commander Formats. \nOn occasion sealed & draft around new set launches. \nPlease join our Facebook group. \nhttps://www.facebook.com/groups/426423864154241/
URL:https://comicquest.org/event/friday-night-magic-83/
LOCATION:Comic Quest\, 23811 Bridger #111 CA 92630\, Lake Forest\, CA\, 92630\, United States
CATEGORIES:Event,Magic,Tournament
ATTACH;FMTTYPE=image/jpeg:https://comicquest.org/wp-content/uploads/2023/01/Friday-Night-Magic.jpg
END:VEVENT
BEGIN:VEVENT
DTSTART;TZID=America/Los_Angeles:20240927T180000
DTEND;TZID=America/Los_Angeles:20240927T220000
DTSTAMP:20260424T023839
CREATED:20240113T010329Z
LAST-MODIFIED:20240113T010329Z
UID:10000678-1727460000-1727474400@comicquest.org
SUMMARY:Friday Night Magic
DESCRIPTION:Friday Night Magic! Come Join the fun! \nModern and Commander Formats. \nOn occasion sealed & draft around new set launches. \nPlease join our Facebook group. \nhttps://www.facebook.com/groups/426423864154241/
URL:https://comicquest.org/event/friday-night-magic-82/
LOCATION:Comic Quest\, 23811 Bridger #111 CA 92630\, Lake Forest\, CA\, 92630\, United States
CATEGORIES:Event,Magic,Tournament
ATTACH;FMTTYPE=image/jpeg:https://comicquest.org/wp-content/uploads/2023/01/Friday-Night-Magic.jpg
END:VEVENT
BEGIN:VEVENT
DTSTART;TZID=America/Los_Angeles:20240927T110000
DTEND;TZID=America/Los_Angeles:20240927T220000
DTSTAMP:20260424T023839
CREATED:20240525T211553Z
LAST-MODIFIED:20240628T151632Z
UID:10000920-1727434800-1727474400@comicquest.org
SUMMARY:Magic Release - Duskmourn
DESCRIPTION:New September Magic Set Release Date \n \n\n\n\n 
URL:https://comicquest.org/event/magic-release-september-27/
LOCATION:Comic Quest\, 23811 Bridger #111 CA 92630\, Lake Forest\, CA\, 92630\, United States
CATEGORIES:Event,Magic,Tournament
ATTACH;FMTTYPE=image/png:https://comicquest.org/wp-content/uploads/2023/09/magic_the_gathering_logo.png
END:VEVENT
BEGIN:VEVENT
DTSTART;TZID=America/Los_Angeles:20240922T120000
DTEND;TZID=America/Los_Angeles:20240922T170000
DTSTAMP:20260424T023839
CREATED:20240525T211006Z
LAST-MODIFIED:20240917T181223Z
UID:10000919-1727006400-1727024400@comicquest.org
SUMMARY:Magic Prerelease -Duskmourn Sunday event
DESCRIPTION:Prerelease is your community’s first opportunity to get their hands on the newest Magic: The Gathering release and explore what the set has to offer\, and Prerelease Packs are the perfect product to fuel the first events of this new set. \n\n\n\n\n\n \n \n \n\nNew Magic The Gathering set prerelease events:  Duskmourn House of Horror. \nSaturday Sept 21.  Noon \nSunday Sept 22. Noon \n$33.99 \n  \nFIGHT TO SURVIVE IN A HOUSE OF NIGHTMARES—Dare to enter Duskmourn\, a plane-enveloping House that sets the scene for your opponent’s greatest fears to come to life \n  \nPrizes for participation and prizes for winning matches. \nAlso\, a limited edition custom time token while supplies last. \n  \nAlso don’t forget that packs and boxes are available starting Friday Sept 20.   With a cool buy-a-box card Twitching Doll
URL:https://comicquest.org/event/magic-prerelease-september-sunday-event/
LOCATION:Comic Quest\, 23811 Bridger #111 CA 92630\, Lake Forest\, CA\, 92630\, United States
CATEGORIES:Event,Magic,Tournament
ATTACH;FMTTYPE=image/jpeg:https://comicquest.org/wp-content/uploads/2023/03/magic_prerelease.jpg
END:VEVENT
BEGIN:VEVENT
DTSTART;TZID=America/Los_Angeles:20240921T120000
DTEND;TZID=America/Los_Angeles:20240921T170000
DTSTAMP:20260424T023839
CREATED:20240525T210830Z
LAST-MODIFIED:20240917T181300Z
UID:10000918-1726920000-1726938000@comicquest.org
SUMMARY:Magic Prerelease -Duskmourn -Saturday Event
DESCRIPTION:Prerelease is your community’s first opportunity to get their hands on the newest Magic: The Gathering release and explore what the set has to offer\, and Prerelease Packs are the perfect product to fuel the first events of this new set. \n\n\n\n\n\n \n \n \nNew Magic The Gathering set prerelease events:  Duskmourn House of Horror. \nSaturday Sept 21.  Noon \nSunday Sept 22. Noon \n$33.99 \n  \nFIGHT TO SURVIVE IN A HOUSE OF NIGHTMARES—Dare to enter Duskmourn\, a plane-enveloping House that sets the scene for your opponent’s greatest fears to come to life \n  \nPrizes for participation and prizes for winning matches. \nAlso\, a limited edition custom time token while supplies last. \n  \nAlso don’t forget that packs and boxes are available starting Friday Sept 20.   With a cool buy-a-box card Twitching Doll
URL:https://comicquest.org/event/magic-prerelease-september-2024/
LOCATION:Comic Quest\, 23811 Bridger #111 CA 92630\, Lake Forest\, CA\, 92630\, United States
CATEGORIES:Event,Magic,Tournament
ATTACH;FMTTYPE=image/jpeg:https://comicquest.org/wp-content/uploads/2023/03/magic_prerelease.jpg
END:VEVENT
BEGIN:VEVENT
DTSTART;TZID=America/Los_Angeles:20240920T180000
DTEND;TZID=America/Los_Angeles:20240920T220000
DTSTAMP:20260424T023839
CREATED:20240113T010304Z
LAST-MODIFIED:20240113T010304Z
UID:10000677-1726855200-1726869600@comicquest.org
SUMMARY:Friday Night Magic
DESCRIPTION:Friday Night Magic! Come Join the fun! \nModern and Commander Formats. \nOn occasion sealed & draft around new set launches. \nPlease join our Facebook group. \nhttps://www.facebook.com/groups/426423864154241/
URL:https://comicquest.org/event/friday-night-magic-81/
LOCATION:Comic Quest\, 23811 Bridger #111 CA 92630\, Lake Forest\, CA\, 92630\, United States
CATEGORIES:Event,Magic,Tournament
ATTACH;FMTTYPE=image/jpeg:https://comicquest.org/wp-content/uploads/2023/01/Friday-Night-Magic.jpg
END:VEVENT
BEGIN:VEVENT
DTSTART;TZID=America/Los_Angeles:20240913T180000
DTEND;TZID=America/Los_Angeles:20240913T220000
DTSTAMP:20260424T023839
CREATED:20240113T010236Z
LAST-MODIFIED:20240113T010236Z
UID:10000676-1726250400-1726264800@comicquest.org
SUMMARY:Friday Night Magic
DESCRIPTION:Friday Night Magic! Come Join the fun! \nModern and Commander Formats. \nOn occasion sealed & draft around new set launches. \nPlease join our Facebook group. \nhttps://www.facebook.com/groups/426423864154241/
URL:https://comicquest.org/event/friday-night-magic-80/
LOCATION:Comic Quest\, 23811 Bridger #111 CA 92630\, Lake Forest\, CA\, 92630\, United States
CATEGORIES:Event,Magic,Tournament
ATTACH;FMTTYPE=image/jpeg:https://comicquest.org/wp-content/uploads/2023/01/Friday-Night-Magic.jpg
END:VEVENT
BEGIN:VEVENT
DTSTART;TZID=America/Los_Angeles:20240906T180000
DTEND;TZID=America/Los_Angeles:20240906T220000
DTSTAMP:20260424T023839
CREATED:20240113T010212Z
LAST-MODIFIED:20240113T010212Z
UID:10000675-1725645600-1725660000@comicquest.org
SUMMARY:Friday Night Magic
DESCRIPTION:Friday Night Magic! Come Join the fun! \nModern and Commander Formats. \nOn occasion sealed & draft around new set launches. \nPlease join our Facebook group. \nhttps://www.facebook.com/groups/426423864154241/
URL:https://comicquest.org/event/friday-night-magic-79/
LOCATION:Comic Quest\, 23811 Bridger #111 CA 92630\, Lake Forest\, CA\, 92630\, United States
CATEGORIES:Event,Magic,Tournament
ATTACH;FMTTYPE=image/jpeg:https://comicquest.org/wp-content/uploads/2023/01/Friday-Night-Magic.jpg
END:VEVENT
BEGIN:VEVENT
DTSTART;TZID=America/Los_Angeles:20240830T180000
DTEND;TZID=America/Los_Angeles:20240830T220000
DTSTAMP:20260424T023839
CREATED:20231022T201644Z
LAST-MODIFIED:20231022T201644Z
UID:10000618-1725040800-1725055200@comicquest.org
SUMMARY:Friday Night Magic
DESCRIPTION:Friday Night Magic! Come Join the fun! \nModern and Commander Formats. \nOn occasion sealed & draft around new set launches. \nPlease join our Facebook group. \nhttps://www.facebook.com/groups/426423864154241/
URL:https://comicquest.org/event/friday-night-magic-78/
LOCATION:Comic Quest\, 23811 Bridger #111 CA 92630\, Lake Forest\, CA\, 92630\, United States
CATEGORIES:Event,Magic,Tournament
ATTACH;FMTTYPE=image/jpeg:https://comicquest.org/wp-content/uploads/2023/01/Friday-Night-Magic.jpg
END:VEVENT
BEGIN:VEVENT
DTSTART;TZID=America/Los_Angeles:20240823T180000
DTEND;TZID=America/Los_Angeles:20240823T220000
DTSTAMP:20260424T023839
CREATED:20231022T201603Z
LAST-MODIFIED:20231022T201603Z
UID:10000617-1724436000-1724450400@comicquest.org
SUMMARY:Friday Night Magic
DESCRIPTION:Friday Night Magic! Come Join the fun! \nModern and Commander Formats. \nOn occasion sealed & draft around new set launches. \nPlease join our Facebook group. \nhttps://www.facebook.com/groups/426423864154241/
URL:https://comicquest.org/event/friday-night-magic-77/
LOCATION:Comic Quest\, 23811 Bridger #111 CA 92630\, Lake Forest\, CA\, 92630\, United States
CATEGORIES:Event,Magic,Tournament
ATTACH;FMTTYPE=image/jpeg:https://comicquest.org/wp-content/uploads/2023/01/Friday-Night-Magic.jpg
END:VEVENT
BEGIN:VEVENT
DTSTART;TZID=America/Los_Angeles:20240816T180000
DTEND;TZID=America/Los_Angeles:20240816T220000
DTSTAMP:20260424T023839
CREATED:20231022T201531Z
LAST-MODIFIED:20231022T201531Z
UID:10000616-1723831200-1723845600@comicquest.org
SUMMARY:Friday Night Magic
DESCRIPTION:Friday Night Magic! Come Join the fun! \nModern and Commander Formats. \nOn occasion sealed & draft around new set launches. \nPlease join our Facebook group. \nhttps://www.facebook.com/groups/426423864154241/
URL:https://comicquest.org/event/friday-night-magic-76/
LOCATION:Comic Quest\, 23811 Bridger #111 CA 92630\, Lake Forest\, CA\, 92630\, United States
CATEGORIES:Event,Magic,Tournament
ATTACH;FMTTYPE=image/jpeg:https://comicquest.org/wp-content/uploads/2023/01/Friday-Night-Magic.jpg
END:VEVENT
BEGIN:VEVENT
DTSTART;TZID=America/Los_Angeles:20240809T180000
DTEND;TZID=America/Los_Angeles:20240809T220000
DTSTAMP:20260424T023839
CREATED:20231022T201504Z
LAST-MODIFIED:20231022T201504Z
UID:10000615-1723226400-1723240800@comicquest.org
SUMMARY:Friday Night Magic
DESCRIPTION:Friday Night Magic! Come Join the fun! \nModern and Commander Formats. \nOn occasion sealed & draft around new set launches. \nPlease join our Facebook group. \nhttps://www.facebook.com/groups/426423864154241/
URL:https://comicquest.org/event/friday-night-magic-75/
LOCATION:Comic Quest\, 23811 Bridger #111 CA 92630\, Lake Forest\, CA\, 92630\, United States
CATEGORIES:Event,Magic,Tournament
ATTACH;FMTTYPE=image/jpeg:https://comicquest.org/wp-content/uploads/2023/01/Friday-Night-Magic.jpg
END:VEVENT
BEGIN:VEVENT
DTSTART;TZID=America/Los_Angeles:20240802T180000
DTEND;TZID=America/Los_Angeles:20240802T220000
DTSTAMP:20260424T023839
CREATED:20231022T201437Z
LAST-MODIFIED:20231022T201437Z
UID:10000614-1722621600-1722636000@comicquest.org
SUMMARY:Friday Night Magic
DESCRIPTION:Friday Night Magic! Come Join the fun! \nModern and Commander Formats. \nOn occasion sealed & draft around new set launches. \nPlease join our Facebook group. \nhttps://www.facebook.com/groups/426423864154241/
URL:https://comicquest.org/event/friday-night-magic-74/
LOCATION:Comic Quest\, 23811 Bridger #111 CA 92630\, Lake Forest\, CA\, 92630\, United States
CATEGORIES:Event,Magic,Tournament
ATTACH;FMTTYPE=image/jpeg:https://comicquest.org/wp-content/uploads/2023/01/Friday-Night-Magic.jpg
END:VEVENT
BEGIN:VEVENT
DTSTART;TZID=America/Los_Angeles:20240728T120000
DTEND;TZID=America/Los_Angeles:20240728T190000
DTSTAMP:20260424T023839
CREATED:20240302T003752Z
LAST-MODIFIED:20240723T181829Z
UID:10000841-1722168000-1722193200@comicquest.org
SUMMARY:Magic Prerelease - Bloomburrow
DESCRIPTION:Prerelease events: \n \n\n\n\nMagic the Gathering Prerelease events\n\n\nPlay the cool new set: Bloomburrow\n\n\nSaturday July 27 Noon\n\n\nSunday July 28 Noon.\n\n\nSign in store at Comic Quest.\n\n\n \n\n\nIn Bloomburrow\, the Valley is threatened by elemental forces raging out of control\, and salvation falls on the shoulders of its smallest protectors. Players will put their best paws forward\, fighting alongside mice\, frogs\, bats\, birds\, and myriad other critters to restore the balance of peace—and prove bravery comes in all sizes.\n\n\n \n\n\nAlso boxes available for Play boosters and Collector Boosters.\n\n\n\n\nContents of prerelease event kits:\n\n\n6 Bloomburrow™ Play Boosters; each Play Booster contains 14 Magic cards\n1 foil\, year-stamped Rare or Mythic Rare\n1 Magic: The Gathering Arena code card (only available in select regions)\n1 deck box\n1 Spindown die\n\n\n\n\n\n\n\n\n  \n\n 
URL:https://comicquest.org/event/magic-prerelease-bloomburrow-2/
LOCATION:Comic Quest\, 23811 Bridger #111 CA 92630\, Lake Forest\, CA\, 92630\, United States
CATEGORIES:Event,Magic,Tournament
ATTACH;FMTTYPE=image/jpeg:https://comicquest.org/wp-content/uploads/2023/03/magic_prerelease.jpg
END:VEVENT
BEGIN:VEVENT
DTSTART;TZID=America/Los_Angeles:20240727T120000
DTEND;TZID=America/Los_Angeles:20240727T190000
DTSTAMP:20260424T023839
CREATED:20240302T003720Z
LAST-MODIFIED:20240723T181754Z
UID:10000840-1722081600-1722106800@comicquest.org
SUMMARY:Magic Prerelease - Bloomburrow
DESCRIPTION:Prerelease events: \n \n\n\n\nMagic the Gathering Prerelease events\n\n\nPlay the cool new set: Bloomburrow\n\n\nSaturday July 27 Noon\n\n\nSunday July 28 Noon.\n\n\nSign in store at Comic Quest.\n\n\n \n\n\nIn Bloomburrow\, the Valley is threatened by elemental forces raging out of control\, and salvation falls on the shoulders of its smallest protectors. Players will put their best paws forward\, fighting alongside mice\, frogs\, bats\, birds\, and myriad other critters to restore the balance of peace—and prove bravery comes in all sizes.\n\n\n \n\n\nAlso boxes available for Play boosters and Collector Boosters.\n\nPrerelease Packs are the perfect product to fuel the first events of this new set. \n\n\nContents:\n\n\n6 Bloomburrow™ Play Boosters; each Play Booster contains 14 Magic cards\n1 foil\, year-stamped Rare or Mythic Rare\n1 Magic: The Gathering Arena code card (only available in select regions)\n1 deck box\n1 Spindown die\n\n\n\n\n\n\n\n\n  \n\n 
URL:https://comicquest.org/event/magic-prerelease-bloomburrow/
LOCATION:Comic Quest\, 23811 Bridger #111 CA 92630\, Lake Forest\, CA\, 92630\, United States
CATEGORIES:Event,Magic,Tournament
ATTACH;FMTTYPE=image/jpeg:https://comicquest.org/wp-content/uploads/2023/03/magic_prerelease.jpg
END:VEVENT
BEGIN:VEVENT
DTSTART;TZID=America/Los_Angeles:20240726T180000
DTEND;TZID=America/Los_Angeles:20240726T220000
DTSTAMP:20260424T023839
CREATED:20231022T175251Z
LAST-MODIFIED:20231022T175251Z
UID:10000590-1722016800-1722031200@comicquest.org
SUMMARY:Friday Night Magic
DESCRIPTION:Friday Night Magic! Come Join the fun! \nModern and Commander Formats. \nOn occasion sealed & draft around new set launches. \nPlease join our Facebook group. \nhttps://www.facebook.com/groups/426423864154241/
URL:https://comicquest.org/event/friday-night-magic-73/
LOCATION:Comic Quest\, 23811 Bridger #111 CA 92630\, Lake Forest\, CA\, 92630\, United States
CATEGORIES:Event,Magic,Tournament
ATTACH;FMTTYPE=image/jpeg:https://comicquest.org/wp-content/uploads/2023/01/Friday-Night-Magic.jpg
END:VEVENT
END:VCALENDAR