BEGIN:VCALENDAR
VERSION:2.0
PRODID:-//Comic Quest - ECPv6.15.20//NONSGML v1.0//EN
CALSCALE:GREGORIAN
METHOD:PUBLISH
X-ORIGINAL-URL:https://comicquest.org
X-WR-CALDESC:Events for Comic Quest
REFRESH-INTERVAL;VALUE=DURATION:PT1H
X-Robots-Tag:noindex
X-PUBLISHED-TTL:PT1H
BEGIN:VTIMEZONE
TZID:America/Los_Angeles
BEGIN:DAYLIGHT
TZOFFSETFROM:-0800
TZOFFSETTO:-0700
TZNAME:PDT
DTSTART:20270314T100000
END:DAYLIGHT
BEGIN:STANDARD
TZOFFSETFROM:-0700
TZOFFSETTO:-0800
TZNAME:PST
DTSTART:20271107T090000
END:STANDARD
BEGIN:DAYLIGHT
TZOFFSETFROM:-0800
TZOFFSETTO:-0700
TZNAME:PDT
DTSTART:20280312T100000
END:DAYLIGHT
BEGIN:STANDARD
TZOFFSETFROM:-0700
TZOFFSETTO:-0800
TZNAME:PST
DTSTART:20281105T090000
END:STANDARD
BEGIN:DAYLIGHT
TZOFFSETFROM:-0800
TZOFFSETTO:-0700
TZNAME:PDT
DTSTART:20290311T100000
END:DAYLIGHT
BEGIN:STANDARD
TZOFFSETFROM:-0700
TZOFFSETTO:-0800
TZNAME:PST
DTSTART:20291104T090000
END:STANDARD
BEGIN:DAYLIGHT
TZOFFSETFROM:-0800
TZOFFSETTO:-0700
TZNAME:PDT
DTSTART:20300310T100000
END:DAYLIGHT
BEGIN:STANDARD
TZOFFSETFROM:-0700
TZOFFSETTO:-0800
TZNAME:PST
DTSTART:20301103T090000
END:STANDARD
END:VTIMEZONE
BEGIN:VEVENT
DTSTART;TZID=America/Los_Angeles:20280630T180000
DTEND;TZID=America/Los_Angeles:20280630T220000
DTSTAMP:20260424T091150
CREATED:20241112T043240Z
LAST-MODIFIED:20250815T015729Z
UID:10003468-1846000800-1846015200@comicquest.org
SUMMARY:Friday Night Magic
DESCRIPTION:Friday Night Magic! Come Join the fun! \nStandard and Commander Formats. \nFree\, unless a draft or sealed event. \nOn Demand Drafts – just ask the TO. \nOn occasion sealed & draft around new set launches. \nPlease join our Facebook group & Discord. \nhttps://www.facebook.com/groups/426423864154241/
URL:https://comicquest.org/event/friday-night-magic-128/2028-06-30/
LOCATION:Comic Quest\, 23811 Bridger #111 CA 92630\, Lake Forest\, CA\, 92630\, United States
CATEGORIES:Event,Magic,Tournament
ATTACH;FMTTYPE=image/jpeg:https://comicquest.org/wp-content/uploads/2023/01/Friday-Night-Magic.jpg
END:VEVENT
BEGIN:VEVENT
DTSTART;TZID=America/Los_Angeles:20280707T180000
DTEND;TZID=America/Los_Angeles:20280707T220000
DTSTAMP:20260424T091150
CREATED:20241112T043240Z
LAST-MODIFIED:20250815T015729Z
UID:10003469-1846605600-1846620000@comicquest.org
SUMMARY:Friday Night Magic
DESCRIPTION:Friday Night Magic! Come Join the fun! \nStandard and Commander Formats. \nFree\, unless a draft or sealed event. \nOn Demand Drafts – just ask the TO. \nOn occasion sealed & draft around new set launches. \nPlease join our Facebook group & Discord. \nhttps://www.facebook.com/groups/426423864154241/
URL:https://comicquest.org/event/friday-night-magic-128/2028-07-07/
LOCATION:Comic Quest\, 23811 Bridger #111 CA 92630\, Lake Forest\, CA\, 92630\, United States
CATEGORIES:Event,Magic,Tournament
ATTACH;FMTTYPE=image/jpeg:https://comicquest.org/wp-content/uploads/2023/01/Friday-Night-Magic.jpg
END:VEVENT
BEGIN:VEVENT
DTSTART;TZID=America/Los_Angeles:20280714T180000
DTEND;TZID=America/Los_Angeles:20280714T220000
DTSTAMP:20260424T091150
CREATED:20241112T043240Z
LAST-MODIFIED:20250815T015729Z
UID:10003470-1847210400-1847224800@comicquest.org
SUMMARY:Friday Night Magic
DESCRIPTION:Friday Night Magic! Come Join the fun! \nStandard and Commander Formats. \nFree\, unless a draft or sealed event. \nOn Demand Drafts – just ask the TO. \nOn occasion sealed & draft around new set launches. \nPlease join our Facebook group & Discord. \nhttps://www.facebook.com/groups/426423864154241/
URL:https://comicquest.org/event/friday-night-magic-128/2028-07-14/
LOCATION:Comic Quest\, 23811 Bridger #111 CA 92630\, Lake Forest\, CA\, 92630\, United States
CATEGORIES:Event,Magic,Tournament
ATTACH;FMTTYPE=image/jpeg:https://comicquest.org/wp-content/uploads/2023/01/Friday-Night-Magic.jpg
END:VEVENT
BEGIN:VEVENT
DTSTART;TZID=America/Los_Angeles:20280721T180000
DTEND;TZID=America/Los_Angeles:20280721T220000
DTSTAMP:20260424T091150
CREATED:20241112T043240Z
LAST-MODIFIED:20250815T015729Z
UID:10003471-1847815200-1847829600@comicquest.org
SUMMARY:Friday Night Magic
DESCRIPTION:Friday Night Magic! Come Join the fun! \nStandard and Commander Formats. \nFree\, unless a draft or sealed event. \nOn Demand Drafts – just ask the TO. \nOn occasion sealed & draft around new set launches. \nPlease join our Facebook group & Discord. \nhttps://www.facebook.com/groups/426423864154241/
URL:https://comicquest.org/event/friday-night-magic-128/2028-07-21/
LOCATION:Comic Quest\, 23811 Bridger #111 CA 92630\, Lake Forest\, CA\, 92630\, United States
CATEGORIES:Event,Magic,Tournament
ATTACH;FMTTYPE=image/jpeg:https://comicquest.org/wp-content/uploads/2023/01/Friday-Night-Magic.jpg
END:VEVENT
BEGIN:VEVENT
DTSTART;TZID=America/Los_Angeles:20280728T180000
DTEND;TZID=America/Los_Angeles:20280728T220000
DTSTAMP:20260424T091150
CREATED:20241112T043240Z
LAST-MODIFIED:20250815T015729Z
UID:10003472-1848420000-1848434400@comicquest.org
SUMMARY:Friday Night Magic
DESCRIPTION:Friday Night Magic! Come Join the fun! \nStandard and Commander Formats. \nFree\, unless a draft or sealed event. \nOn Demand Drafts – just ask the TO. \nOn occasion sealed & draft around new set launches. \nPlease join our Facebook group & Discord. \nhttps://www.facebook.com/groups/426423864154241/
URL:https://comicquest.org/event/friday-night-magic-128/2028-07-28/
LOCATION:Comic Quest\, 23811 Bridger #111 CA 92630\, Lake Forest\, CA\, 92630\, United States
CATEGORIES:Event,Magic,Tournament
ATTACH;FMTTYPE=image/jpeg:https://comicquest.org/wp-content/uploads/2023/01/Friday-Night-Magic.jpg
END:VEVENT
BEGIN:VEVENT
DTSTART;TZID=America/Los_Angeles:20280804T180000
DTEND;TZID=America/Los_Angeles:20280804T220000
DTSTAMP:20260424T091150
CREATED:20241112T043240Z
LAST-MODIFIED:20250815T015729Z
UID:10003473-1849024800-1849039200@comicquest.org
SUMMARY:Friday Night Magic
DESCRIPTION:Friday Night Magic! Come Join the fun! \nStandard and Commander Formats. \nFree\, unless a draft or sealed event. \nOn Demand Drafts – just ask the TO. \nOn occasion sealed & draft around new set launches. \nPlease join our Facebook group & Discord. \nhttps://www.facebook.com/groups/426423864154241/
URL:https://comicquest.org/event/friday-night-magic-128/2028-08-04/
LOCATION:Comic Quest\, 23811 Bridger #111 CA 92630\, Lake Forest\, CA\, 92630\, United States
CATEGORIES:Event,Magic,Tournament
ATTACH;FMTTYPE=image/jpeg:https://comicquest.org/wp-content/uploads/2023/01/Friday-Night-Magic.jpg
END:VEVENT
BEGIN:VEVENT
DTSTART;TZID=America/Los_Angeles:20280811T180000
DTEND;TZID=America/Los_Angeles:20280811T220000
DTSTAMP:20260424T091150
CREATED:20241112T043240Z
LAST-MODIFIED:20250815T015729Z
UID:10003474-1849629600-1849644000@comicquest.org
SUMMARY:Friday Night Magic
DESCRIPTION:Friday Night Magic! Come Join the fun! \nStandard and Commander Formats. \nFree\, unless a draft or sealed event. \nOn Demand Drafts – just ask the TO. \nOn occasion sealed & draft around new set launches. \nPlease join our Facebook group & Discord. \nhttps://www.facebook.com/groups/426423864154241/
URL:https://comicquest.org/event/friday-night-magic-128/2028-08-11/
LOCATION:Comic Quest\, 23811 Bridger #111 CA 92630\, Lake Forest\, CA\, 92630\, United States
CATEGORIES:Event,Magic,Tournament
ATTACH;FMTTYPE=image/jpeg:https://comicquest.org/wp-content/uploads/2023/01/Friday-Night-Magic.jpg
END:VEVENT
BEGIN:VEVENT
DTSTART;TZID=America/Los_Angeles:20280818T180000
DTEND;TZID=America/Los_Angeles:20280818T220000
DTSTAMP:20260424T091150
CREATED:20241112T043240Z
LAST-MODIFIED:20250815T015729Z
UID:10003475-1850234400-1850248800@comicquest.org
SUMMARY:Friday Night Magic
DESCRIPTION:Friday Night Magic! Come Join the fun! \nStandard and Commander Formats. \nFree\, unless a draft or sealed event. \nOn Demand Drafts – just ask the TO. \nOn occasion sealed & draft around new set launches. \nPlease join our Facebook group & Discord. \nhttps://www.facebook.com/groups/426423864154241/
URL:https://comicquest.org/event/friday-night-magic-128/2028-08-18/
LOCATION:Comic Quest\, 23811 Bridger #111 CA 92630\, Lake Forest\, CA\, 92630\, United States
CATEGORIES:Event,Magic,Tournament
ATTACH;FMTTYPE=image/jpeg:https://comicquest.org/wp-content/uploads/2023/01/Friday-Night-Magic.jpg
END:VEVENT
BEGIN:VEVENT
DTSTART;TZID=America/Los_Angeles:20280825T180000
DTEND;TZID=America/Los_Angeles:20280825T220000
DTSTAMP:20260424T091150
CREATED:20241112T043240Z
LAST-MODIFIED:20250815T015729Z
UID:10003476-1850839200-1850853600@comicquest.org
SUMMARY:Friday Night Magic
DESCRIPTION:Friday Night Magic! Come Join the fun! \nStandard and Commander Formats. \nFree\, unless a draft or sealed event. \nOn Demand Drafts – just ask the TO. \nOn occasion sealed & draft around new set launches. \nPlease join our Facebook group & Discord. \nhttps://www.facebook.com/groups/426423864154241/
URL:https://comicquest.org/event/friday-night-magic-128/2028-08-25/
LOCATION:Comic Quest\, 23811 Bridger #111 CA 92630\, Lake Forest\, CA\, 92630\, United States
CATEGORIES:Event,Magic,Tournament
ATTACH;FMTTYPE=image/jpeg:https://comicquest.org/wp-content/uploads/2023/01/Friday-Night-Magic.jpg
END:VEVENT
BEGIN:VEVENT
DTSTART;TZID=America/Los_Angeles:20280901T180000
DTEND;TZID=America/Los_Angeles:20280901T220000
DTSTAMP:20260424T091150
CREATED:20241112T043240Z
LAST-MODIFIED:20250815T015729Z
UID:10003477-1851444000-1851458400@comicquest.org
SUMMARY:Friday Night Magic
DESCRIPTION:Friday Night Magic! Come Join the fun! \nStandard and Commander Formats. \nFree\, unless a draft or sealed event. \nOn Demand Drafts – just ask the TO. \nOn occasion sealed & draft around new set launches. \nPlease join our Facebook group & Discord. \nhttps://www.facebook.com/groups/426423864154241/
URL:https://comicquest.org/event/friday-night-magic-128/2028-09-01/
LOCATION:Comic Quest\, 23811 Bridger #111 CA 92630\, Lake Forest\, CA\, 92630\, United States
CATEGORIES:Event,Magic,Tournament
ATTACH;FMTTYPE=image/jpeg:https://comicquest.org/wp-content/uploads/2023/01/Friday-Night-Magic.jpg
END:VEVENT
BEGIN:VEVENT
DTSTART;TZID=America/Los_Angeles:20280908T180000
DTEND;TZID=America/Los_Angeles:20280908T220000
DTSTAMP:20260424T091150
CREATED:20241112T043240Z
LAST-MODIFIED:20250815T015729Z
UID:10003478-1852048800-1852063200@comicquest.org
SUMMARY:Friday Night Magic
DESCRIPTION:Friday Night Magic! Come Join the fun! \nStandard and Commander Formats. \nFree\, unless a draft or sealed event. \nOn Demand Drafts – just ask the TO. \nOn occasion sealed & draft around new set launches. \nPlease join our Facebook group & Discord. \nhttps://www.facebook.com/groups/426423864154241/
URL:https://comicquest.org/event/friday-night-magic-128/2028-09-08/
LOCATION:Comic Quest\, 23811 Bridger #111 CA 92630\, Lake Forest\, CA\, 92630\, United States
CATEGORIES:Event,Magic,Tournament
ATTACH;FMTTYPE=image/jpeg:https://comicquest.org/wp-content/uploads/2023/01/Friday-Night-Magic.jpg
END:VEVENT
BEGIN:VEVENT
DTSTART;TZID=America/Los_Angeles:20280915T180000
DTEND;TZID=America/Los_Angeles:20280915T220000
DTSTAMP:20260424T091150
CREATED:20241112T043240Z
LAST-MODIFIED:20250815T015729Z
UID:10003479-1852653600-1852668000@comicquest.org
SUMMARY:Friday Night Magic
DESCRIPTION:Friday Night Magic! Come Join the fun! \nStandard and Commander Formats. \nFree\, unless a draft or sealed event. \nOn Demand Drafts – just ask the TO. \nOn occasion sealed & draft around new set launches. \nPlease join our Facebook group & Discord. \nhttps://www.facebook.com/groups/426423864154241/
URL:https://comicquest.org/event/friday-night-magic-128/2028-09-15/
LOCATION:Comic Quest\, 23811 Bridger #111 CA 92630\, Lake Forest\, CA\, 92630\, United States
CATEGORIES:Event,Magic,Tournament
ATTACH;FMTTYPE=image/jpeg:https://comicquest.org/wp-content/uploads/2023/01/Friday-Night-Magic.jpg
END:VEVENT
BEGIN:VEVENT
DTSTART;TZID=America/Los_Angeles:20280922T180000
DTEND;TZID=America/Los_Angeles:20280922T220000
DTSTAMP:20260424T091150
CREATED:20241112T043240Z
LAST-MODIFIED:20250815T015729Z
UID:10003480-1853258400-1853272800@comicquest.org
SUMMARY:Friday Night Magic
DESCRIPTION:Friday Night Magic! Come Join the fun! \nStandard and Commander Formats. \nFree\, unless a draft or sealed event. \nOn Demand Drafts – just ask the TO. \nOn occasion sealed & draft around new set launches. \nPlease join our Facebook group & Discord. \nhttps://www.facebook.com/groups/426423864154241/
URL:https://comicquest.org/event/friday-night-magic-128/2028-09-22/
LOCATION:Comic Quest\, 23811 Bridger #111 CA 92630\, Lake Forest\, CA\, 92630\, United States
CATEGORIES:Event,Magic,Tournament
ATTACH;FMTTYPE=image/jpeg:https://comicquest.org/wp-content/uploads/2023/01/Friday-Night-Magic.jpg
END:VEVENT
BEGIN:VEVENT
DTSTART;TZID=America/Los_Angeles:20280929T180000
DTEND;TZID=America/Los_Angeles:20280929T220000
DTSTAMP:20260424T091150
CREATED:20241112T043240Z
LAST-MODIFIED:20250815T015729Z
UID:10003481-1853863200-1853877600@comicquest.org
SUMMARY:Friday Night Magic
DESCRIPTION:Friday Night Magic! Come Join the fun! \nStandard and Commander Formats. \nFree\, unless a draft or sealed event. \nOn Demand Drafts – just ask the TO. \nOn occasion sealed & draft around new set launches. \nPlease join our Facebook group & Discord. \nhttps://www.facebook.com/groups/426423864154241/
URL:https://comicquest.org/event/friday-night-magic-128/2028-09-29/
LOCATION:Comic Quest\, 23811 Bridger #111 CA 92630\, Lake Forest\, CA\, 92630\, United States
CATEGORIES:Event,Magic,Tournament
ATTACH;FMTTYPE=image/jpeg:https://comicquest.org/wp-content/uploads/2023/01/Friday-Night-Magic.jpg
END:VEVENT
BEGIN:VEVENT
DTSTART;TZID=America/Los_Angeles:20281006T180000
DTEND;TZID=America/Los_Angeles:20281006T220000
DTSTAMP:20260424T091150
CREATED:20241112T043240Z
LAST-MODIFIED:20250815T015729Z
UID:10003482-1854468000-1854482400@comicquest.org
SUMMARY:Friday Night Magic
DESCRIPTION:Friday Night Magic! Come Join the fun! \nStandard and Commander Formats. \nFree\, unless a draft or sealed event. \nOn Demand Drafts – just ask the TO. \nOn occasion sealed & draft around new set launches. \nPlease join our Facebook group & Discord. \nhttps://www.facebook.com/groups/426423864154241/
URL:https://comicquest.org/event/friday-night-magic-128/2028-10-06/
LOCATION:Comic Quest\, 23811 Bridger #111 CA 92630\, Lake Forest\, CA\, 92630\, United States
CATEGORIES:Event,Magic,Tournament
ATTACH;FMTTYPE=image/jpeg:https://comicquest.org/wp-content/uploads/2023/01/Friday-Night-Magic.jpg
END:VEVENT
BEGIN:VEVENT
DTSTART;TZID=America/Los_Angeles:20281013T180000
DTEND;TZID=America/Los_Angeles:20281013T220000
DTSTAMP:20260424T091150
CREATED:20241112T043240Z
LAST-MODIFIED:20250815T015729Z
UID:10003483-1855072800-1855087200@comicquest.org
SUMMARY:Friday Night Magic
DESCRIPTION:Friday Night Magic! Come Join the fun! \nStandard and Commander Formats. \nFree\, unless a draft or sealed event. \nOn Demand Drafts – just ask the TO. \nOn occasion sealed & draft around new set launches. \nPlease join our Facebook group & Discord. \nhttps://www.facebook.com/groups/426423864154241/
URL:https://comicquest.org/event/friday-night-magic-128/2028-10-13/
LOCATION:Comic Quest\, 23811 Bridger #111 CA 92630\, Lake Forest\, CA\, 92630\, United States
CATEGORIES:Event,Magic,Tournament
ATTACH;FMTTYPE=image/jpeg:https://comicquest.org/wp-content/uploads/2023/01/Friday-Night-Magic.jpg
END:VEVENT
BEGIN:VEVENT
DTSTART;TZID=America/Los_Angeles:20281020T180000
DTEND;TZID=America/Los_Angeles:20281020T220000
DTSTAMP:20260424T091150
CREATED:20241112T043240Z
LAST-MODIFIED:20250815T015729Z
UID:10003484-1855677600-1855692000@comicquest.org
SUMMARY:Friday Night Magic
DESCRIPTION:Friday Night Magic! Come Join the fun! \nStandard and Commander Formats. \nFree\, unless a draft or sealed event. \nOn Demand Drafts – just ask the TO. \nOn occasion sealed & draft around new set launches. \nPlease join our Facebook group & Discord. \nhttps://www.facebook.com/groups/426423864154241/
URL:https://comicquest.org/event/friday-night-magic-128/2028-10-20/
LOCATION:Comic Quest\, 23811 Bridger #111 CA 92630\, Lake Forest\, CA\, 92630\, United States
CATEGORIES:Event,Magic,Tournament
ATTACH;FMTTYPE=image/jpeg:https://comicquest.org/wp-content/uploads/2023/01/Friday-Night-Magic.jpg
END:VEVENT
BEGIN:VEVENT
DTSTART;TZID=America/Los_Angeles:20281027T180000
DTEND;TZID=America/Los_Angeles:20281027T220000
DTSTAMP:20260424T091150
CREATED:20241112T043240Z
LAST-MODIFIED:20250815T015729Z
UID:10003485-1856282400-1856296800@comicquest.org
SUMMARY:Friday Night Magic
DESCRIPTION:Friday Night Magic! Come Join the fun! \nStandard and Commander Formats. \nFree\, unless a draft or sealed event. \nOn Demand Drafts – just ask the TO. \nOn occasion sealed & draft around new set launches. \nPlease join our Facebook group & Discord. \nhttps://www.facebook.com/groups/426423864154241/
URL:https://comicquest.org/event/friday-night-magic-128/2028-10-27/
LOCATION:Comic Quest\, 23811 Bridger #111 CA 92630\, Lake Forest\, CA\, 92630\, United States
CATEGORIES:Event,Magic,Tournament
ATTACH;FMTTYPE=image/jpeg:https://comicquest.org/wp-content/uploads/2023/01/Friday-Night-Magic.jpg
END:VEVENT
BEGIN:VEVENT
DTSTART;TZID=America/Los_Angeles:20281103T180000
DTEND;TZID=America/Los_Angeles:20281103T220000
DTSTAMP:20260424T091150
CREATED:20241112T043240Z
LAST-MODIFIED:20250815T015729Z
UID:10003486-1856887200-1856901600@comicquest.org
SUMMARY:Friday Night Magic
DESCRIPTION:Friday Night Magic! Come Join the fun! \nStandard and Commander Formats. \nFree\, unless a draft or sealed event. \nOn Demand Drafts – just ask the TO. \nOn occasion sealed & draft around new set launches. \nPlease join our Facebook group & Discord. \nhttps://www.facebook.com/groups/426423864154241/
URL:https://comicquest.org/event/friday-night-magic-128/2028-11-03/
LOCATION:Comic Quest\, 23811 Bridger #111 CA 92630\, Lake Forest\, CA\, 92630\, United States
CATEGORIES:Event,Magic,Tournament
ATTACH;FMTTYPE=image/jpeg:https://comicquest.org/wp-content/uploads/2023/01/Friday-Night-Magic.jpg
END:VEVENT
BEGIN:VEVENT
DTSTART;TZID=America/Los_Angeles:20281110T180000
DTEND;TZID=America/Los_Angeles:20281110T220000
DTSTAMP:20260424T091150
CREATED:20241112T043240Z
LAST-MODIFIED:20250815T015729Z
UID:10003487-1857492000-1857506400@comicquest.org
SUMMARY:Friday Night Magic
DESCRIPTION:Friday Night Magic! Come Join the fun! \nStandard and Commander Formats. \nFree\, unless a draft or sealed event. \nOn Demand Drafts – just ask the TO. \nOn occasion sealed & draft around new set launches. \nPlease join our Facebook group & Discord. \nhttps://www.facebook.com/groups/426423864154241/
URL:https://comicquest.org/event/friday-night-magic-128/2028-11-10/
LOCATION:Comic Quest\, 23811 Bridger #111 CA 92630\, Lake Forest\, CA\, 92630\, United States
CATEGORIES:Event,Magic,Tournament
ATTACH;FMTTYPE=image/jpeg:https://comicquest.org/wp-content/uploads/2023/01/Friday-Night-Magic.jpg
END:VEVENT
BEGIN:VEVENT
DTSTART;TZID=America/Los_Angeles:20281117T180000
DTEND;TZID=America/Los_Angeles:20281117T220000
DTSTAMP:20260424T091150
CREATED:20241112T043240Z
LAST-MODIFIED:20250815T015729Z
UID:10003488-1858096800-1858111200@comicquest.org
SUMMARY:Friday Night Magic
DESCRIPTION:Friday Night Magic! Come Join the fun! \nStandard and Commander Formats. \nFree\, unless a draft or sealed event. \nOn Demand Drafts – just ask the TO. \nOn occasion sealed & draft around new set launches. \nPlease join our Facebook group & Discord. \nhttps://www.facebook.com/groups/426423864154241/
URL:https://comicquest.org/event/friday-night-magic-128/2028-11-17/
LOCATION:Comic Quest\, 23811 Bridger #111 CA 92630\, Lake Forest\, CA\, 92630\, United States
CATEGORIES:Event,Magic,Tournament
ATTACH;FMTTYPE=image/jpeg:https://comicquest.org/wp-content/uploads/2023/01/Friday-Night-Magic.jpg
END:VEVENT
BEGIN:VEVENT
DTSTART;TZID=America/Los_Angeles:20281124T180000
DTEND;TZID=America/Los_Angeles:20281124T220000
DTSTAMP:20260424T091150
CREATED:20241112T043240Z
LAST-MODIFIED:20250815T015729Z
UID:10003489-1858701600-1858716000@comicquest.org
SUMMARY:Friday Night Magic
DESCRIPTION:Friday Night Magic! Come Join the fun! \nStandard and Commander Formats. \nFree\, unless a draft or sealed event. \nOn Demand Drafts – just ask the TO. \nOn occasion sealed & draft around new set launches. \nPlease join our Facebook group & Discord. \nhttps://www.facebook.com/groups/426423864154241/
URL:https://comicquest.org/event/friday-night-magic-128/2028-11-24/
LOCATION:Comic Quest\, 23811 Bridger #111 CA 92630\, Lake Forest\, CA\, 92630\, United States
CATEGORIES:Event,Magic,Tournament
ATTACH;FMTTYPE=image/jpeg:https://comicquest.org/wp-content/uploads/2023/01/Friday-Night-Magic.jpg
END:VEVENT
BEGIN:VEVENT
DTSTART;TZID=America/Los_Angeles:20281201T180000
DTEND;TZID=America/Los_Angeles:20281201T220000
DTSTAMP:20260424T091150
CREATED:20241112T043240Z
LAST-MODIFIED:20250815T015729Z
UID:10003490-1859306400-1859320800@comicquest.org
SUMMARY:Friday Night Magic
DESCRIPTION:Friday Night Magic! Come Join the fun! \nStandard and Commander Formats. \nFree\, unless a draft or sealed event. \nOn Demand Drafts – just ask the TO. \nOn occasion sealed & draft around new set launches. \nPlease join our Facebook group & Discord. \nhttps://www.facebook.com/groups/426423864154241/
URL:https://comicquest.org/event/friday-night-magic-128/2028-12-01/
LOCATION:Comic Quest\, 23811 Bridger #111 CA 92630\, Lake Forest\, CA\, 92630\, United States
CATEGORIES:Event,Magic,Tournament
ATTACH;FMTTYPE=image/jpeg:https://comicquest.org/wp-content/uploads/2023/01/Friday-Night-Magic.jpg
END:VEVENT
BEGIN:VEVENT
DTSTART;TZID=America/Los_Angeles:20281208T180000
DTEND;TZID=America/Los_Angeles:20281208T220000
DTSTAMP:20260424T091150
CREATED:20241112T043240Z
LAST-MODIFIED:20250815T015729Z
UID:10003491-1859911200-1859925600@comicquest.org
SUMMARY:Friday Night Magic
DESCRIPTION:Friday Night Magic! Come Join the fun! \nStandard and Commander Formats. \nFree\, unless a draft or sealed event. \nOn Demand Drafts – just ask the TO. \nOn occasion sealed & draft around new set launches. \nPlease join our Facebook group & Discord. \nhttps://www.facebook.com/groups/426423864154241/
URL:https://comicquest.org/event/friday-night-magic-128/2028-12-08/
LOCATION:Comic Quest\, 23811 Bridger #111 CA 92630\, Lake Forest\, CA\, 92630\, United States
CATEGORIES:Event,Magic,Tournament
ATTACH;FMTTYPE=image/jpeg:https://comicquest.org/wp-content/uploads/2023/01/Friday-Night-Magic.jpg
END:VEVENT
BEGIN:VEVENT
DTSTART;TZID=America/Los_Angeles:20281215T180000
DTEND;TZID=America/Los_Angeles:20281215T220000
DTSTAMP:20260424T091150
CREATED:20241112T043240Z
LAST-MODIFIED:20250815T015729Z
UID:10003492-1860516000-1860530400@comicquest.org
SUMMARY:Friday Night Magic
DESCRIPTION:Friday Night Magic! Come Join the fun! \nStandard and Commander Formats. \nFree\, unless a draft or sealed event. \nOn Demand Drafts – just ask the TO. \nOn occasion sealed & draft around new set launches. \nPlease join our Facebook group & Discord. \nhttps://www.facebook.com/groups/426423864154241/
URL:https://comicquest.org/event/friday-night-magic-128/2028-12-15/
LOCATION:Comic Quest\, 23811 Bridger #111 CA 92630\, Lake Forest\, CA\, 92630\, United States
CATEGORIES:Event,Magic,Tournament
ATTACH;FMTTYPE=image/jpeg:https://comicquest.org/wp-content/uploads/2023/01/Friday-Night-Magic.jpg
END:VEVENT
BEGIN:VEVENT
DTSTART;TZID=America/Los_Angeles:20281222T180000
DTEND;TZID=America/Los_Angeles:20281222T220000
DTSTAMP:20260424T091150
CREATED:20241112T043240Z
LAST-MODIFIED:20250815T015729Z
UID:10003493-1861120800-1861135200@comicquest.org
SUMMARY:Friday Night Magic
DESCRIPTION:Friday Night Magic! Come Join the fun! \nStandard and Commander Formats. \nFree\, unless a draft or sealed event. \nOn Demand Drafts – just ask the TO. \nOn occasion sealed & draft around new set launches. \nPlease join our Facebook group & Discord. \nhttps://www.facebook.com/groups/426423864154241/
URL:https://comicquest.org/event/friday-night-magic-128/2028-12-22/
LOCATION:Comic Quest\, 23811 Bridger #111 CA 92630\, Lake Forest\, CA\, 92630\, United States
CATEGORIES:Event,Magic,Tournament
ATTACH;FMTTYPE=image/jpeg:https://comicquest.org/wp-content/uploads/2023/01/Friday-Night-Magic.jpg
END:VEVENT
BEGIN:VEVENT
DTSTART;TZID=America/Los_Angeles:20281229T180000
DTEND;TZID=America/Los_Angeles:20281229T220000
DTSTAMP:20260424T091150
CREATED:20241112T043240Z
LAST-MODIFIED:20250815T015729Z
UID:10003494-1861725600-1861740000@comicquest.org
SUMMARY:Friday Night Magic
DESCRIPTION:Friday Night Magic! Come Join the fun! \nStandard and Commander Formats. \nFree\, unless a draft or sealed event. \nOn Demand Drafts – just ask the TO. \nOn occasion sealed & draft around new set launches. \nPlease join our Facebook group & Discord. \nhttps://www.facebook.com/groups/426423864154241/
URL:https://comicquest.org/event/friday-night-magic-128/2028-12-29/
LOCATION:Comic Quest\, 23811 Bridger #111 CA 92630\, Lake Forest\, CA\, 92630\, United States
CATEGORIES:Event,Magic,Tournament
ATTACH;FMTTYPE=image/jpeg:https://comicquest.org/wp-content/uploads/2023/01/Friday-Night-Magic.jpg
END:VEVENT
BEGIN:VEVENT
DTSTART;TZID=America/Los_Angeles:20290105T180000
DTEND;TZID=America/Los_Angeles:20290105T220000
DTSTAMP:20260424T091150
CREATED:20241112T043240Z
LAST-MODIFIED:20250815T015729Z
UID:10003495-1862330400-1862344800@comicquest.org
SUMMARY:Friday Night Magic
DESCRIPTION:Friday Night Magic! Come Join the fun! \nStandard and Commander Formats. \nFree\, unless a draft or sealed event. \nOn Demand Drafts – just ask the TO. \nOn occasion sealed & draft around new set launches. \nPlease join our Facebook group & Discord. \nhttps://www.facebook.com/groups/426423864154241/
URL:https://comicquest.org/event/friday-night-magic-128/2029-01-05/
LOCATION:Comic Quest\, 23811 Bridger #111 CA 92630\, Lake Forest\, CA\, 92630\, United States
CATEGORIES:Event,Magic,Tournament
ATTACH;FMTTYPE=image/jpeg:https://comicquest.org/wp-content/uploads/2023/01/Friday-Night-Magic.jpg
END:VEVENT
BEGIN:VEVENT
DTSTART;TZID=America/Los_Angeles:20290112T180000
DTEND;TZID=America/Los_Angeles:20290112T220000
DTSTAMP:20260424T091150
CREATED:20241112T043240Z
LAST-MODIFIED:20250815T015729Z
UID:10003496-1862935200-1862949600@comicquest.org
SUMMARY:Friday Night Magic
DESCRIPTION:Friday Night Magic! Come Join the fun! \nStandard and Commander Formats. \nFree\, unless a draft or sealed event. \nOn Demand Drafts – just ask the TO. \nOn occasion sealed & draft around new set launches. \nPlease join our Facebook group & Discord. \nhttps://www.facebook.com/groups/426423864154241/
URL:https://comicquest.org/event/friday-night-magic-128/2029-01-12/
LOCATION:Comic Quest\, 23811 Bridger #111 CA 92630\, Lake Forest\, CA\, 92630\, United States
CATEGORIES:Event,Magic,Tournament
ATTACH;FMTTYPE=image/jpeg:https://comicquest.org/wp-content/uploads/2023/01/Friday-Night-Magic.jpg
END:VEVENT
BEGIN:VEVENT
DTSTART;TZID=America/Los_Angeles:20290119T180000
DTEND;TZID=America/Los_Angeles:20290119T220000
DTSTAMP:20260424T091150
CREATED:20241112T043240Z
LAST-MODIFIED:20250815T015729Z
UID:10003497-1863540000-1863554400@comicquest.org
SUMMARY:Friday Night Magic
DESCRIPTION:Friday Night Magic! Come Join the fun! \nStandard and Commander Formats. \nFree\, unless a draft or sealed event. \nOn Demand Drafts – just ask the TO. \nOn occasion sealed & draft around new set launches. \nPlease join our Facebook group & Discord. \nhttps://www.facebook.com/groups/426423864154241/
URL:https://comicquest.org/event/friday-night-magic-128/2029-01-19/
LOCATION:Comic Quest\, 23811 Bridger #111 CA 92630\, Lake Forest\, CA\, 92630\, United States
CATEGORIES:Event,Magic,Tournament
ATTACH;FMTTYPE=image/jpeg:https://comicquest.org/wp-content/uploads/2023/01/Friday-Night-Magic.jpg
END:VEVENT
END:VCALENDAR