BEGIN:VCALENDAR
VERSION:2.0
PRODID:-//Comic Quest - ECPv6.15.20//NONSGML v1.0//EN
CALSCALE:GREGORIAN
METHOD:PUBLISH
X-WR-CALNAME:Comic Quest
X-ORIGINAL-URL:https://comicquest.org
X-WR-CALDESC:Events for Comic Quest
REFRESH-INTERVAL;VALUE=DURATION:PT1H
X-Robots-Tag:noindex
X-PUBLISHED-TTL:PT1H
BEGIN:VTIMEZONE
TZID:America/Los_Angeles
BEGIN:DAYLIGHT
TZOFFSETFROM:-0800
TZOFFSETTO:-0700
TZNAME:PDT
DTSTART:20230312T100000
END:DAYLIGHT
BEGIN:STANDARD
TZOFFSETFROM:-0700
TZOFFSETTO:-0800
TZNAME:PST
DTSTART:20231105T090000
END:STANDARD
BEGIN:DAYLIGHT
TZOFFSETFROM:-0800
TZOFFSETTO:-0700
TZNAME:PDT
DTSTART:20240310T100000
END:DAYLIGHT
BEGIN:STANDARD
TZOFFSETFROM:-0700
TZOFFSETTO:-0800
TZNAME:PST
DTSTART:20241103T090000
END:STANDARD
BEGIN:DAYLIGHT
TZOFFSETFROM:-0800
TZOFFSETTO:-0700
TZNAME:PDT
DTSTART:20250309T100000
END:DAYLIGHT
BEGIN:STANDARD
TZOFFSETFROM:-0700
TZOFFSETTO:-0800
TZNAME:PST
DTSTART:20251102T090000
END:STANDARD
END:VTIMEZONE
BEGIN:VEVENT
DTSTART;TZID=America/Los_Angeles:20240628T180000
DTEND;TZID=America/Los_Angeles:20240628T220000
DTSTAMP:20260424T054936
CREATED:20231018T005708Z
LAST-MODIFIED:20240627T193426Z
UID:10000557-1719597600-1719612000@comicquest.org
SUMMARY:Friday Night Magic
DESCRIPTION:MTG Commander Pride Event \nFriday Night Magic! Come Join the fun! \nModern and Commander Formats. \nOn occasion sealed & draft around new set launches. \nTONIGHT – June 28 – Special Commander Pride Event. \n\nMagic Presents: Pride is a casual Commander event with one added rule: during the event treat all eligible commanders as though they had the partner ability.\nThis allows players to add an additional commander to a deck they already have or use a never-before-seen combination of two commanders to helm a totally new deck.\n\nNOTE: Commanders that already have abilities like partner won’t let players have more than two commanders at this event\, but we applaud their enthusiasm. Remember that the extra commander still counts toward the 100 cards in their deck. \n\nEach participating player receives one rainbow holographic art print\, while supplies last.\n\nPlease join our Facebook group. \nhttps://www.facebook.com/groups/426423864154241/
URL:https://comicquest.org/event/friday-night-magic-69/
LOCATION:Comic Quest\, 23811 Bridger #111 CA 92630\, Lake Forest\, CA\, 92630\, United States
CATEGORIES:Event,Magic,Tournament
ATTACH;FMTTYPE=image/jpeg:https://comicquest.org/wp-content/uploads/2023/01/Friday-Night-Magic.jpg
END:VEVENT
BEGIN:VEVENT
DTSTART;TZID=America/Los_Angeles:20240621T180000
DTEND;TZID=America/Los_Angeles:20240621T220000
DTSTAMP:20260424T054936
CREATED:20231018T005634Z
LAST-MODIFIED:20231018T005634Z
UID:10000556-1718992800-1719007200@comicquest.org
SUMMARY:Friday Night Magic
DESCRIPTION:Friday Night Magic! Come Join the fun! \nModern and Commander Formats. \nOn occasion sealed & draft around new set launches. \nPlease join our Facebook group. \nhttps://www.facebook.com/groups/426423864154241/
URL:https://comicquest.org/event/friday-night-magic-68/
LOCATION:Comic Quest\, 23811 Bridger #111 CA 92630\, Lake Forest\, CA\, 92630\, United States
CATEGORIES:Event,Magic,Tournament
ATTACH;FMTTYPE=image/jpeg:https://comicquest.org/wp-content/uploads/2023/01/Friday-Night-Magic.jpg
END:VEVENT
BEGIN:VEVENT
DTSTART;TZID=America/Los_Angeles:20240614T180000
DTEND;TZID=America/Los_Angeles:20240614T220000
DTSTAMP:20260424T054936
CREATED:20231018T005606Z
LAST-MODIFIED:20231018T005606Z
UID:10000555-1718388000-1718402400@comicquest.org
SUMMARY:Friday Night Magic
DESCRIPTION:Friday Night Magic! Come Join the fun! \nModern and Commander Formats. \nOn occasion sealed & draft around new set launches. \nPlease join our Facebook group. \nhttps://www.facebook.com/groups/426423864154241/
URL:https://comicquest.org/event/friday-night-magic-67/
LOCATION:Comic Quest\, 23811 Bridger #111 CA 92630\, Lake Forest\, CA\, 92630\, United States
CATEGORIES:Event,Magic,Tournament
ATTACH;FMTTYPE=image/jpeg:https://comicquest.org/wp-content/uploads/2023/01/Friday-Night-Magic.jpg
END:VEVENT
BEGIN:VEVENT
DTSTART;TZID=America/Los_Angeles:20240614T120000
DTEND;TZID=America/Los_Angeles:20240614T190000
DTSTAMP:20260424T054936
CREATED:20240302T001412Z
LAST-MODIFIED:20240302T001835Z
UID:10000834-1718366400-1718391600@comicquest.org
SUMMARY:Magic Release - Modern Horizons 3
DESCRIPTION:Modern Horizons 3 brings a heaping helping of exciting new cards to Modern\, one of Magic‘s most celebrated formats. Whether your players haven’t picked up a set in a while or are card-slinging veterans\, there’s something for everyone to love. \n\n\n\n  \n\n 
URL:https://comicquest.org/event/magic-release-modern-horizons-3/
LOCATION:Comic Quest\, 23811 Bridger #111 CA 92630\, Lake Forest\, CA\, 92630\, United States
CATEGORIES:Event,Magic,Tournament
ATTACH;FMTTYPE=image/jpeg:https://comicquest.org/wp-content/uploads/2024/03/modern_horizons_3.jpg
END:VEVENT
BEGIN:VEVENT
DTSTART;TZID=America/Los_Angeles:20240609T120000
DTEND;TZID=America/Los_Angeles:20240609T190000
DTSTAMP:20260424T054936
CREATED:20240302T001633Z
LAST-MODIFIED:20240605T232526Z
UID:10000836-1717934400-1717959600@comicquest.org
SUMMARY:Magic Prerelease -PRERELEASE KIT - Modern Horizons 3
DESCRIPTION:Magic the Gathering Prerelease Event – PreRelease Kit (Sealed) \nModern Horizons 3 \n$55.99 \nSaturday June 8 Noon \nSunday June 9 Noon \n  \nShake up your favorite decks with new cards for the Modern format! Modern Horizons 3 delivers a powerful collection of new cards and exciting reprints that will make an immediate impact on one of Magic’s most celebrated formats. \nAttendees will receive an exclusive limited edition Energy Token! \n\n\n\n\nPreRelease Kit Contents:\n\n\n6 Modern Horizons 3 Play Boosters; each Play Booster contains 14 Magic cards\n1 foil\, year-stamped Rare or Mythic Rare\n1 Magic: The Gathering Arena code card (only available in select regions)\n1 deck box\n1 Spindown die\n\n\n\n\n 
URL:https://comicquest.org/event/magic-prerelease-modern-horizons-3-2/
LOCATION:Comic Quest\, 23811 Bridger #111 CA 92630\, Lake Forest\, CA\, 92630\, United States
CATEGORIES:Event,Magic,Tournament
ATTACH;FMTTYPE=image/jpeg:https://comicquest.org/wp-content/uploads/2023/03/magic_prerelease.jpg
END:VEVENT
BEGIN:VEVENT
DTSTART;TZID=America/Los_Angeles:20240608T120000
DTEND;TZID=America/Los_Angeles:20240608T190000
DTSTAMP:20260424T054936
CREATED:20240302T001517Z
LAST-MODIFIED:20240605T232825Z
UID:10000835-1717848000-1717873200@comicquest.org
SUMMARY:Magic Prerelease - PRERELEASE KIT -Modern Horizons 3
DESCRIPTION:Magic the Gathering Prerelease Event – PreRelease Kit (Sealed) \nModern Horizons 3 \n$55.99 \nSaturday June 8 Noon \nSunday June 9 Noon \n  \nShake up your favorite decks with new cards for the Modern format! Modern Horizons 3 delivers a powerful collection of new cards and exciting reprints that will make an immediate impact on one of Magic’s most celebrated formats. \nAttendees will receive an exclusive limited edition Comic Quest Energy Token! \n\n\n\n\nPreRelease Kit Contents:\n\n\n6 Modern Horizons 3 Play Boosters; each Play Booster contains 14 Magic cards\n1 foil\, year-stamped Rare or Mythic Rare\n1 Magic: The Gathering Arena code card (only available in select regions)\n1 deck box\n1 Spindown die\n\n\n\n\n 
URL:https://comicquest.org/event/magic-prerelease-modern-horizons-3/
LOCATION:Comic Quest\, 23811 Bridger #111 CA 92630\, Lake Forest\, CA\, 92630\, United States
CATEGORIES:Event,Magic,Tournament
ATTACH;FMTTYPE=image/jpeg:https://comicquest.org/wp-content/uploads/2023/03/magic_prerelease.jpg
END:VEVENT
BEGIN:VEVENT
DTSTART;TZID=America/Los_Angeles:20240607T180000
DTEND;TZID=America/Los_Angeles:20240607T220000
DTSTAMP:20260424T054936
CREATED:20240605T232221Z
LAST-MODIFIED:20240605T232221Z
UID:10000930-1717783200-1717797600@comicquest.org
SUMMARY:Magic Prerelease - DRAFT - Modern Horizons 3
DESCRIPTION:Magic the Gathering Prerelease Event \nModern Horizons 3 \nDRAFT – Friday June 7 = buy 3 Booster packs of Modern Horizons 3.  \nSealed prerelease events – using the MH3 Prerelease Kit are on Sat & Sun June 8 and 9 \nSaturday June 8 Noon \nSunday June 9 Noon \nDetails below are for the PreRelease Kit Sealed Events on Sat & Sun June 8 & 9 \nShake up your favorite decks with new cards for the Modern format! Modern Horizons 3 delivers a powerful collection of new cards and exciting reprints that will make an immediate impact on one of Magic’s most celebrated formats. \nAttendees will receive an exclusive limited edition Comic Quest Energy Token! \n\n\n\n\nPreRelease Kit Contents:\n\n\n6 Modern Horizons 3 Play Boosters; each Play Booster contains 14 Magic cards\n1 foil\, year-stamped Rare or Mythic Rare\n1 Magic: The Gathering Arena code card (only available in select regions)\n1 deck box\n1 Spindown die\n\n\n\n\n 
URL:https://comicquest.org/event/magic-prerelease-draft-modern-horizons-3/
LOCATION:Comic Quest\, 23811 Bridger #111 CA 92630\, Lake Forest\, CA\, 92630\, United States
CATEGORIES:Event,Magic,Tournament
ATTACH;FMTTYPE=image/jpeg:https://comicquest.org/wp-content/uploads/2023/03/magic_prerelease.jpg
END:VEVENT
BEGIN:VEVENT
DTSTART;TZID=America/Los_Angeles:20240607T180000
DTEND;TZID=America/Los_Angeles:20240607T220000
DTSTAMP:20260424T054936
CREATED:20231018T005535Z
LAST-MODIFIED:20231018T005535Z
UID:10000554-1717783200-1717797600@comicquest.org
SUMMARY:Friday Night Magic
DESCRIPTION:Friday Night Magic! Come Join the fun! \nModern and Commander Formats. \nOn occasion sealed & draft around new set launches. \nPlease join our Facebook group. \nhttps://www.facebook.com/groups/426423864154241/
URL:https://comicquest.org/event/friday-night-magic-66/
LOCATION:Comic Quest\, 23811 Bridger #111 CA 92630\, Lake Forest\, CA\, 92630\, United States
CATEGORIES:Event,Magic,Tournament
ATTACH;FMTTYPE=image/jpeg:https://comicquest.org/wp-content/uploads/2023/01/Friday-Night-Magic.jpg
END:VEVENT
BEGIN:VEVENT
DTSTART;TZID=America/Los_Angeles:20240531T180000
DTEND;TZID=America/Los_Angeles:20240531T220000
DTSTAMP:20260424T054936
CREATED:20231001T045620Z
LAST-MODIFIED:20231001T045620Z
UID:10000520-1717178400-1717192800@comicquest.org
SUMMARY:Friday Night Magic
DESCRIPTION:Friday Night Magic! Come Join the fun! \nModern and Commander Formats. \nOn occasion sealed & draft around new set launches. \nPlease join our Facebook group. \nhttps://www.facebook.com/groups/426423864154241/
URL:https://comicquest.org/event/friday-night-magic-65/
LOCATION:Comic Quest\, 23811 Bridger #111 CA 92630\, Lake Forest\, CA\, 92630\, United States
CATEGORIES:Event,Magic,Tournament
ATTACH;FMTTYPE=image/jpeg:https://comicquest.org/wp-content/uploads/2023/01/Friday-Night-Magic.jpg
END:VEVENT
BEGIN:VEVENT
DTSTART;TZID=America/Los_Angeles:20240524T180000
DTEND;TZID=America/Los_Angeles:20240524T220000
DTSTAMP:20260424T054936
CREATED:20231001T045549Z
LAST-MODIFIED:20231001T045549Z
UID:10000519-1716573600-1716588000@comicquest.org
SUMMARY:Friday Night Magic
DESCRIPTION:Friday Night Magic! Come Join the fun! \nModern and Commander Formats. \nOn occasion sealed & draft around new set launches. \nPlease join our Facebook group. \nhttps://www.facebook.com/groups/426423864154241/
URL:https://comicquest.org/event/friday-night-magic-64/
LOCATION:Comic Quest\, 23811 Bridger #111 CA 92630\, Lake Forest\, CA\, 92630\, United States
CATEGORIES:Event,Magic,Tournament
ATTACH;FMTTYPE=image/jpeg:https://comicquest.org/wp-content/uploads/2023/01/Friday-Night-Magic.jpg
END:VEVENT
BEGIN:VEVENT
DTSTART;TZID=America/Los_Angeles:20240517T180000
DTEND;TZID=America/Los_Angeles:20240517T220000
DTSTAMP:20260424T054936
CREATED:20231001T045513Z
LAST-MODIFIED:20231001T045513Z
UID:10000518-1715968800-1715983200@comicquest.org
SUMMARY:Friday Night Magic
DESCRIPTION:Friday Night Magic! Come Join the fun! \nModern and Commander Formats. \nOn occasion sealed & draft around new set launches. \nPlease join our Facebook group. \nhttps://www.facebook.com/groups/426423864154241/
URL:https://comicquest.org/event/friday-night-magic-63/
LOCATION:Comic Quest\, 23811 Bridger #111 CA 92630\, Lake Forest\, CA\, 92630\, United States
CATEGORIES:Event,Magic,Tournament
ATTACH;FMTTYPE=image/jpeg:https://comicquest.org/wp-content/uploads/2023/01/Friday-Night-Magic.jpg
END:VEVENT
BEGIN:VEVENT
DTSTART;TZID=America/Los_Angeles:20240510T180000
DTEND;TZID=America/Los_Angeles:20240510T220000
DTSTAMP:20260424T054936
CREATED:20231001T045435Z
LAST-MODIFIED:20231001T045435Z
UID:10000517-1715364000-1715378400@comicquest.org
SUMMARY:Friday Night Magic
DESCRIPTION:Friday Night Magic! Come Join the fun! \nModern and Commander Formats. \nOn occasion sealed & draft around new set launches. \nPlease join our Facebook group. \nhttps://www.facebook.com/groups/426423864154241/
URL:https://comicquest.org/event/friday-night-magic-62/
LOCATION:Comic Quest\, 23811 Bridger #111 CA 92630\, Lake Forest\, CA\, 92630\, United States
CATEGORIES:Event,Magic,Tournament
ATTACH;FMTTYPE=image/jpeg:https://comicquest.org/wp-content/uploads/2023/01/Friday-Night-Magic.jpg
END:VEVENT
BEGIN:VEVENT
DTSTART;TZID=America/Los_Angeles:20240503T180000
DTEND;TZID=America/Los_Angeles:20240503T220000
DTSTAMP:20260424T054936
CREATED:20231001T045402Z
LAST-MODIFIED:20231001T045402Z
UID:10000516-1714759200-1714773600@comicquest.org
SUMMARY:Friday Night Magic
DESCRIPTION:Friday Night Magic! Come Join the fun! \nModern and Commander Formats. \nOn occasion sealed & draft around new set launches. \nPlease join our Facebook group. \nhttps://www.facebook.com/groups/426423864154241/
URL:https://comicquest.org/event/friday-night-magic-61/
LOCATION:Comic Quest\, 23811 Bridger #111 CA 92630\, Lake Forest\, CA\, 92630\, United States
CATEGORIES:Event,Magic,Tournament
ATTACH;FMTTYPE=image/jpeg:https://comicquest.org/wp-content/uploads/2023/01/Friday-Night-Magic.jpg
END:VEVENT
BEGIN:VEVENT
DTSTART;TZID=America/Los_Angeles:20240426T180000
DTEND;TZID=America/Los_Angeles:20240426T220000
DTSTAMP:20260424T054936
CREATED:20230930T022155Z
LAST-MODIFIED:20230930T022155Z
UID:10000455-1714154400-1714168800@comicquest.org
SUMMARY:Friday Night Magic
DESCRIPTION:Friday Night Magic! Come Join the fun! \nModern and Commander Formats. \nOn occasion sealed & draft around new set launches. \nPlease join our Facebook group. \nhttps://www.facebook.com/groups/426423864154241/
URL:https://comicquest.org/event/friday-night-magic-60/
LOCATION:Comic Quest\, 23811 Bridger #111 CA 92630\, Lake Forest\, CA\, 92630\, United States
CATEGORIES:Event,Magic,Tournament
ATTACH;FMTTYPE=image/jpeg:https://comicquest.org/wp-content/uploads/2023/01/Friday-Night-Magic.jpg
END:VEVENT
BEGIN:VEVENT
DTSTART;TZID=America/Los_Angeles:20240419T180000
DTEND;TZID=America/Los_Angeles:20240419T220000
DTSTAMP:20260424T054936
CREATED:20230930T022124Z
LAST-MODIFIED:20230930T022124Z
UID:10000454-1713549600-1713564000@comicquest.org
SUMMARY:Friday Night Magic
DESCRIPTION:Friday Night Magic! Come Join the fun! \nModern and Commander Formats. \nOn occasion sealed & draft around new set launches. \nPlease join our Facebook group. \nhttps://www.facebook.com/groups/426423864154241/
URL:https://comicquest.org/event/friday-night-magic-59/
LOCATION:Comic Quest\, 23811 Bridger #111 CA 92630\, Lake Forest\, CA\, 92630\, United States
CATEGORIES:Event,Magic,Tournament
ATTACH;FMTTYPE=image/jpeg:https://comicquest.org/wp-content/uploads/2023/01/Friday-Night-Magic.jpg
END:VEVENT
BEGIN:VEVENT
DTSTART;TZID=America/Los_Angeles:20240419T120000
DTEND;TZID=America/Los_Angeles:20240419T190000
DTSTAMP:20260424T054936
CREATED:20240302T003040Z
LAST-MODIFIED:20240302T003245Z
UID:10000838-1713528000-1713553200@comicquest.org
SUMMARY:Magic Release - Outlaws of Thunder Junction
DESCRIPTION:In Outlaws of Thunder Junction\, your players will join Oko’s crew of deadly desperados as they plot a heist in the frontier world of Thunder Junction. They’ll face harsh deserts\, hostile critters\, and even rival outlaws—but with grit and gumption\, they’ll ride off into the sunset. \n\n\n\n  \n\n 
URL:https://comicquest.org/event/magic-release-outlaws-of-thunder-junction/
LOCATION:Comic Quest\, 23811 Bridger #111 CA 92630\, Lake Forest\, CA\, 92630\, United States
CATEGORIES:Event,Magic,Tournament
ATTACH;FMTTYPE=image/jpeg:https://comicquest.org/wp-content/uploads/2023/12/otj_alg_1080p_en.jpg
END:VEVENT
BEGIN:VEVENT
DTSTART;TZID=America/Los_Angeles:20240414T120000
DTEND;TZID=America/Los_Angeles:20240414T190000
DTSTAMP:20260424T054936
CREATED:20240302T002644Z
LAST-MODIFIED:20240409T041242Z
UID:10000837-1713096000-1713121200@comicquest.org
SUMMARY:Magic Prerelease - Outlaws of Thunder Junction
DESCRIPTION:Prerelease events: \n \n\nIn Outlaws of Thunder Junction\, your players will join Oko’s crew of deadly desperados as they plot a heist in the frontier world of Thunder Junction. They’ll face harsh deserts\, hostile critters\, and even rival outlaws—but with grit and gumption\, they’ll ride off into the sunset. \nPrerelease is your community’s first opportunity to get their hands on the newest Magic: The Gathering release and explore what the set has to offer\, and Prerelease Packs are the perfect product to fuel the first events of this new set. \n\n\nContents:\n\n\n6 Outlaws of Thunder Junction Play Boosters; each Play Booster contains 14 Magic cards\n1 foil\, year-stamped Rare or Mythic Rare\n1 Magic: The Gathering Arena code card (only available in select regions)\n1 deck box\n1 Spindown die\n\n\n\n\n\n$31.99\n\n  \n\nPrizes! \n-Play at our PreRelease and receive a special Comic Quest “Wanted Dead or Alive” Treasure Token! \n-Play at both of our PreRelease events and receive a unique PreRelease Pin ! \nSign ups in store now!
URL:https://comicquest.org/event/magic-prerelease-outlaws-of-thunder-junction/
LOCATION:Comic Quest\, 23811 Bridger #111 CA 92630\, Lake Forest\, CA\, 92630\, United States
CATEGORIES:Event,Magic,Tournament
ATTACH;FMTTYPE=image/jpeg:https://comicquest.org/wp-content/uploads/2023/03/magic_prerelease.jpg
END:VEVENT
BEGIN:VEVENT
DTSTART;TZID=America/Los_Angeles:20240413T120000
DTEND;TZID=America/Los_Angeles:20240413T190000
DTSTAMP:20260424T054936
CREATED:20231223T013524Z
LAST-MODIFIED:20240302T002614Z
UID:10000641-1713009600-1713034800@comicquest.org
SUMMARY:Magic Prerelease - Outlaws of Thunder Junction
DESCRIPTION:Prerelease events: \n \n\nIn Outlaws of Thunder Junction\, your players will join Oko’s crew of deadly desperados as they plot a heist in the frontier world of Thunder Junction. They’ll face harsh deserts\, hostile critters\, and even rival outlaws—but with grit and gumption\, they’ll ride off into the sunset. \nPrerelease is your community’s first opportunity to get their hands on the newest Magic: The Gathering release and explore what the set has to offer\, and Prerelease Packs are the perfect product to fuel the first events of this new set. \n\n\nContents:\n\n\n6 Outlaws of Thunder Junction Play Boosters; each Play Booster contains 14 Magic cards\n1 foil\, year-stamped Rare or Mythic Rare\n1 Magic: The Gathering Arena code card (only available in select regions)\n1 deck box\n1 Spindown die\n\n\n\n\n\n\n\n  \n\n 
URL:https://comicquest.org/event/magic-prerelease-magic/
LOCATION:Comic Quest\, 23811 Bridger #111 CA 92630\, Lake Forest\, CA\, 92630\, United States
CATEGORIES:Event,Magic,Tournament
ATTACH;FMTTYPE=image/jpeg:https://comicquest.org/wp-content/uploads/2023/03/magic_prerelease.jpg
END:VEVENT
BEGIN:VEVENT
DTSTART;TZID=America/Los_Angeles:20240412T180000
DTEND;TZID=America/Los_Angeles:20240412T220000
DTSTAMP:20260424T054936
CREATED:20230930T022054Z
LAST-MODIFIED:20230930T022054Z
UID:10000453-1712944800-1712959200@comicquest.org
SUMMARY:Friday Night Magic
DESCRIPTION:Friday Night Magic! Come Join the fun! \nModern and Commander Formats. \nOn occasion sealed & draft around new set launches. \nPlease join our Facebook group. \nhttps://www.facebook.com/groups/426423864154241/
URL:https://comicquest.org/event/friday-night-magic-58/
LOCATION:Comic Quest\, 23811 Bridger #111 CA 92630\, Lake Forest\, CA\, 92630\, United States
CATEGORIES:Event,Magic,Tournament
ATTACH;FMTTYPE=image/jpeg:https://comicquest.org/wp-content/uploads/2023/01/Friday-Night-Magic.jpg
END:VEVENT
BEGIN:VEVENT
DTSTART;VALUE=DATE:20240412
DTEND;VALUE=DATE:20240413
DTSTAMP:20260424T054937
CREATED:20240324T062648Z
LAST-MODIFIED:20240324T062854Z
UID:10000862-1712880000-1712966399@comicquest.org
SUMMARY:Magic New Set - Outlaws of Thunder Junction
DESCRIPTION:Magic New Set: \n \n\nIn Outlaws of Thunder Junction\, your players will join Oko’s crew of deadly desperados as they plot a heist in the frontier world of Thunder Junction. They’ll face harsh deserts\, hostile critters\, and even rival outlaws—but with grit and gumption\, they’ll ride off into the sunset. \n\n\n\n\n\n  \n\n 
URL:https://comicquest.org/event/magic-new-set-outlaws-of-thunder-junction/
LOCATION:Comic Quest\, 23811 Bridger #111 CA 92630\, Lake Forest\, CA\, 92630\, United States
CATEGORIES:Event,Magic,Tournament
ATTACH;FMTTYPE=image/jpeg:https://comicquest.org/wp-content/uploads/2023/12/outlaws-thunder-junction.jpg
END:VEVENT
BEGIN:VEVENT
DTSTART;TZID=America/Los_Angeles:20240405T180000
DTEND;TZID=America/Los_Angeles:20240405T220000
DTSTAMP:20260424T054937
CREATED:20230930T022029Z
LAST-MODIFIED:20230930T022029Z
UID:10000452-1712340000-1712354400@comicquest.org
SUMMARY:Friday Night Magic
DESCRIPTION:Friday Night Magic! Come Join the fun! \nModern and Commander Formats. \nOn occasion sealed & draft around new set launches. \nPlease join our Facebook group. \nhttps://www.facebook.com/groups/426423864154241/
URL:https://comicquest.org/event/friday-night-magic-57/
LOCATION:Comic Quest\, 23811 Bridger #111 CA 92630\, Lake Forest\, CA\, 92630\, United States
CATEGORIES:Event,Magic,Tournament
ATTACH;FMTTYPE=image/jpeg:https://comicquest.org/wp-content/uploads/2023/01/Friday-Night-Magic.jpg
END:VEVENT
BEGIN:VEVENT
DTSTART;TZID=America/Los_Angeles:20240329T180000
DTEND;TZID=America/Los_Angeles:20240329T220000
DTSTAMP:20260424T054937
CREATED:20230930T021954Z
LAST-MODIFIED:20230930T021954Z
UID:10000451-1711735200-1711749600@comicquest.org
SUMMARY:Friday Night Magic
DESCRIPTION:Friday Night Magic! Come Join the fun! \nModern and Commander Formats. \nOn occasion sealed & draft around new set launches. \nPlease join our Facebook group. \nhttps://www.facebook.com/groups/426423864154241/
URL:https://comicquest.org/event/friday-night-magic-56/
LOCATION:Comic Quest\, 23811 Bridger #111 CA 92630\, Lake Forest\, CA\, 92630\, United States
CATEGORIES:Event,Magic,Tournament
ATTACH;FMTTYPE=image/jpeg:https://comicquest.org/wp-content/uploads/2023/01/Friday-Night-Magic.jpg
END:VEVENT
BEGIN:VEVENT
DTSTART;TZID=America/Los_Angeles:20240322T180000
DTEND;TZID=America/Los_Angeles:20240322T220000
DTSTAMP:20260424T054937
CREATED:20230930T021928Z
LAST-MODIFIED:20230930T021928Z
UID:10000450-1711130400-1711144800@comicquest.org
SUMMARY:Friday Night Magic
DESCRIPTION:Friday Night Magic! Come Join the fun! \nModern and Commander Formats. \nOn occasion sealed & draft around new set launches. \nPlease join our Facebook group. \nhttps://www.facebook.com/groups/426423864154241/
URL:https://comicquest.org/event/friday-night-magic-55/
LOCATION:Comic Quest\, 23811 Bridger #111 CA 92630\, Lake Forest\, CA\, 92630\, United States
CATEGORIES:Event,Magic,Tournament
ATTACH;FMTTYPE=image/jpeg:https://comicquest.org/wp-content/uploads/2023/01/Friday-Night-Magic.jpg
END:VEVENT
BEGIN:VEVENT
DTSTART;TZID=America/Los_Angeles:20240315T180000
DTEND;TZID=America/Los_Angeles:20240315T220000
DTSTAMP:20260424T054937
CREATED:20230930T021842Z
LAST-MODIFIED:20230930T021842Z
UID:10000449-1710525600-1710540000@comicquest.org
SUMMARY:Friday Night Magic
DESCRIPTION:Friday Night Magic! Come Join the fun! \nModern and Commander Formats. \nOn occasion sealed & draft around new set launches. \nPlease join our Facebook group. \nhttps://www.facebook.com/groups/426423864154241/
URL:https://comicquest.org/event/friday-night-magic-54/
LOCATION:Comic Quest\, 23811 Bridger #111 CA 92630\, Lake Forest\, CA\, 92630\, United States
CATEGORIES:Event,Magic,Tournament
ATTACH;FMTTYPE=image/jpeg:https://comicquest.org/wp-content/uploads/2023/01/Friday-Night-Magic.jpg
END:VEVENT
BEGIN:VEVENT
DTSTART;TZID=America/Los_Angeles:20240308T180000
DTEND;TZID=America/Los_Angeles:20240308T220000
DTSTAMP:20260424T054937
CREATED:20230930T021817Z
LAST-MODIFIED:20230930T021817Z
UID:10000448-1709920800-1709935200@comicquest.org
SUMMARY:Friday Night Magic
DESCRIPTION:Friday Night Magic! Come Join the fun! \nModern and Commander Formats. \nOn occasion sealed & draft around new set launches. \nPlease join our Facebook group. \nhttps://www.facebook.com/groups/426423864154241/
URL:https://comicquest.org/event/friday-night-magic-53/
LOCATION:Comic Quest\, 23811 Bridger #111 CA 92630\, Lake Forest\, CA\, 92630\, United States
CATEGORIES:Event,Magic,Tournament
ATTACH;FMTTYPE=image/jpeg:https://comicquest.org/wp-content/uploads/2023/01/Friday-Night-Magic.jpg
END:VEVENT
BEGIN:VEVENT
DTSTART;TZID=America/Los_Angeles:20240308T120000
DTEND;TZID=America/Los_Angeles:20240308T180000
DTSTAMP:20260424T054937
CREATED:20240302T001113Z
LAST-MODIFIED:20240303T011924Z
UID:10000833-1709899200-1709920800@comicquest.org
SUMMARY:Magic Release - Fallout
DESCRIPTION:6pm FNM Launch Event\n\n\n\n\nThe vault is open! This booster is so overstuffed with perks for Fallout fans\, it’ll test the limits of your carrying capacity. Expect to encounter Rares and/or Mythics\, Traditional Foils\, Extended-Art cards\, and special Fallout-themed card treatments. Each Magic: The Gathering—Fallout Collector Booster contains 15 Magic: The Gathering cards and 1 Traditional Foil double-sided token\, with a combination of 7–14 cards of rarity Rare or higher and up to 7 Uncommon\, up to 5 Common\, and 1 Land cards. Every pack contains a total of 12 cards with a shining foil treatment\, including 3–10 Surge Foils and 2–9 Traditional Foils. \n\n\n\nCollector Boosters and Commander decks \n\n\n\n\n  \n\n 
URL:https://comicquest.org/event/magic-release-fallout/
LOCATION:Comic Quest\, 23811 Bridger #111 CA 92630\, Lake Forest\, CA\, 92630\, United States
CATEGORIES:Event,Magic,Tournament
ATTACH;FMTTYPE=image/jpeg:https://comicquest.org/wp-content/uploads/2024/03/magic_fallout.jpg
END:VEVENT
BEGIN:VEVENT
DTSTART;TZID=America/Los_Angeles:20240301T180000
DTEND;TZID=America/Los_Angeles:20240301T220000
DTSTAMP:20260424T054937
CREATED:20230930T021735Z
LAST-MODIFIED:20230930T021735Z
UID:10000447-1709316000-1709330400@comicquest.org
SUMMARY:Friday Night Magic
DESCRIPTION:Friday Night Magic! Come Join the fun! \nModern and Commander Formats. \nOn occasion sealed & draft around new set launches. \nPlease join our Facebook group. \nhttps://www.facebook.com/groups/426423864154241/
URL:https://comicquest.org/event/friday-night-magic-52/
LOCATION:Comic Quest\, 23811 Bridger #111 CA 92630\, Lake Forest\, CA\, 92630\, United States
CATEGORIES:Event,Magic,Tournament
ATTACH;FMTTYPE=image/jpeg:https://comicquest.org/wp-content/uploads/2023/01/Friday-Night-Magic.jpg
END:VEVENT
BEGIN:VEVENT
DTSTART;TZID=America/Los_Angeles:20240223T180000
DTEND;TZID=America/Los_Angeles:20240223T220000
DTSTAMP:20260424T054937
CREATED:20230923T134244Z
LAST-MODIFIED:20230923T134244Z
UID:10000402-1708711200-1708725600@comicquest.org
SUMMARY:Friday Night Magic
DESCRIPTION:Friday Night Magic! Come Join the fun! \nModern and Commander Formats. \nOn occasion sealed & draft around new set launches. \nPlease join our Facebook group. \nhttps://www.facebook.com/groups/426423864154241/
URL:https://comicquest.org/event/friday-night-magic-51/
LOCATION:Comic Quest\, 23811 Bridger #111 CA 92630\, Lake Forest\, CA\, 92630\, United States
CATEGORIES:Event,Magic,Tournament
ATTACH;FMTTYPE=image/jpeg:https://comicquest.org/wp-content/uploads/2023/01/Friday-Night-Magic.jpg
END:VEVENT
BEGIN:VEVENT
DTSTART;TZID=America/Los_Angeles:20240216T180000
DTEND;TZID=America/Los_Angeles:20240216T220000
DTSTAMP:20260424T054937
CREATED:20230923T134213Z
LAST-MODIFIED:20230923T134213Z
UID:10000401-1708106400-1708120800@comicquest.org
SUMMARY:Friday Night Magic
DESCRIPTION:Friday Night Magic! Come Join the fun! \nModern and Commander Formats. \nOn occasion sealed & draft around new set launches. \nPlease join our Facebook group. \nhttps://www.facebook.com/groups/426423864154241/
URL:https://comicquest.org/event/friday-night-magic-50/
LOCATION:Comic Quest\, 23811 Bridger #111 CA 92630\, Lake Forest\, CA\, 92630\, United States
CATEGORIES:Event,Magic,Tournament
ATTACH;FMTTYPE=image/jpeg:https://comicquest.org/wp-content/uploads/2023/01/Friday-Night-Magic.jpg
END:VEVENT
BEGIN:VEVENT
DTSTART;TZID=America/Los_Angeles:20240209T180000
DTEND;TZID=America/Los_Angeles:20240209T220000
DTSTAMP:20260424T054937
CREATED:20230923T134135Z
LAST-MODIFIED:20230923T134135Z
UID:10000400-1707501600-1707516000@comicquest.org
SUMMARY:Friday Night Magic
DESCRIPTION:Friday Night Magic! Come Join the fun! \nModern and Commander Formats. \nOn occasion sealed & draft around new set launches. \nPlease join our Facebook group. \nhttps://www.facebook.com/groups/426423864154241/
URL:https://comicquest.org/event/friday-night-magic-49/
LOCATION:Comic Quest\, 23811 Bridger #111 CA 92630\, Lake Forest\, CA\, 92630\, United States
CATEGORIES:Event,Magic,Tournament
ATTACH;FMTTYPE=image/jpeg:https://comicquest.org/wp-content/uploads/2023/01/Friday-Night-Magic.jpg
END:VEVENT
END:VCALENDAR