BEGIN:VCALENDAR
VERSION:2.0
PRODID:-//Comic Quest - ECPv6.15.20//NONSGML v1.0//EN
CALSCALE:GREGORIAN
METHOD:PUBLISH
X-WR-CALNAME:Comic Quest
X-ORIGINAL-URL:https://comicquest.org
X-WR-CALDESC:Events for Comic Quest
REFRESH-INTERVAL;VALUE=DURATION:PT1H
X-Robots-Tag:noindex
X-PUBLISHED-TTL:PT1H
BEGIN:VTIMEZONE
TZID:America/Los_Angeles
BEGIN:DAYLIGHT
TZOFFSETFROM:-0800
TZOFFSETTO:-0700
TZNAME:PDT
DTSTART:20220313T100000
END:DAYLIGHT
BEGIN:STANDARD
TZOFFSETFROM:-0700
TZOFFSETTO:-0800
TZNAME:PST
DTSTART:20221106T090000
END:STANDARD
BEGIN:DAYLIGHT
TZOFFSETFROM:-0800
TZOFFSETTO:-0700
TZNAME:PDT
DTSTART:20230312T100000
END:DAYLIGHT
BEGIN:STANDARD
TZOFFSETFROM:-0700
TZOFFSETTO:-0800
TZNAME:PST
DTSTART:20231105T090000
END:STANDARD
BEGIN:DAYLIGHT
TZOFFSETFROM:-0800
TZOFFSETTO:-0700
TZNAME:PDT
DTSTART:20240310T100000
END:DAYLIGHT
BEGIN:STANDARD
TZOFFSETFROM:-0700
TZOFFSETTO:-0800
TZNAME:PST
DTSTART:20241103T090000
END:STANDARD
END:VTIMEZONE
BEGIN:VTIMEZONE
TZID:Asia/Shanghai
BEGIN:STANDARD
TZOFFSETFROM:+0800
TZOFFSETTO:+0800
TZNAME:CST
DTSTART:20220101T000000
END:STANDARD
END:VTIMEZONE
BEGIN:VEVENT
DTSTART;TZID=America/Los_Angeles:20230728T180000
DTEND;TZID=America/Los_Angeles:20230728T220000
DTSTAMP:20260424T183015
CREATED:20230411T190703Z
LAST-MODIFIED:20230411T190703Z
UID:10000210-1690567200-1690581600@comicquest.org
SUMMARY:Friday Night Magic
DESCRIPTION:Friday Night Magic! Come Join the fun! \nModern and Commander Formats. \nOn occasion sealed & draft around new set launches. \nPlease join our Facebook group. \nhttps://www.facebook.com/groups/426423864154241/
URL:https://comicquest.org/event/friday-night-magic-22/
LOCATION:Comic Quest\, 23811 Bridger #111 CA 92630\, Lake Forest\, CA\, 92630\, United States
CATEGORIES:Event,Magic,Tournament
ATTACH;FMTTYPE=image/jpeg:https://comicquest.org/wp-content/uploads/2023/01/Friday-Night-Magic.jpg
END:VEVENT
BEGIN:VEVENT
DTSTART;TZID=America/Los_Angeles:20230721T180000
DTEND;TZID=America/Los_Angeles:20230721T220000
DTSTAMP:20260424T183015
CREATED:20230411T190635Z
LAST-MODIFIED:20230411T190635Z
UID:10000209-1689962400-1689976800@comicquest.org
SUMMARY:Friday Night Magic
DESCRIPTION:Friday Night Magic! Come Join the fun! \nModern and Commander Formats. \nOn occasion sealed & draft around new set launches. \nPlease join our Facebook group. \nhttps://www.facebook.com/groups/426423864154241/
URL:https://comicquest.org/event/friday-night-magic-21/
LOCATION:Comic Quest\, 23811 Bridger #111 CA 92630\, Lake Forest\, CA\, 92630\, United States
CATEGORIES:Event,Magic,Tournament
ATTACH;FMTTYPE=image/jpeg:https://comicquest.org/wp-content/uploads/2023/01/Friday-Night-Magic.jpg
END:VEVENT
BEGIN:VEVENT
DTSTART;TZID=America/Los_Angeles:20230714T180000
DTEND;TZID=America/Los_Angeles:20230714T220000
DTSTAMP:20260424T183015
CREATED:20230411T190607Z
LAST-MODIFIED:20230411T190607Z
UID:10000208-1689357600-1689372000@comicquest.org
SUMMARY:Friday Night Magic
DESCRIPTION:Friday Night Magic! Come Join the fun! \nModern and Commander Formats. \nOn occasion sealed & draft around new set launches. \nPlease join our Facebook group. \nhttps://www.facebook.com/groups/426423864154241/
URL:https://comicquest.org/event/friday-night-magic-20/
LOCATION:Comic Quest\, 23811 Bridger #111 CA 92630\, Lake Forest\, CA\, 92630\, United States
CATEGORIES:Event,Magic,Tournament
ATTACH;FMTTYPE=image/jpeg:https://comicquest.org/wp-content/uploads/2023/01/Friday-Night-Magic.jpg
END:VEVENT
BEGIN:VEVENT
DTSTART;TZID=America/Los_Angeles:20230707T180000
DTEND;TZID=America/Los_Angeles:20230707T220000
DTSTAMP:20260424T183015
CREATED:20230411T190537Z
LAST-MODIFIED:20230411T190537Z
UID:10000207-1688752800-1688767200@comicquest.org
SUMMARY:Friday Night Magic
DESCRIPTION:Friday Night Magic! Come Join the fun! \nModern and Commander Formats. \nOn occasion sealed & draft around new set launches. \nPlease join our Facebook group. \nhttps://www.facebook.com/groups/426423864154241/
URL:https://comicquest.org/event/friday-night-magic-19/
LOCATION:Comic Quest\, 23811 Bridger #111 CA 92630\, Lake Forest\, CA\, 92630\, United States
CATEGORIES:Event,Magic,Tournament
ATTACH;FMTTYPE=image/jpeg:https://comicquest.org/wp-content/uploads/2023/01/Friday-Night-Magic.jpg
END:VEVENT
BEGIN:VEVENT
DTSTART;TZID=America/Los_Angeles:20230630T180000
DTEND;TZID=America/Los_Angeles:20230630T220000
DTSTAMP:20260424T183015
CREATED:20230303T040936Z
LAST-MODIFIED:20230303T040936Z
UID:10000082-1688148000-1688162400@comicquest.org
SUMMARY:Friday Night Magic
DESCRIPTION:Friday Night Magic! Come Join the fun! \nModern and Commander Formats. \nOn occasion sealed & draft around new set launches. \nPlease join our facebook group. \nhttps://www.facebook.com/groups/426423864154241/
URL:https://comicquest.org/event/friday-night-magic-18/
LOCATION:Comic Quest\, 23811 Bridger #111 CA 92630\, Lake Forest\, CA\, 92630\, United States
CATEGORIES:Event,Magic,Tournament
ATTACH;FMTTYPE=image/jpeg:https://comicquest.org/wp-content/uploads/2023/01/Friday-Night-Magic.jpg
END:VEVENT
BEGIN:VEVENT
DTSTART;TZID=America/Los_Angeles:20230623T180000
DTEND;TZID=America/Los_Angeles:20230623T220000
DTSTAMP:20260424T183015
CREATED:20230303T040914Z
LAST-MODIFIED:20230303T040914Z
UID:10000081-1687543200-1687557600@comicquest.org
SUMMARY:Friday Night Magic
DESCRIPTION:Friday Night Magic! Come Join the fun! \nModern and Commander Formats. \nOn occasion sealed & draft around new set launches. \nPlease join our facebook group. \nhttps://www.facebook.com/groups/426423864154241/
URL:https://comicquest.org/event/friday-night-magic-17/
LOCATION:Comic Quest\, 23811 Bridger #111 CA 92630\, Lake Forest\, CA\, 92630\, United States
CATEGORIES:Event,Magic,Tournament
ATTACH;FMTTYPE=image/jpeg:https://comicquest.org/wp-content/uploads/2023/01/Friday-Night-Magic.jpg
END:VEVENT
BEGIN:VEVENT
DTSTART;TZID=America/Los_Angeles:20230618T120000
DTEND;TZID=America/Los_Angeles:20230618T190000
DTSTAMP:20260424T183015
CREATED:20230405T235759Z
LAST-MODIFIED:20230605T023203Z
UID:10000189-1687089600-1687114800@comicquest.org
SUMMARY:Magic Prerelease - Magic - Lord of the Rings
DESCRIPTION:Prerelease events: \nSign up now at Comic Quest. \n\n\nPrerelease Events for Magic the Gathering: Lord of the Rings.\n\n\nSaturday June 17th. Noon.\n\n\nSunday June 18th. Noon.\n\n\n$35.00. Sign ups available in store.\n\nAlso\, we will have boxes available for preorder as well.
URL:https://comicquest.org/event/magic-prerelease-magic-lord-of-the-rings/
LOCATION:Comic Quest\, 23811 Bridger #111 CA 92630\, Lake Forest\, CA\, 92630\, United States
CATEGORIES:Event,Magic,Tournament
ATTACH;FMTTYPE=image/jpeg:https://comicquest.org/wp-content/uploads/2023/03/magic_prerelease.jpg
END:VEVENT
BEGIN:VEVENT
DTSTART;TZID=America/Los_Angeles:20230617T120000
DTEND;TZID=America/Los_Angeles:20230617T190000
DTSTAMP:20260424T183015
CREATED:20230405T235618Z
LAST-MODIFIED:20230605T023333Z
UID:10000188-1687003200-1687028400@comicquest.org
SUMMARY:Magic Prerelease - Magic - Lord of the Rings
DESCRIPTION:Prerelease events: \nSign up now at Comic Quest. \n\n\nPrerelease Events for Magic the Gathering: Lord of the Rings.\n\n\nSaturday June 17th. Noon.\n\n\nSunday June 18th. Noon.\n\n\n$35.00. Sign ups available in store.\n\nAlso\, we will have boxes available for preorder as well.
URL:https://comicquest.org/event/magic-prerelease-3/
LOCATION:Comic Quest\, 23811 Bridger #111 CA 92630\, Lake Forest\, CA\, 92630\, United States
CATEGORIES:Event,Magic,Tournament
ATTACH;FMTTYPE=image/jpeg:https://comicquest.org/wp-content/uploads/2023/03/magic_prerelease.jpg
END:VEVENT
BEGIN:VEVENT
DTSTART;TZID=America/Los_Angeles:20230616T180000
DTEND;TZID=America/Los_Angeles:20230616T220000
DTSTAMP:20260424T183015
CREATED:20230303T040851Z
LAST-MODIFIED:20230303T040851Z
UID:10000080-1686938400-1686952800@comicquest.org
SUMMARY:Friday Night Magic
DESCRIPTION:Friday Night Magic! Come Join the fun! \nModern and Commander Formats. \nOn occasion sealed & draft around new set launches. \nPlease join our facebook group. \nhttps://www.facebook.com/groups/426423864154241/
URL:https://comicquest.org/event/friday-night-magic-16/
LOCATION:Comic Quest\, 23811 Bridger #111 CA 92630\, Lake Forest\, CA\, 92630\, United States
CATEGORIES:Event,Magic,Tournament
ATTACH;FMTTYPE=image/jpeg:https://comicquest.org/wp-content/uploads/2023/01/Friday-Night-Magic.jpg
END:VEVENT
BEGIN:VEVENT
DTSTART;VALUE=DATE:20230616
DTEND;VALUE=DATE:20230617
DTSTAMP:20260424T183015
CREATED:20230529T234025Z
LAST-MODIFIED:20230529T234130Z
UID:10000318-1686873600-1686959999@comicquest.org
SUMMARY:Magic - New - Lord of the Rings
DESCRIPTION:Magic Lord of the Ring Release \n  \nPlease join our Facebook group. \nhttps://www.facebook.com/groups/426423864154241/
URL:https://comicquest.org/event/magic-new-lord-of-the-rings/
LOCATION:Comic Quest\, 23811 Bridger #111 CA 92630\, Lake Forest\, CA\, 92630\, United States
CATEGORIES:Magic
ATTACH;FMTTYPE=image/jpeg:https://comicquest.org/wp-content/uploads/2023/01/Friday-Night-Magic.jpg
END:VEVENT
BEGIN:VEVENT
DTSTART;TZID=America/Los_Angeles:20230609T180000
DTEND;TZID=America/Los_Angeles:20230609T220000
DTSTAMP:20260424T183015
CREATED:20230303T040819Z
LAST-MODIFIED:20230303T040819Z
UID:10000079-1686333600-1686348000@comicquest.org
SUMMARY:Friday Night Magic
DESCRIPTION:Friday Night Magic! Come Join the fun! \nModern and Commander Formats. \nOn occasion sealed & draft around new set launches. \nPlease join our facebook group. \nhttps://www.facebook.com/groups/426423864154241/
URL:https://comicquest.org/event/friday-night-magic-15/
LOCATION:Comic Quest\, 23811 Bridger #111 CA 92630\, Lake Forest\, CA\, 92630\, United States
CATEGORIES:Event,Magic,Tournament
ATTACH;FMTTYPE=image/jpeg:https://comicquest.org/wp-content/uploads/2023/01/Friday-Night-Magic.jpg
END:VEVENT
BEGIN:VEVENT
DTSTART;TZID=America/Los_Angeles:20230602T180000
DTEND;TZID=America/Los_Angeles:20230602T220000
DTSTAMP:20260424T183015
CREATED:20230303T040756Z
LAST-MODIFIED:20230303T040756Z
UID:10000078-1685728800-1685743200@comicquest.org
SUMMARY:Friday Night Magic
DESCRIPTION:Friday Night Magic! Come Join the fun! \nModern and Commander Formats. \nOn occasion sealed & draft around new set launches. \nPlease join our facebook group. \nhttps://www.facebook.com/groups/426423864154241/
URL:https://comicquest.org/event/friday-night-magic-14/
LOCATION:Comic Quest\, 23811 Bridger #111 CA 92630\, Lake Forest\, CA\, 92630\, United States
CATEGORIES:Event,Magic,Tournament
ATTACH;FMTTYPE=image/jpeg:https://comicquest.org/wp-content/uploads/2023/01/Friday-Night-Magic.jpg
END:VEVENT
BEGIN:VEVENT
DTSTART;TZID=America/Los_Angeles:20230526T180000
DTEND;TZID=America/Los_Angeles:20230526T220000
DTSTAMP:20260424T183015
CREATED:20230303T040728Z
LAST-MODIFIED:20230303T040728Z
UID:10000077-1685124000-1685138400@comicquest.org
SUMMARY:Friday Night Magic
DESCRIPTION:Friday Night Magic! Come Join the fun! \nModern and Commander Formats. \nOn occasion sealed & draft around new set launches. \nPlease join our facebook group. \nhttps://www.facebook.com/groups/426423864154241/
URL:https://comicquest.org/event/friday-night-magic-13/
LOCATION:Comic Quest\, 23811 Bridger #111 CA 92630\, Lake Forest\, CA\, 92630\, United States
CATEGORIES:Event,Magic,Tournament
ATTACH;FMTTYPE=image/jpeg:https://comicquest.org/wp-content/uploads/2023/01/Friday-Night-Magic.jpg
END:VEVENT
BEGIN:VEVENT
DTSTART;TZID=America/Los_Angeles:20230519T180000
DTEND;TZID=America/Los_Angeles:20230519T220000
DTSTAMP:20260424T183015
CREATED:20230303T040706Z
LAST-MODIFIED:20230303T040706Z
UID:10000076-1684519200-1684533600@comicquest.org
SUMMARY:Friday Night Magic
DESCRIPTION:Friday Night Magic! Come Join the fun! \nModern and Commander Formats. \nOn occasion sealed & draft around new set launches. \nPlease join our facebook group. \nhttps://www.facebook.com/groups/426423864154241/
URL:https://comicquest.org/event/friday-night-magic-12/
LOCATION:Comic Quest\, 23811 Bridger #111 CA 92630\, Lake Forest\, CA\, 92630\, United States
CATEGORIES:Event,Magic,Tournament
ATTACH;FMTTYPE=image/jpeg:https://comicquest.org/wp-content/uploads/2023/01/Friday-Night-Magic.jpg
END:VEVENT
BEGIN:VEVENT
DTSTART;TZID=America/Los_Angeles:20230512T180000
DTEND;TZID=America/Los_Angeles:20230512T220000
DTSTAMP:20260424T183015
CREATED:20230303T040638Z
LAST-MODIFIED:20230303T040638Z
UID:10000075-1683914400-1683928800@comicquest.org
SUMMARY:Friday Night Magic
DESCRIPTION:Friday Night Magic! Come Join the fun! \nModern and Commander Formats. \nOn occasion sealed & draft around new set launches. \nPlease join our facebook group. \nhttps://www.facebook.com/groups/426423864154241/
URL:https://comicquest.org/event/friday-night-magic-11/
LOCATION:Comic Quest\, 23811 Bridger #111 CA 92630\, Lake Forest\, CA\, 92630\, United States
CATEGORIES:Event,Magic,Tournament
ATTACH;FMTTYPE=image/jpeg:https://comicquest.org/wp-content/uploads/2023/01/Friday-Night-Magic.jpg
END:VEVENT
BEGIN:VEVENT
DTSTART;TZID=America/Los_Angeles:20230505T180000
DTEND;TZID=America/Los_Angeles:20230505T220000
DTSTAMP:20260424T183015
CREATED:20230303T040612Z
LAST-MODIFIED:20230303T040612Z
UID:10000074-1683309600-1683324000@comicquest.org
SUMMARY:Friday Night Magic
DESCRIPTION:Friday Night Magic! Come Join the fun! \nModern and Commander Formats. \nOn occasion sealed & draft around new set launches. \nPlease join our facebook group. \nhttps://www.facebook.com/groups/426423864154241/
URL:https://comicquest.org/event/friday-night-magic-10/
LOCATION:Comic Quest\, 23811 Bridger #111 CA 92630\, Lake Forest\, CA\, 92630\, United States
CATEGORIES:Event,Magic,Tournament
ATTACH;FMTTYPE=image/jpeg:https://comicquest.org/wp-content/uploads/2023/01/Friday-Night-Magic.jpg
END:VEVENT
BEGIN:VEVENT
DTSTART;TZID=America/Los_Angeles:20230428T180000
DTEND;TZID=America/Los_Angeles:20230428T220000
DTSTAMP:20260424T183015
CREATED:20230303T040543Z
LAST-MODIFIED:20230303T040543Z
UID:10000073-1682704800-1682719200@comicquest.org
SUMMARY:Friday Night Magic
DESCRIPTION:Friday Night Magic! Come Join the fun! \nModern and Commander Formats. \nOn occasion sealed & draft around new set launches. \nPlease join our facebook group. \nhttps://www.facebook.com/groups/426423864154241/
URL:https://comicquest.org/event/friday-night-magic-9/
LOCATION:Comic Quest\, 23811 Bridger #111 CA 92630\, Lake Forest\, CA\, 92630\, United States
CATEGORIES:Event,Magic,Tournament
ATTACH;FMTTYPE=image/jpeg:https://comicquest.org/wp-content/uploads/2023/01/Friday-Night-Magic.jpg
END:VEVENT
BEGIN:VEVENT
DTSTART;TZID=America/Los_Angeles:20230421T180000
DTEND;TZID=America/Los_Angeles:20230421T220000
DTSTAMP:20260424T183015
CREATED:20230303T040518Z
LAST-MODIFIED:20230303T040518Z
UID:10000072-1682100000-1682114400@comicquest.org
SUMMARY:Friday Night Magic
DESCRIPTION:Friday Night Magic! Come Join the fun! \nModern and Commander Formats. \nOn occasion sealed & draft around new set launches. \nPlease join our facebook group. \nhttps://www.facebook.com/groups/426423864154241/
URL:https://comicquest.org/event/friday-night-magic-8/
LOCATION:Comic Quest\, 23811 Bridger #111 CA 92630\, Lake Forest\, CA\, 92630\, United States
CATEGORIES:Event,Magic,Tournament
ATTACH;FMTTYPE=image/jpeg:https://comicquest.org/wp-content/uploads/2023/01/Friday-Night-Magic.jpg
END:VEVENT
BEGIN:VEVENT
DTSTART;TZID=America/Los_Angeles:20230416T120000
DTEND;TZID=America/Los_Angeles:20230416T190000
DTSTAMP:20260424T183015
CREATED:20230303T024331Z
LAST-MODIFIED:20230409T192243Z
UID:10000030-1681646400-1681671600@comicquest.org
SUMMARY:Magic Prerelease - March of the Machines
DESCRIPTION:Prerelease events: \nSign up now at Comic Quest. \n\nSaturday Noon \nSunday Noon \nAlso\, we will have boxes available for preorder as well.
URL:https://comicquest.org/event/magic-prerelease-2/
LOCATION:Comic Quest\, 23811 Bridger #111 CA 92630\, Lake Forest\, CA\, 92630\, United States
CATEGORIES:Event,Magic,Tournament
ATTACH;FMTTYPE=image/jpeg:https://comicquest.org/wp-content/uploads/2023/03/magic_prerelease.jpg
END:VEVENT
BEGIN:VEVENT
DTSTART;TZID=America/Los_Angeles:20230415T120000
DTEND;TZID=America/Los_Angeles:20230415T190000
DTSTAMP:20260424T183015
CREATED:20230303T024303Z
LAST-MODIFIED:20230409T192145Z
UID:10000029-1681560000-1681585200@comicquest.org
SUMMARY:Magic Prerelease - March of the Machines
DESCRIPTION:Prerelease events: \nSign up now at Comic Quest. \n\nSaturday Noon \nSunday Noon \nAlso\, we will have boxes available for preorder as well.
URL:https://comicquest.org/event/magic-prerelease/
LOCATION:Comic Quest\, 23811 Bridger #111 CA 92630\, Lake Forest\, CA\, 92630\, United States
CATEGORIES:Event,Magic,Tournament
ATTACH;FMTTYPE=image/jpeg:https://comicquest.org/wp-content/uploads/2023/03/magic_prerelease.jpg
END:VEVENT
BEGIN:VEVENT
DTSTART;TZID=America/Los_Angeles:20230414T180000
DTEND;TZID=America/Los_Angeles:20230414T220000
DTSTAMP:20260424T183015
CREATED:20230409T191758Z
LAST-MODIFIED:20230409T191918Z
UID:10000194-1681495200-1681509600@comicquest.org
SUMMARY:New Magic Set - March of the Machines
DESCRIPTION:March of the Machines is Released \n \n 
URL:https://comicquest.org/event/new-magic-set-march-of-the-machines/
LOCATION:Comic Quest\, 23811 Bridger #111 CA 92630\, Lake Forest\, CA\, 92630\, United States
CATEGORIES:Event,Magic,Tournament
ATTACH;FMTTYPE=image/jpeg:https://comicquest.org/wp-content/uploads/2023/04/march_machines.jpeg
END:VEVENT
BEGIN:VEVENT
DTSTART;TZID=America/Los_Angeles:20230414T180000
DTEND;TZID=America/Los_Angeles:20230414T220000
DTSTAMP:20260424T183015
CREATED:20230303T040444Z
LAST-MODIFIED:20230303T040444Z
UID:10000071-1681495200-1681509600@comicquest.org
SUMMARY:Friday Night Magic
DESCRIPTION:Friday Night Magic! Come Join the fun! \nModern and Commander Formats. \nOn occasion sealed & draft around new set launches. \nPlease join our facebook group. \nhttps://www.facebook.com/groups/426423864154241/
URL:https://comicquest.org/event/friday-night-magic-7/
LOCATION:Comic Quest\, 23811 Bridger #111 CA 92630\, Lake Forest\, CA\, 92630\, United States
CATEGORIES:Event,Magic,Tournament
ATTACH;FMTTYPE=image/jpeg:https://comicquest.org/wp-content/uploads/2023/01/Friday-Night-Magic.jpg
END:VEVENT
BEGIN:VEVENT
DTSTART;TZID=America/Los_Angeles:20230407T180000
DTEND;TZID=America/Los_Angeles:20230407T220000
DTSTAMP:20260424T183015
CREATED:20230303T040412Z
LAST-MODIFIED:20230303T040412Z
UID:10000070-1680890400-1680904800@comicquest.org
SUMMARY:Friday Night Magic
DESCRIPTION:Friday Night Magic! Come Join the fun! \nModern and Commander Formats. \nOn occasion sealed & draft around new set launches. \nPlease join our facebook group. \nhttps://www.facebook.com/groups/426423864154241/
URL:https://comicquest.org/event/friday-night-magic-6/
LOCATION:Comic Quest\, 23811 Bridger #111 CA 92630\, Lake Forest\, CA\, 92630\, United States
CATEGORIES:Event,Magic,Tournament
ATTACH;FMTTYPE=image/jpeg:https://comicquest.org/wp-content/uploads/2023/01/Friday-Night-Magic.jpg
END:VEVENT
BEGIN:VEVENT
DTSTART;TZID=America/Los_Angeles:20230331T180000
DTEND;TZID=America/Los_Angeles:20230331T220000
DTSTAMP:20260424T183015
CREATED:20230321T184725Z
LAST-MODIFIED:20230321T192901Z
UID:10000181-1680285600-1680300000@comicquest.org
SUMMARY:Friday  - Acorn
DESCRIPTION:Acorn event. \nFor the ‘Un’ Set. \nhttps://www.facebook.com/groups/426423864154241/
URL:https://comicquest.org/event/friday-acorn/
LOCATION:Comic Quest\, 23811 Bridger #111 CA 92630\, Lake Forest\, CA\, 92630\, United States
CATEGORIES:Event,Magic,Tournament
ATTACH;FMTTYPE=image/jpeg:https://comicquest.org/wp-content/uploads/2023/01/Friday-Night-Magic.jpg
END:VEVENT
BEGIN:VEVENT
DTSTART;TZID=America/Los_Angeles:20230331T180000
DTEND;TZID=America/Los_Angeles:20230331T220000
DTSTAMP:20260424T183015
CREATED:20230303T040343Z
LAST-MODIFIED:20230303T040343Z
UID:10000069-1680285600-1680300000@comicquest.org
SUMMARY:Friday Night Magic
DESCRIPTION:Friday Night Magic! Come Join the fun! \nModern and Commander Formats. \nOn occasion sealed & draft around new set launches. \nPlease join our facebook group. \nhttps://www.facebook.com/groups/426423864154241/
URL:https://comicquest.org/event/friday-night-magic-5/
LOCATION:Comic Quest\, 23811 Bridger #111 CA 92630\, Lake Forest\, CA\, 92630\, United States
CATEGORIES:Event,Magic,Tournament
ATTACH;FMTTYPE=image/jpeg:https://comicquest.org/wp-content/uploads/2023/01/Friday-Night-Magic.jpg
END:VEVENT
BEGIN:VEVENT
DTSTART;TZID=America/Los_Angeles:20230324T180000
DTEND;TZID=America/Los_Angeles:20230324T220000
DTSTAMP:20260424T183015
CREATED:20230303T040310Z
LAST-MODIFIED:20230303T040310Z
UID:10000068-1679680800-1679695200@comicquest.org
SUMMARY:Friday Night Magic
DESCRIPTION:Friday Night Magic! Come Join the fun! \nModern and Commander Formats. \nOn occasion sealed & draft around new set launches. \nPlease join our facebook group. \nhttps://www.facebook.com/groups/426423864154241/
URL:https://comicquest.org/event/friday-night-magic-4/
LOCATION:Comic Quest\, 23811 Bridger #111 CA 92630\, Lake Forest\, CA\, 92630\, United States
CATEGORIES:Event,Magic,Tournament
ATTACH;FMTTYPE=image/jpeg:https://comicquest.org/wp-content/uploads/2023/01/Friday-Night-Magic.jpg
END:VEVENT
BEGIN:VEVENT
DTSTART;TZID=America/Los_Angeles:20230317T180000
DTEND;TZID=America/Los_Angeles:20230317T220000
DTSTAMP:20260424T183015
CREATED:20230303T040226Z
LAST-MODIFIED:20230303T040226Z
UID:10000067-1679076000-1679090400@comicquest.org
SUMMARY:Friday Night Magic
DESCRIPTION:Friday Night Magic! Come Join the fun! \nModern and Commander Formats. \nOn occasion sealed & draft around new set launches. \nPlease join our facebook group. \nhttps://www.facebook.com/groups/426423864154241/
URL:https://comicquest.org/event/friday-night-magic-3/
LOCATION:Comic Quest\, 23811 Bridger #111 CA 92630\, Lake Forest\, CA\, 92630\, United States
CATEGORIES:Event,Magic,Tournament
ATTACH;FMTTYPE=image/jpeg:https://comicquest.org/wp-content/uploads/2023/01/Friday-Night-Magic.jpg
END:VEVENT
BEGIN:VEVENT
DTSTART;TZID=America/Los_Angeles:20230310T180000
DTEND;TZID=America/Los_Angeles:20230310T220000
DTSTAMP:20260424T183015
CREATED:20230303T040127Z
LAST-MODIFIED:20230303T040200Z
UID:10000066-1678471200-1678485600@comicquest.org
SUMMARY:Friday Night Magic
DESCRIPTION:Friday Night Magic! Come Join the fun! \nModern and Commander Formats. \nOn occasion sealed & draft around new set launches. \nPlease join our facebook group. \nhttps://www.facebook.com/groups/426423864154241/
URL:https://comicquest.org/event/friday-night-magic-edit-date-before-publish/
LOCATION:Comic Quest\, 23811 Bridger #111 CA 92630\, Lake Forest\, CA\, 92630\, United States
CATEGORIES:Event,Magic,Tournament
ATTACH;FMTTYPE=image/jpeg:https://comicquest.org/wp-content/uploads/2023/01/Friday-Night-Magic.jpg
END:VEVENT
BEGIN:VEVENT
DTSTART;TZID=America/Los_Angeles:20230303T180000
DTEND;TZID=America/Los_Angeles:20230303T220000
DTSTAMP:20260424T183015
CREATED:20230303T040100Z
LAST-MODIFIED:20230303T040100Z
UID:10000065-1677866400-1677880800@comicquest.org
SUMMARY:Friday Night Magic
DESCRIPTION:Friday Night Magic! Come Join the fun! \nModern and Commander Formats. \nOn occasion sealed & draft around new set launches. \nPlease join our facebook group. \nhttps://www.facebook.com/groups/426423864154241/
URL:https://comicquest.org/event/friday-night-magic-2/
LOCATION:Comic Quest\, 23811 Bridger #111 CA 92630\, Lake Forest\, CA\, 92630\, United States
CATEGORIES:Event,Magic,Tournament
ATTACH;FMTTYPE=image/jpeg:https://comicquest.org/wp-content/uploads/2023/01/Friday-Night-Magic.jpg
END:VEVENT
BEGIN:VEVENT
DTSTART;TZID=Asia/Shanghai:20230303T180000
DTEND;TZID=Asia/Shanghai:20230303T220000
DTSTAMP:20260424T183015
CREATED:20230302T153955Z
LAST-MODIFIED:20230303T020603Z
UID:10000016-1677866400-1677880800@comicquest.org
SUMMARY:Magic Store Championship - Phyrexia All Will Be One
DESCRIPTION:STORE CHAMPIONSHIPS – Phyrexia All Will Be One\nTHIS Friday March 3rd * 6:00pm * Pioneer Format\n*Wizards has combined their Game Day and Store Championships into one event called “Store Championships”.\nPrizes:\nStore Championship Promos\, while supplies last:\nParticipation Promo – ‘Annex Sentry’.\nThe top 8 players are awarded ‘Memory Deluge’.\nAnd the winner? They take home ‘Koth\, Fire of Resistance’.\nDetails on the PIONEER Format. (Similar to Modern\, except later sets).\nPioneer was created in the autumn of 2019. The rules for card legality are similar to Modern\, consisting of cards that were released into the Standard format starting with Return to Ravnica. The cutoff was made as it is the first expansion released after Modern was made an official format. Like other constructed formats\, Pioneer maintains its own banned list. https://magic.wizards.com/en/banned-restricted-list
URL:https://comicquest.org/event/magic-store-championship-phyrexia-all-will-be-one/
LOCATION:Comic Quest\, 23811 Bridger #111 CA 92630\, Lake Forest\, CA\, 92630\, United States
CATEGORIES:Event,Magic
ATTACH;FMTTYPE=image/jpeg:https://comicquest.org/wp-content/uploads/2023/03/329864072_169690258743902_2861698500097489962_n.jpg
END:VEVENT
END:VCALENDAR